BEGIN:VCALENDAR
VERSION:2.0
PRODID:-//Cumming Local - ECPv6.15.17//NONSGML v1.0//EN
CALSCALE:GREGORIAN
METHOD:PUBLISH
X-WR-CALNAME:Cumming Local
X-ORIGINAL-URL:https://www.cumminglocal.com
X-WR-CALDESC:Events for Cumming Local
REFRESH-INTERVAL;VALUE=DURATION:PT1H
X-Robots-Tag:noindex
X-PUBLISHED-TTL:PT1H
BEGIN:VTIMEZONE
TZID:America/New_York
BEGIN:DAYLIGHT
TZOFFSETFROM:-0500
TZOFFSETTO:-0400
TZNAME:EDT
DTSTART:20200308T070000
END:DAYLIGHT
BEGIN:STANDARD
TZOFFSETFROM:-0400
TZOFFSETTO:-0500
TZNAME:EST
DTSTART:20201101T060000
END:STANDARD
BEGIN:DAYLIGHT
TZOFFSETFROM:-0500
TZOFFSETTO:-0400
TZNAME:EDT
DTSTART:20210314T070000
END:DAYLIGHT
BEGIN:STANDARD
TZOFFSETFROM:-0400
TZOFFSETTO:-0500
TZNAME:EST
DTSTART:20211107T060000
END:STANDARD
BEGIN:DAYLIGHT
TZOFFSETFROM:-0500
TZOFFSETTO:-0400
TZNAME:EDT
DTSTART:20220313T070000
END:DAYLIGHT
BEGIN:STANDARD
TZOFFSETFROM:-0400
TZOFFSETTO:-0500
TZNAME:EST
DTSTART:20221106T060000
END:STANDARD
END:VTIMEZONE
BEGIN:VEVENT
DTSTART;TZID=America/New_York:20210323T190000
DTEND;TZID=America/New_York:20210323T200000
DTSTAMP:20260423T012218
CREATED:20210222T183359Z
LAST-MODIFIED:20210222T183359Z
UID:56922-1616526000-1616529600@www.cumminglocal.com
SUMMARY:Rosie the Riveter: A Living History Presentation
DESCRIPTION:To create an authentic moment in time for audiences\, Tracy Lee White combines meticulous research\, her own family history\, local history\, and stories of the real “Rosies” who helped win WWII. Using real items from the time including currency\, ration books\, government publications\, news reels\, music and clothing\, she transports the audience back to 1943 and gives them a firsthand glimpse into war-time life. Meeting Rosie is truly a unique and memorable experience for the audience. \nDuring the program\, you’ll also meet local “Rosie” Louise Cooper. She’s “Lou” to her friends and family\, and “Coop” to the gals building Liberty ships with her at the Brunswick\, GA Shipyards. Come chew the fat with this “Rosie the Riveter” and learn how women are doing their part to help the Allies win the war. Learn about the latest rationing rules\, women’s changing roles in society\, and what Forsyth County is doing to help win the war and get our soldiers home!  You may even recognize a few local names! \nYou will also receive a “time travel packet” to help fully immerse you in 1943! (Please see information below.) \nAbout Tracy Lee White \nTracy Lee White began her performing career at the age of five and has been performing ever since. Ms. White’s experience includes improv\, teaching\, directing\, choreographing\, costuming\, other technical roles\, television and film. Some of her former students have gone on to careers on Broadway and in TV and film. Teaching positions include Let’s Pretend\, Ferst Center for the Arts at Georgia Tech\, and the Georgia Aquarium. She was a Shuler Awards Adjudicator for three years. One of her favorite gigs remains touring as “Ms. Frizzle” with Scholastic’s Magic School Bus. She happiest when education merges with performing. Ms. White’s “Living History” presentations combine performing\, improv\, factual events and people\, and history to bring composite characters to life to teach and inspire.  \nRegistration is required. \nThis program takes place via FCPL’s GoToMeeting platform.  Login information will be emailed to you prior to the program.  \nYou will also receive a “time travel packet” to help fully immerse you in 1943. Please indicate the library branch where you wish to receive it. There will also be a drawing for five 1943 steel pennies and Rosie the Riveter pins!
URL:https://www.cumminglocal.com/event/rosie-the-riveter-a-living-history-presentation/
LOCATION:None Specified
CATEGORIES:Library Events
ATTACH;FMTTYPE=image/png:https://www.cumminglocal.com/wp-content/uploads/2021/02/Rosie-the-Riveter-16x9-1.png
ORGANIZER;CN="Forsyth County Public Library":MAILTO:gloverp@forsythpl.org
END:VEVENT
END:VCALENDAR