BEGIN:VCALENDAR
VERSION:2.0
PRODID:-//Cumming Local - ECPv6.15.17//NONSGML v1.0//EN
CALSCALE:GREGORIAN
METHOD:PUBLISH
X-WR-CALNAME:Cumming Local
X-ORIGINAL-URL:https://www.cumminglocal.com
X-WR-CALDESC:Events for Cumming Local
REFRESH-INTERVAL;VALUE=DURATION:PT1H
X-Robots-Tag:noindex
X-PUBLISHED-TTL:PT1H
BEGIN:VTIMEZONE
TZID:America/New_York
BEGIN:DAYLIGHT
TZOFFSETFROM:-0500
TZOFFSETTO:-0400
TZNAME:EDT
DTSTART:20200308T070000
END:DAYLIGHT
BEGIN:STANDARD
TZOFFSETFROM:-0400
TZOFFSETTO:-0500
TZNAME:EST
DTSTART:20201101T060000
END:STANDARD
BEGIN:DAYLIGHT
TZOFFSETFROM:-0500
TZOFFSETTO:-0400
TZNAME:EDT
DTSTART:20210314T070000
END:DAYLIGHT
BEGIN:STANDARD
TZOFFSETFROM:-0400
TZOFFSETTO:-0500
TZNAME:EST
DTSTART:20211107T060000
END:STANDARD
BEGIN:DAYLIGHT
TZOFFSETFROM:-0500
TZOFFSETTO:-0400
TZNAME:EDT
DTSTART:20220313T070000
END:DAYLIGHT
BEGIN:STANDARD
TZOFFSETFROM:-0400
TZOFFSETTO:-0500
TZNAME:EST
DTSTART:20221106T060000
END:STANDARD
END:VTIMEZONE
BEGIN:VEVENT
DTSTART;TZID=America/New_York:20210320T103000
DTEND;TZID=America/New_York:20210320T113000
DTSTAMP:20260424T131029
CREATED:20210222T183359Z
LAST-MODIFIED:20210222T183359Z
UID:56920-1616236200-1616239800@www.cumminglocal.com
SUMMARY:Why Your Young Child Needs Music with Dr. Marie Graham
DESCRIPTION:Music not only provides a powerful emotional experience for children\, it boosts their brain power\, as well. Dr. Marie Graham will discuss the important role music plays in your young child’s intellectual and kinesthetic development.  She’ll also provide applicable tips and ways music can help your young child process information\, develop coordination\, and build brain power! \nA series of programs offered once each month\, Know as They Grow is designed for parents of children ages birth to six years of age.  Each month\, FCPL welcomes early childhood experts to discuss topics that are of interest to parents. Know as They Grow programs take place on FCPL’s GoToMeeting platform.  Registration is requested\, and an email with login information will be sent prior to the program. \nHaving earned her Doctor of Musical Arts in Music Education degree from Boston University\, College of Fine Arts\, Dr. Marie Graham is a thirty-year veteran music educator. She is a Kodaly specialist in music education and taught Kodaly Methodology courses for Denise Bacon\, founder of the Kodaly movement in America. She also served as an elementary school principal in the state of Vermont.  She held positions as a cantor/conductor of youth and adults choirs in churches in Boston\, MA\, and Charlotte\, NC\, and was the guest clinician for the National Pastoral Musicians convention on children’s choirs\, Boston\, MA.   Additionally\, she has directed numerous large scale musical productions including Peter Pan\, Oliver\, The Music Man\, Dream Girls\, Pippin\, West Side Story\, Once on This Island\, and Les Miserables.
URL:https://www.cumminglocal.com/event/why-your-young-child-needs-music-with-dr-marie-graham/
LOCATION:None Specified
CATEGORIES:Library Events
ATTACH;FMTTYPE=image/jpeg:https://www.cumminglocal.com/wp-content/uploads/2021/02/Know_as_They_Grow_-_Marie_Graham.jpg
ORGANIZER;CN="Forsyth County Public Library":MAILTO:gloverp@forsythpl.org
END:VEVENT
END:VCALENDAR