BEGIN:VCALENDAR
VERSION:2.0
PRODID:-//Cumming Local - ECPv6.15.17//NONSGML v1.0//EN
CALSCALE:GREGORIAN
METHOD:PUBLISH
X-ORIGINAL-URL:https://www.cumminglocal.com
X-WR-CALDESC:Events for Cumming Local
REFRESH-INTERVAL;VALUE=DURATION:PT1H
X-Robots-Tag:noindex
X-PUBLISHED-TTL:PT1H
BEGIN:VTIMEZONE
TZID:America/New_York
BEGIN:DAYLIGHT
TZOFFSETFROM:-0500
TZOFFSETTO:-0400
TZNAME:EDT
DTSTART:20200308T070000
END:DAYLIGHT
BEGIN:STANDARD
TZOFFSETFROM:-0400
TZOFFSETTO:-0500
TZNAME:EST
DTSTART:20201101T060000
END:STANDARD
BEGIN:DAYLIGHT
TZOFFSETFROM:-0500
TZOFFSETTO:-0400
TZNAME:EDT
DTSTART:20210314T070000
END:DAYLIGHT
BEGIN:STANDARD
TZOFFSETFROM:-0400
TZOFFSETTO:-0500
TZNAME:EST
DTSTART:20211107T060000
END:STANDARD
BEGIN:DAYLIGHT
TZOFFSETFROM:-0500
TZOFFSETTO:-0400
TZNAME:EDT
DTSTART:20220313T070000
END:DAYLIGHT
BEGIN:STANDARD
TZOFFSETFROM:-0400
TZOFFSETTO:-0500
TZNAME:EST
DTSTART:20221106T060000
END:STANDARD
END:VTIMEZONE
BEGIN:VEVENT
DTSTART;TZID=America/New_York:20210313T110000
DTEND;TZID=America/New_York:20210313T114500
DTSTAMP:20260423T102751
CREATED:20210222T183359Z
LAST-MODIFIED:20210222T183359Z
UID:56918-1615633200-1615635900@www.cumminglocal.com
SUMMARY:Drawing Workshop with Young Rembrandts
DESCRIPTION:Everyone can draw! Young Rembrandts’ unique curriculum engages both sides of the brain so every child participating can learn and be successful. The Young Rembrandts Method and curriculum offer a form of brain-based learning that is crucial to the complete education and full development of modern minds. Plus\, it’s a lot of fun! \nSupplies Needed: \n·         Paper \n·         Pencil \n·         Eraser \n·         Black Sharpie or marker for outlining \n·         Different colored markers \nThis program is for elementary aged children and allows for a limited number of attendees. Registration is required and early registration is recommended. This program will take place on FCPL’s GoToWebinar Platform.  \nThis program is made possible by a grant from Forsyth County Arts Alliance.
URL:https://www.cumminglocal.com/event/drawing-workshop-with-young-rembrandts-6/
LOCATION:None Specified
CATEGORIES:Library Events
ATTACH;FMTTYPE=image/jpeg:https://www.cumminglocal.com/wp-content/uploads/2021/02/YR-FCAA_logo_1.jpg
ORGANIZER;CN="Forsyth County Public Library":MAILTO:gloverp@forsythpl.org
END:VEVENT
END:VCALENDAR