BEGIN:VCALENDAR
VERSION:2.0
PRODID:-//Cumming Local - ECPv6.15.17//NONSGML v1.0//EN
CALSCALE:GREGORIAN
METHOD:PUBLISH
X-ORIGINAL-URL:https://www.cumminglocal.com
X-WR-CALDESC:Events for Cumming Local
REFRESH-INTERVAL;VALUE=DURATION:PT1H
X-Robots-Tag:noindex
X-PUBLISHED-TTL:PT1H
BEGIN:VTIMEZONE
TZID:America/New_York
BEGIN:DAYLIGHT
TZOFFSETFROM:-0500
TZOFFSETTO:-0400
TZNAME:EDT
DTSTART:20190310T070000
END:DAYLIGHT
BEGIN:STANDARD
TZOFFSETFROM:-0400
TZOFFSETTO:-0500
TZNAME:EST
DTSTART:20191103T060000
END:STANDARD
BEGIN:DAYLIGHT
TZOFFSETFROM:-0500
TZOFFSETTO:-0400
TZNAME:EDT
DTSTART:20200308T070000
END:DAYLIGHT
BEGIN:STANDARD
TZOFFSETFROM:-0400
TZOFFSETTO:-0500
TZNAME:EST
DTSTART:20201101T060000
END:STANDARD
BEGIN:DAYLIGHT
TZOFFSETFROM:-0500
TZOFFSETTO:-0400
TZNAME:EDT
DTSTART:20210314T070000
END:DAYLIGHT
BEGIN:STANDARD
TZOFFSETFROM:-0400
TZOFFSETTO:-0500
TZNAME:EST
DTSTART:20211107T060000
END:STANDARD
END:VTIMEZONE
BEGIN:VEVENT
DTSTART;TZID=America/New_York:20200804T110000
DTEND;TZID=America/New_York:20200804T113000
DTSTAMP:20260424T172146
CREATED:20200726T133640Z
LAST-MODIFIED:20200726T133640Z
UID:56174-1596538800-1596540600@www.cumminglocal.com
SUMMARY:FCPL Online Storytime
DESCRIPTION:FCPL’s Online Storytimes are designed to promote language\, listening\, and pre-reading skills by emphasizing vocabulary development\, experiences with a variety of literature\, and participation in language-based activities. Children and their caregivers will hear and participate in stories\, singing\, and movement activities. In addition\, they will develop the skills needed to become successful readers. These programs are usually 15-20 minutes in length. \nFCPL’s Online Storytimes take place twice weekly. \nTuesday storytimes take place live via FCPL’s GoToWebinar platform.  Registration is required for Tuesday storytimes.  On the registration form\, select the program date from the drop-down menu. Once registered\, you will receive login information from GoToWebinar. \nRecorded storytimes are posted Thursday mornings as unlisted videos on FCPL’s YouTube channel. If you’d like to receive a link each time a new Online Storytime video is published\, please subscribe to the Online Storytime email list.
URL:https://www.cumminglocal.com/event/fcpl-online-storytime-2/
LOCATION:None Specified
CATEGORIES:Library Events
ATTACH;FMTTYPE=image/png:https://www.cumminglocal.com/wp-content/uploads/2020/07/FCPL-Online-Storytime-Logo.png
ORGANIZER;CN="Forsyth County Public Library":MAILTO:gloverp@forsythpl.org
END:VEVENT
BEGIN:VEVENT
DTSTART;TZID=America/New_York:20200811T110000
DTEND;TZID=America/New_York:20200811T113000
DTSTAMP:20260424T172146
CREATED:20200726T133640Z
LAST-MODIFIED:20200726T133640Z
UID:56176-1597143600-1597145400@www.cumminglocal.com
SUMMARY:FCPL Online Storytime
DESCRIPTION:FCPL’s Online Storytimes are designed to promote language\, listening\, and pre-reading skills by emphasizing vocabulary development\, experiences with a variety of literature\, and participation in language-based activities. Children and their caregivers will hear and participate in stories\, singing\, and movement activities. In addition\, they will develop the skills needed to become successful readers. These programs are usually 15-20 minutes in length. \nFCPL’s Online Storytimes take place twice weekly. \nTuesday storytimes take place live via FCPL’s GoToWebinar platform.  Registration is required for Tuesday storytimes.  On the registration form\, select the program date from the drop-down menu. Once registered\, you will receive login information from GoToWebinar. \nRecorded storytimes are posted Thursday mornings as unlisted videos on FCPL’s YouTube channel. If you’d like to receive a link each time a new Online Storytime video is published\, please subscribe to the Online Storytime email list.
URL:https://www.cumminglocal.com/event/fcpl-online-storytime/
LOCATION:None Specified
CATEGORIES:Library Events
ATTACH;FMTTYPE=image/jpeg:https://www.cumminglocal.com/wp-content/uploads/2020/07/FCPL-Online-Storytime-Logo.jpg
ORGANIZER;CN="Forsyth County Public Library":MAILTO:gloverp@forsythpl.org
END:VEVENT
END:VCALENDAR