BEGIN:VCALENDAR
VERSION:2.0
PRODID:-//Cumming Local - ECPv6.15.17//NONSGML v1.0//EN
CALSCALE:GREGORIAN
METHOD:PUBLISH
X-WR-CALNAME:Cumming Local
X-ORIGINAL-URL:https://www.cumminglocal.com
X-WR-CALDESC:Events for Cumming Local
REFRESH-INTERVAL;VALUE=DURATION:PT1H
X-Robots-Tag:noindex
X-PUBLISHED-TTL:PT1H
BEGIN:VTIMEZONE
TZID:America/New_York
BEGIN:DAYLIGHT
TZOFFSETFROM:-0500
TZOFFSETTO:-0400
TZNAME:EDT
DTSTART:20180311T070000
END:DAYLIGHT
BEGIN:STANDARD
TZOFFSETFROM:-0400
TZOFFSETTO:-0500
TZNAME:EST
DTSTART:20181104T060000
END:STANDARD
BEGIN:DAYLIGHT
TZOFFSETFROM:-0500
TZOFFSETTO:-0400
TZNAME:EDT
DTSTART:20190310T070000
END:DAYLIGHT
BEGIN:STANDARD
TZOFFSETFROM:-0400
TZOFFSETTO:-0500
TZNAME:EST
DTSTART:20191103T060000
END:STANDARD
BEGIN:DAYLIGHT
TZOFFSETFROM:-0500
TZOFFSETTO:-0400
TZNAME:EDT
DTSTART:20200308T070000
END:DAYLIGHT
BEGIN:STANDARD
TZOFFSETFROM:-0400
TZOFFSETTO:-0500
TZNAME:EST
DTSTART:20201101T060000
END:STANDARD
END:VTIMEZONE
BEGIN:VTIMEZONE
TZID:America/New_York
BEGIN:DAYLIGHT
TZOFFSETFROM:-0500
TZOFFSETTO:-0400
TZNAME:EDT
DTSTART:20180311T070000
END:DAYLIGHT
BEGIN:STANDARD
TZOFFSETFROM:-0400
TZOFFSETTO:-0500
TZNAME:EST
DTSTART:20181104T060000
END:STANDARD
BEGIN:DAYLIGHT
TZOFFSETFROM:-0500
TZOFFSETTO:-0400
TZNAME:EDT
DTSTART:20190310T070000
END:DAYLIGHT
BEGIN:STANDARD
TZOFFSETFROM:-0400
TZOFFSETTO:-0500
TZNAME:EST
DTSTART:20191103T060000
END:STANDARD
BEGIN:DAYLIGHT
TZOFFSETFROM:-0500
TZOFFSETTO:-0400
TZNAME:EDT
DTSTART:20200308T070000
END:DAYLIGHT
BEGIN:STANDARD
TZOFFSETFROM:-0400
TZOFFSETTO:-0500
TZNAME:EST
DTSTART:20201101T060000
END:STANDARD
END:VTIMEZONE
BEGIN:VEVENT
DTSTART;TZID=America/New_York:20190302T110000
DTEND;TZID=America/New_York:20190302T120000
DTSTAMP:20260424T024237
CREATED:20190226T193252Z
LAST-MODIFIED:20190228T004319Z
UID:49953-1551524400-1551528000@www.cumminglocal.com
SUMMARY:Storytime at Barnes & Noble
DESCRIPTION:Storytime at Barnes & Noble \nClick here for more information & story selections:\nhttp://store-locator.barnesandnoble.com/store/2330
URL:https://www.cumminglocal.com/event/storytime-at-barnes-noble/
LOCATION:Barnes & Noble\, 410 Peachtree Pkwy\, Cumming\, GA\, 30041\, United States
CATEGORIES:Library Events
ATTACH;FMTTYPE=image/jpeg:https://www.cumminglocal.com/wp-content/uploads/2019/02/2330.jpg
END:VEVENT
BEGIN:VEVENT
DTSTART;TZID=America/New_York:20190302T100000
DTEND;TZID=America/New_York:20190302T143000
DTSTAMP:20260424T024237
CREATED:20190228T004111Z
LAST-MODIFIED:20190228T004111Z
UID:50059-1551520800-1551537000@www.cumminglocal.com
SUMMARY:Boot Camp 4 Divorcing Women
DESCRIPTION:Are you considering or in the process of divorce? You have questions. We can help. Panelists include a family law attorney\, private investigator\, financial advisor and therapist who will provide “do’s and don’ts” when navigating this difficult life transition. \nPlease pack lunch and feel free to bring an adult female support person. \nTo register please call Debbie @ 770-377-4941 or email: dorman_debbie@nlgroupmail.com.
URL:https://www.cumminglocal.com/event/boot-camp-4-divorcing-women/
LOCATION:Milton Library\, 855 Mayfield Rd\, Milton\, GA\, 30009\, United States
CATEGORIES:Workshops
END:VEVENT
BEGIN:VEVENT
DTSTART;TZID=America/New_York:20190302T100000
DTEND;TZID=America/New_York:20190302T120000
DTSTAMP:20260424T024237
CREATED:20190222T141423Z
LAST-MODIFIED:20190222T141423Z
UID:49557-1551520800-1551528000@www.cumminglocal.com
SUMMARY:Vickery Village Farmers Market
DESCRIPTION:The Vickery Village Farmers Market\, which is held in the Vickery Village Courtyard on select Saturdays from 10 am – 12 noon\, has been extended through March 16th. The fall/winter market will carry additional seasonal items such as root vegetables\, apples\, pumpkins\, sweet potatoes\, apple pie jam\, apple and cranberry apple pies and more! \nThe remaining dates are: \n\nSat\, Mar 2\nSat\, Mar 16
URL:https://www.cumminglocal.com/event/vickery-village-farmers-market/
LOCATION:Vickery Village\, 5855 South Vickery Street\, Cumming\, GA\, 30040\, United States
CATEGORIES:Farmer Markets
ORGANIZER;CN="Vickery Village":MAILTO:joern@bramberifarm.com
END:VEVENT
BEGIN:VEVENT
DTSTART;TZID=America/New_York:20190227T173000
DTEND;TZID=America/New_York:20190227T193000
DTSTAMP:20260424T024237
CREATED:20190223T023258Z
LAST-MODIFIED:20190226T054636Z
UID:49825-1551288600-1551295800@www.cumminglocal.com
SUMMARY:Face Painting\, Games & Family Night Wednesdays
DESCRIPTION:Facepainting from 5:30-7:30 at both Collections and cumming locations. \nFacepainting is free 
URL:https://www.cumminglocal.com/event/face-painting-games-family-night-wednesdays/
LOCATION:Atlanta Bread\, 908 Buford Highway\, Cumming\, GA\, 30041\, United States
ATTACH;FMTTYPE=image/jpeg:https://www.cumminglocal.com/wp-content/uploads/2019/02/457219ea5d94d554b9df4706b3005810.jpg
END:VEVENT
BEGIN:VEVENT
DTSTART;TZID=America/New_York:20190226T080000
DTEND;TZID=America/New_York:20190226T170000
DTSTAMP:20260424T024237
CREATED:20190226T192340Z
LAST-MODIFIED:20190226T192907Z
UID:49948-1551168000-1551200400@www.cumminglocal.com
SUMMARY:Home Depot: Kids Workshop
DESCRIPTION:Spark a conversation about one of the oldest inventions—hands down—in our hands-on workshop. Together you and your timekeeper can build a freestanding clock with easy-to-read numbers\, movable hands and a storage tray to house reminders or important trinkets. Use as a learning clock to make telling time fun or as a tool to encourage the value of time. Once your clock is built\, your child can customize it with paint and stickers. All Kids Workshop attendees must be accompanied by a parent or adult at all times. All kids get to keep their craft\, receive a FREE certificate of achievement\, a Workshop Apron\, and a commemorative pin while supplies last. Children must be present at the store to participate in the workshop and receive the kit\, apron\, and pin.
URL:https://www.cumminglocal.com/event/home-depot-kids-workshop/
LOCATION:Home Depot\, 1000 Market Pl Blvd\, Cumming\, GA\, 30041\, United States
CATEGORIES:Workshops
ATTACH;FMTTYPE=image/jpeg:https://www.cumminglocal.com/wp-content/uploads/2019/02/Kids_Workshop_2019_ClockTray_C_PSD.jpg
END:VEVENT
END:VCALENDAR