BEGIN:VCALENDAR
VERSION:2.0
PRODID:-//Cumming Local - ECPv6.15.17//NONSGML v1.0//EN
CALSCALE:GREGORIAN
METHOD:PUBLISH
X-WR-CALNAME:Cumming Local
X-ORIGINAL-URL:https://www.cumminglocal.com
X-WR-CALDESC:Events for Cumming Local
REFRESH-INTERVAL;VALUE=DURATION:PT1H
X-Robots-Tag:noindex
X-PUBLISHED-TTL:PT1H
BEGIN:VTIMEZONE
TZID:America/New_York
BEGIN:DAYLIGHT
TZOFFSETFROM:-0500
TZOFFSETTO:-0400
TZNAME:EDT
DTSTART:20180311T070000
END:DAYLIGHT
BEGIN:STANDARD
TZOFFSETFROM:-0400
TZOFFSETTO:-0500
TZNAME:EST
DTSTART:20181104T060000
END:STANDARD
BEGIN:DAYLIGHT
TZOFFSETFROM:-0500
TZOFFSETTO:-0400
TZNAME:EDT
DTSTART:20190310T070000
END:DAYLIGHT
BEGIN:STANDARD
TZOFFSETFROM:-0400
TZOFFSETTO:-0500
TZNAME:EST
DTSTART:20191103T060000
END:STANDARD
BEGIN:DAYLIGHT
TZOFFSETFROM:-0500
TZOFFSETTO:-0400
TZNAME:EDT
DTSTART:20200308T070000
END:DAYLIGHT
BEGIN:STANDARD
TZOFFSETFROM:-0400
TZOFFSETTO:-0500
TZNAME:EST
DTSTART:20201101T060000
END:STANDARD
END:VTIMEZONE
BEGIN:VTIMEZONE
TZID:UTC
BEGIN:STANDARD
TZOFFSETFROM:+0000
TZOFFSETTO:+0000
TZNAME:UTC
DTSTART:20180101T000000
END:STANDARD
END:VTIMEZONE
BEGIN:VEVENT
DTSTART;TZID=America/New_York:20191205T190000
DTEND;TZID=America/New_York:20191205T210000
DTSTAMP:20260421T224450
CREATED:20191122T180645Z
LAST-MODIFIED:20191122T180645Z
UID:53873-1575572400-1575579600@www.cumminglocal.com
SUMMARY:‘The Christmas Carol: A Radio Show
DESCRIPTION:Come out for the 3rd annual Christmas Radio Show. Forsyth Central Stage will be performing ‘The Christmas Carol: A Radio Play’. \nDecember 5-7 @ 7:00pm\nDecember 8 @ 3:00pm \nPurchase tickets at: Fchsga.booktix.com  \n$10 adults\n$7 students\n$5 seniors \nSponsored by: Georgia Community Network\ngeorgiacommunitynetwork.com
URL:https://www.cumminglocal.com/event/the-christmas-carol-a-radio-show/
LOCATION:Forsyth Central High School Performing Arts Center\, 131 Almon C Hill Drive\, Cumming\, GA\, 30040\, United States
CATEGORIES:Holiday Events,Musical/Dance/Theater Events
ATTACH;FMTTYPE=image/jpeg:https://www.cumminglocal.com/wp-content/uploads/2019/11/FF6F228D-E016-4CBD-9843-6C9F4A1AB973.jpeg
END:VEVENT
BEGIN:VEVENT
DTSTART;TZID=America/New_York:20191205T183000
DTEND;TZID=America/New_York:20191205T193000
DTSTAMP:20260421T224450
CREATED:20191013T194342Z
LAST-MODIFIED:20191013T194342Z
UID:53422-1575570600-1575574200@www.cumminglocal.com
SUMMARY:Family Fun Night: Holidays Around the World
DESCRIPTION:Family FUN Night! \nWhy should kids have all the fun?\nParents grab the kids and join us monthly for STEAM challenges\, games\, activities\, puzzles and more at the Sharon Forks Library! \nThese programs are ideal for encouraging educational\, fun and quality family time! \nThis program is designed for families with elementary aged children. \nPlease note: Space in this program is limited. Arrive early to secure your spot. Tickets will be given out 15 minutes prior to the program. \nTake a trip around the world as we celebrate the Holiday traditions of different countries across the globe!
URL:https://www.cumminglocal.com/event/family-fun-night-holidays-around-the-world/
LOCATION:Sharon Forks Library\, 2820 Old Atlanta Road\, Cumming\, GA\, 30041\, United States
CATEGORIES:Library Events
ORGANIZER;CN="Forsyth County Public Library":MAILTO:gloverp@forsythpl.org
END:VEVENT
BEGIN:VEVENT
DTSTART;VALUE=DATE:20191205
DTEND;VALUE=DATE:20191206
DTSTAMP:20260421T224450
CREATED:20191107T170143Z
LAST-MODIFIED:20191107T170143Z
UID:53817-1575504000-1575590399@www.cumminglocal.com
SUMMARY:World Soil Day
DESCRIPTION:#WorldSoilDay
URL:https://www.cumminglocal.com/event/world-soil-day/
CATEGORIES:Other
END:VEVENT
BEGIN:VEVENT
DTSTART;VALUE=DATE:20191204
DTEND;VALUE=DATE:20191205
DTSTAMP:20260421T224450
CREATED:20191107T170143Z
LAST-MODIFIED:20191107T170143Z
UID:53816-1575417600-1575503999@www.cumminglocal.com
SUMMARY:National Cookie Day
DESCRIPTION:#NationalCookieDay
URL:https://www.cumminglocal.com/event/national-cookie-day/
CATEGORIES:Other
END:VEVENT
BEGIN:VEVENT
DTSTART;TZID=America/New_York:20191203T190000
DTEND;TZID=America/New_York:20191203T200000
DTSTAMP:20260421T224450
CREATED:20191101T182736Z
LAST-MODIFIED:20191101T182736Z
UID:53751-1575399600-1575403200@www.cumminglocal.com
SUMMARY:History of the Cherokee with Mark Warren
DESCRIPTION:Ever wonder how Native Americans lived before Europeans arrived? Author Mark Warren will discuss how intimacy with and reverence for nature dictated the daily life of the Cherokee. \nLearn about Cherokee crafts\, weapons\, hunting techniques\, philosophies\, religion\, clothing\, tools\, medicines\, and games. This program will also cover the fate of the Cherokee Nation after the arrival of Europeans\, and the infamous Trail of Tears\, which had a trailhead in Forsyth County at the Etowah River.
URL:https://www.cumminglocal.com/event/history-of-the-cherokee-with-mark-warren/
LOCATION:Post Road Library\, 5010 Post Road\, Cumming\, GA\, 30040\, United States
CATEGORIES:Library Events
ORGANIZER;CN="Forsyth County Public Library":MAILTO:gloverp@forsythpl.org
END:VEVENT
BEGIN:VEVENT
DTSTART;TZID=America/New_York:20191203T190000
DTEND;TZID=America/New_York:20191203T200000
DTSTAMP:20260421T224450
CREATED:20191013T194342Z
LAST-MODIFIED:20191013T194342Z
UID:53424-1575399600-1575403200@www.cumminglocal.com
SUMMARY:Hungrytown
DESCRIPTION:Hungrytown is the performing and songwriting folk duo of Rebecca Hall and Ken Anderson. They have been touring internationally for more than fifteen years and their original\, award-winning songs have been featured on many television shows and documentaries\, including the Independent Film Channel’s hit comedy series\, Portlandia.
URL:https://www.cumminglocal.com/event/hungrytown/
LOCATION:Sharon Forks Library\, 2820 Old Atlanta Road\, Cumming\, GA\, 30041\, United States
CATEGORIES:Library Events
ORGANIZER;CN="Forsyth County Public Library":MAILTO:gloverp@forsythpl.org
END:VEVENT
BEGIN:VEVENT
DTSTART;VALUE=DATE:20191203
DTEND;VALUE=DATE:20191204
DTSTAMP:20260421T224450
CREATED:20191107T170143Z
LAST-MODIFIED:20191107T170143Z
UID:53815-1575331200-1575417599@www.cumminglocal.com
SUMMARY:International Day of Persons with Disabilities
DESCRIPTION:#IDPWD
URL:https://www.cumminglocal.com/event/international-day-of-persons-with-disabilities/
CATEGORIES:Other
END:VEVENT
BEGIN:VEVENT
DTSTART;VALUE=DATE:20191202
DTEND;VALUE=DATE:20191203
DTSTAMP:20260421T224450
CREATED:20191107T170143Z
LAST-MODIFIED:20191107T170143Z
UID:53814-1575244800-1575331199@www.cumminglocal.com
SUMMARY:Cyber Monday
DESCRIPTION:#CyberMonday
URL:https://www.cumminglocal.com/event/cyber-monday/
CATEGORIES:Other
END:VEVENT
BEGIN:VEVENT
DTSTART;TZID=America/New_York:20191201T123000
DTEND;TZID=America/New_York:20191201T133000
DTSTAMP:20260421T224450
CREATED:20191013T194342Z
LAST-MODIFIED:20191013T194342Z
UID:53417-1575203400-1575207000@www.cumminglocal.com
SUMMARY:Special Needs Library Hour & Sensory Storytime
DESCRIPTION:Join us every first Sunday for a special hour of library time designed to accommodate our patrons with special needs. We will open our doors an hour early so that you will have a warm and welcoming environment designed just for you! Browse the library\, check out your favorite books\, movies\, and CDs\, and participate in our special Sensory Storytime\, which is specifically designed for children with special needs. \nRegistration is not required for this program. Please contact Hampton Park Library if you have any questions\, 770-781-9840 ext. 6709. \nPlease note: The library will be open early for patrons with special needs and their families. If you or your family do not meet these requirements\, please visit us during our normal operating hours. Thank you for your understanding.
URL:https://www.cumminglocal.com/event/special-needs-library-hour-sensory-storytime-2/
LOCATION:Hampton Park Library\, 5345 Settingdown Road\, Cumming\, GA\, 30041\, United States
CATEGORIES:Library Events
ORGANIZER;CN="Forsyth County Public Library":MAILTO:gloverp@forsythpl.org
END:VEVENT
BEGIN:VEVENT
DTSTART;VALUE=DATE:20191201
DTEND;VALUE=DATE:20191202
DTSTAMP:20260421T224450
CREATED:20191107T170143Z
LAST-MODIFIED:20191107T170143Z
UID:53813-1575158400-1575244799@www.cumminglocal.com
SUMMARY:World AIDS Day
DESCRIPTION:#WAD2019
URL:https://www.cumminglocal.com/event/world-aids-day/
CATEGORIES:Other
END:VEVENT
BEGIN:VEVENT
DTSTART;VALUE=DATE:20191130
DTEND;VALUE=DATE:20191201
DTSTAMP:20260421T224450
CREATED:20191107T170143Z
LAST-MODIFIED:20191107T170143Z
UID:53811-1575072000-1575158399@www.cumminglocal.com
SUMMARY:Small Business Saturday
DESCRIPTION:#ShopSmall
URL:https://www.cumminglocal.com/event/small-business-saturday/
CATEGORIES:Other
END:VEVENT
BEGIN:VEVENT
DTSTART;VALUE=DATE:20191130
DTEND;VALUE=DATE:20191201
DTSTAMP:20260421T224450
CREATED:20191107T170143Z
LAST-MODIFIED:20191107T170143Z
UID:53812-1575072000-1575158399@www.cumminglocal.com
SUMMARY:Computer Security Day
DESCRIPTION:#ComputerSecurityDay
URL:https://www.cumminglocal.com/event/computer-security-day/
CATEGORIES:Other
END:VEVENT
BEGIN:VEVENT
DTSTART;VALUE=DATE:20191129
DTEND;VALUE=DATE:20191130
DTSTAMP:20260421T224450
CREATED:20191107T170143Z
LAST-MODIFIED:20191107T170143Z
UID:53809-1574985600-1575071999@www.cumminglocal.com
SUMMARY:Electronic Greeting Card Day
DESCRIPTION:#ElectronicGreetingCardDay
URL:https://www.cumminglocal.com/event/electronic-greeting-card-day/
CATEGORIES:Other
END:VEVENT
BEGIN:VEVENT
DTSTART;VALUE=DATE:20191129
DTEND;VALUE=DATE:20191130
DTSTAMP:20260421T224450
CREATED:20191107T170143Z
LAST-MODIFIED:20191107T170143Z
UID:53810-1574985600-1575071999@www.cumminglocal.com
SUMMARY:Black Friday
DESCRIPTION:#BlackFriday
URL:https://www.cumminglocal.com/event/black-friday/
CATEGORIES:Other
END:VEVENT
BEGIN:VEVENT
DTSTART;VALUE=DATE:20191129
DTEND;VALUE=DATE:20191130
DTSTAMP:20260421T224450
CREATED:20191107T170142Z
LAST-MODIFIED:20191107T170142Z
UID:53808-1574985600-1575071999@www.cumminglocal.com
SUMMARY:National Day of Listening
DESCRIPTION:#DayOfListening
URL:https://www.cumminglocal.com/event/national-day-of-listening/
CATEGORIES:Other
END:VEVENT
BEGIN:VEVENT
DTSTART;VALUE=DATE:20191128
DTEND;VALUE=DATE:20191129
DTSTAMP:20260421T224450
CREATED:20191107T170142Z
LAST-MODIFIED:20191107T170142Z
UID:53807-1574899200-1574985599@www.cumminglocal.com
SUMMARY:Thanksgiving Day
DESCRIPTION:#Thanksgiving
URL:https://www.cumminglocal.com/event/thanksgiving-day/
CATEGORIES:Other
END:VEVENT
BEGIN:VEVENT
DTSTART;VALUE=DATE:20191127
DTEND;VALUE=DATE:20191128
DTSTAMP:20260421T224450
CREATED:20200109T120101Z
LAST-MODIFIED:20200109T120101Z
UID:54025-1574812800-1574899199@www.cumminglocal.com
SUMMARY:Hospice Volunteers Needed
DESCRIPTION:Compassus Hospice and Palliative Care is looking for dedicated and compassionate individuals to support hospice residents and families. Volunteers provide critical support services and companionship.  \nMake a difference\, volunteer today! \nVolunteers must be available to volunteer at least twice a month. Volunteers must be 18 or older. Flexible schedule Comprehensive training provided
URL:https://www.cumminglocal.com/event/hospice-volunteers-needed/
LOCATION:None Specified
ATTACH;FMTTYPE=image/png:https://www.cumminglocal.com/wp-content/uploads/2019/11/LOGO.png
ORGANIZER;CN="Compassus Hospice and Pallative Care":MAILTO:michael.orum@compassus.com
END:VEVENT
BEGIN:VEVENT
DTSTART;TZID=America/New_York:20191126T140000
DTEND;TZID=America/New_York:20191126T150000
DTSTAMP:20260421T224450
CREATED:20191101T182736Z
LAST-MODIFIED:20191101T182736Z
UID:53749-1574776800-1574780400@www.cumminglocal.com
SUMMARY:Book Sleuths
DESCRIPTION:Calling all mystery lovers!  We meet on the fourth Tuesday of each month (there is a different date for the month of December only) to discuss a great mystery or psychological suspense thriller.  Our book selections take us to settings all over the world and come with twists and turns that keep us guessing until the end.  This month we will be discussing Never Tell by Lisa Gardner.
URL:https://www.cumminglocal.com/event/book-sleuths/
LOCATION:Post Road Library\, 5010 Post Road\, Cumming\, GA\, 30040\, United States
CATEGORIES:Library Events
ORGANIZER;CN="Forsyth County Public Library":MAILTO:gloverp@forsythpl.org
END:VEVENT
BEGIN:VEVENT
DTSTART;TZID=America/New_York:20191126T110000
DTEND;TZID=America/New_York:20191126T120000
DTSTAMP:20260421T224450
CREATED:20190909T172533Z
LAST-MODIFIED:20190909T172533Z
UID:53105-1574766000-1574769600@www.cumminglocal.com
SUMMARY:Book Character Bingo: for ages 4 - 8 with a caregiver
DESCRIPTION:Join us for a fun filled family event! We’ll be playing Bingo\, with a literary twist! Bingo cards featuring favorite characters from picture books are fun for the whole family. Prizes will be awarded to the lucky winners.
URL:https://www.cumminglocal.com/event/book-character-bingo-for-ages-4-8-with-a-caregiver/
LOCATION:Sharon Forks Library\, 2820 Old Atlanta Road\, Cumming\, GA\, 30041\, United States
CATEGORIES:Library Events
ORGANIZER;CN="Forsyth County Public Library":MAILTO:gloverp@forsythpl.org
END:VEVENT
BEGIN:VEVENT
DTSTART;VALUE=DATE:20191126
DTEND;VALUE=DATE:20191127
DTSTAMP:20260421T224450
CREATED:20191107T170142Z
LAST-MODIFIED:20191107T170142Z
UID:53806-1574726400-1574812799@www.cumminglocal.com
SUMMARY:National Cake Day
DESCRIPTION:#NationalCakeDay
URL:https://www.cumminglocal.com/event/national-cake-day/
CATEGORIES:Other
END:VEVENT
BEGIN:VEVENT
DTSTART;TZID=America/New_York:20191122T180000
DTEND;TZID=America/New_York:20191122T193000
DTSTAMP:20260421T224450
CREATED:20190909T172533Z
LAST-MODIFIED:20190909T172533Z
UID:53108-1574445600-1574451000@www.cumminglocal.com
SUMMARY:Murder at the Abby Manor Masquerade Ball
DESCRIPTION:Come dressed to kill as we attempt to solve the mystery of the Murder at the Abby Manor Masquerade Ball. Wear glitzy and glamorous attire\, and we’ll create our own unique masquerade masks before embarking on an interactive murder mystery together! \nThis after hours program is for 6th through 12th graders. No registration required.
URL:https://www.cumminglocal.com/event/murder-at-the-abby-manor-masquerade-ball/
LOCATION:Sharon Forks Library\, 2820 Old Atlanta Road\, Cumming\, GA\, 30041\, United States
CATEGORIES:Library Events
ORGANIZER;CN="Forsyth County Public Library":MAILTO:gloverp@forsythpl.org
END:VEVENT
BEGIN:VEVENT
DTSTART;TZID=America/New_York:20191122T170000
DTEND;TZID=America/New_York:20191122T210000
DTSTAMP:20260421T224450
CREATED:20191122T180644Z
LAST-MODIFIED:20191122T190423Z
UID:53919-1574442000-1574456400@www.cumminglocal.com
SUMMARY:Santa at 3 Oaks Farm presented by Mission Overwatch
DESCRIPTION:3 Oaks Farm Hosts A Christmas Celebration\nHoliday fun for the whole family! \nPictures with Santa\, Hayrides on the beautiful property\, S’mores by the fire\, Letters to Santa\, and more! \nEvent held in climate controlled barn so rain cannot hinder any family fun. \nA free event with a freewill offering going to benefit Mission Overwatch.\nMission Overwatch is a faith based\, non-profit organization that provides services to disabled veterans and injured first responders.
URL:https://www.cumminglocal.com/event/santa-at-3-oaks-farm-presented-by-mission-overwatch/
LOCATION:3 Oaks Farm\, 3565 Tallant Drive\, Cumming\, GA\, 30028\, United States
CATEGORIES:Holiday Events
ATTACH;FMTTYPE=image/jpeg:https://www.cumminglocal.com/wp-content/uploads/2019/11/IMG_8479.jpg
ORGANIZER;CN="Mission Overwatch":MAILTO:missionoverwatch@gmail.com
END:VEVENT
BEGIN:VEVENT
DTSTART;VALUE=DATE:20191121
DTEND;VALUE=DATE:20191122
DTSTAMP:20260421T224450
CREATED:20191107T170142Z
LAST-MODIFIED:20191107T170142Z
UID:53805-1574294400-1574380799@www.cumminglocal.com
SUMMARY:World Hello Day
DESCRIPTION:#WorldHelloDay
URL:https://www.cumminglocal.com/event/world-hello-day/
CATEGORIES:Other
END:VEVENT
BEGIN:VEVENT
DTSTART;TZID=America/New_York:20191120T130000
DTEND;TZID=America/New_York:20191120T150000
DTSTAMP:20260421T224450
CREATED:20190909T172533Z
LAST-MODIFIED:20190909T172533Z
UID:53100-1574254800-1574262000@www.cumminglocal.com
SUMMARY:Crafters' Corner - an Adult Crafting Program
DESCRIPTION:Come and get crafty in our adult craft program. This month we will be making Hand-Stamped Greeting Cards.  \nBring a friend and enjoy two relaxing hours of creativity in this crafting program. Advance registration is not required\, but space and supplies are limited. This program is intended for adults only.
URL:https://www.cumminglocal.com/event/crafters-corner-an-adult-crafting-program-2/
LOCATION:Hampton Park Library\, 5345 Settingdown Road\, Cumming\, GA\, 30041\, United States
CATEGORIES:Library Events
ORGANIZER;CN="Forsyth County Public Library":MAILTO:gloverp@forsythpl.org
END:VEVENT
BEGIN:VEVENT
DTSTART;VALUE=DATE:20191120
DTEND;VALUE=DATE:20191121
DTSTAMP:20260421T224450
CREATED:20191107T170142Z
LAST-MODIFIED:20191107T170142Z
UID:53804-1574208000-1574294399@www.cumminglocal.com
SUMMARY:Universal Children‰Ûªs Day
DESCRIPTION:#UNChildrensDay
URL:https://www.cumminglocal.com/event/universal-children%e2%80%b0uas-day/
CATEGORIES:Other
END:VEVENT
BEGIN:VEVENT
DTSTART;TZID=America/New_York:20191119T190000
DTEND;TZID=America/New_York:20191119T210000
DTSTAMP:20260421T224450
CREATED:20191122T180645Z
LAST-MODIFIED:20191122T180645Z
UID:53840-1574190000-1574197200@www.cumminglocal.com
SUMMARY:Disney Trivia (benefiting Literacy Forsyth)
DESCRIPTION:Calling all Disney fans! You can support adult literacy programs in Forsyth County while testing your Disney knowledge and enjoying a pizza. Rosati’s Pizza and Sports Pub will donate 20% of proceeds for the night to Literacy Forsyth\, a local non-profit supporting adult education and ESL programs.  \nThis is a family-friendly event with free admission! Hope to see you at Rosati’s on Tuesday\, November 19th at 7 PM.
URL:https://www.cumminglocal.com/event/disney-trivia-benefiting-literacy-forsyth/
LOCATION:Rosati’s\, 415 Peachtree Pkwy #200\, Cumming\, GA\, 30041\, United States
CATEGORIES:Fundraisers
ATTACH;FMTTYPE=image/png:https://www.cumminglocal.com/wp-content/uploads/2019/11/Tues-October-29-_-7-9-PM-Rosatis-Pizza-and-Sports-Pub-1.png
ORGANIZER;CN="Literacy Forsyth":MAILTO:literacyforsyth@gmail.com
END:VEVENT
BEGIN:VEVENT
DTSTART;TZID=America/New_York:20191119T190000
DTEND;TZID=America/New_York:20191119T203000
DTSTAMP:20260421T224450
CREATED:20191101T182736Z
LAST-MODIFIED:20191101T182736Z
UID:53745-1574190000-1574195400@www.cumminglocal.com
SUMMARY:"School House Rock" at WFHS
DESCRIPTION:Perfect for old and young alike! Enjoy a rockin’ good time while learning a little too.\nThis is a great family show. \nShow Summary: Based on the ever-popular\, award-winning 1970s cartoons\, this fast-paced musical teaches lessons with clever\, catchy tunes. This is an energetic musical\, which follows Tom\, a young schoolteacher\, who is nervous about his first day of teaching. He tries to relax by watching TV\, when various characters representing facets of his personality emerge from the set and show him how to win his students over with imagination and music. Memorable songs as “Just a Bill\,” “Lolly\, Lolly\, Lolly” and “Conjunction Junction” bring his lesson plans vividly to life. \nShow runs about an hour with no intermission.
URL:https://www.cumminglocal.com/event/school-house-rock-at-wfhs/
LOCATION:West forsyth high school\, 4155 Drew Rd\, Cumming\, GA\, 30040\, United States
CATEGORIES:Musical/Dance/Theater Events
END:VEVENT
BEGIN:VEVENT
DTSTART;TZID=UTC:20191119T180000
DTEND;TZID=UTC:20191119T190000
DTSTAMP:20260421T224450
CREATED:20191029T125939Z
LAST-MODIFIED:20191115T150150Z
UID:53692-1574186400-1574190000@www.cumminglocal.com
SUMMARY:City Council Regular Meeting
DESCRIPTION:
URL:https://www.cumminglocal.com/event/city-council-regular-meeting-8/
LOCATION:Cumming City Hall (Council Chambers – Third Floor)
END:VEVENT
BEGIN:VEVENT
DTSTART;TZID=UTC:20191119T170000
DTEND;TZID=UTC:20191119T180000
DTSTAMP:20260421T224450
CREATED:20191029T125938Z
LAST-MODIFIED:20191115T150150Z
UID:53691-1574182800-1574186400@www.cumminglocal.com
SUMMARY:Planning & Zoning Board Meeting
DESCRIPTION:
URL:https://www.cumminglocal.com/event/planning-zoning-board-meeting-7/
LOCATION:Cumming City Hall (Council Chambers – Third Floor)
END:VEVENT
BEGIN:VEVENT
DTSTART;VALUE=DATE:20191119
DTEND;VALUE=DATE:20191120
DTSTAMP:20260421T224450
CREATED:20191107T170142Z
LAST-MODIFIED:20191107T170142Z
UID:53802-1574121600-1574207999@www.cumminglocal.com
SUMMARY:International Men‰Ûªs Day
DESCRIPTION:#InternationalMensDay
URL:https://www.cumminglocal.com/event/international-men%e2%80%b0uas-day/
CATEGORIES:Other
END:VEVENT
END:VCALENDAR