BEGIN:VCALENDAR
VERSION:2.0
PRODID:-//Cumming Local - ECPv6.15.17//NONSGML v1.0//EN
CALSCALE:GREGORIAN
METHOD:PUBLISH
X-ORIGINAL-URL:https://www.cumminglocal.com
X-WR-CALDESC:Events for Cumming Local
REFRESH-INTERVAL;VALUE=DURATION:PT1H
X-Robots-Tag:noindex
X-PUBLISHED-TTL:PT1H
BEGIN:VTIMEZONE
TZID:America/New_York
BEGIN:DAYLIGHT
TZOFFSETFROM:-0500
TZOFFSETTO:-0400
TZNAME:EDT
DTSTART:20190310T070000
END:DAYLIGHT
BEGIN:STANDARD
TZOFFSETFROM:-0400
TZOFFSETTO:-0500
TZNAME:EST
DTSTART:20191103T060000
END:STANDARD
BEGIN:DAYLIGHT
TZOFFSETFROM:-0500
TZOFFSETTO:-0400
TZNAME:EDT
DTSTART:20200308T070000
END:DAYLIGHT
BEGIN:STANDARD
TZOFFSETFROM:-0400
TZOFFSETTO:-0500
TZNAME:EST
DTSTART:20201101T060000
END:STANDARD
BEGIN:DAYLIGHT
TZOFFSETFROM:-0500
TZOFFSETTO:-0400
TZNAME:EDT
DTSTART:20210314T070000
END:DAYLIGHT
BEGIN:STANDARD
TZOFFSETFROM:-0400
TZOFFSETTO:-0500
TZNAME:EST
DTSTART:20211107T060000
END:STANDARD
END:VTIMEZONE
BEGIN:VTIMEZONE
TZID:UTC
BEGIN:STANDARD
TZOFFSETFROM:+0000
TZOFFSETTO:+0000
TZNAME:UTC
DTSTART:20190101T000000
END:STANDARD
END:VTIMEZONE
BEGIN:VEVENT
DTSTART;VALUE=DATE:20201005
DTEND;VALUE=DATE:20201101
DTSTAMP:20260425T142854
CREATED:20200911T180156Z
LAST-MODIFIED:20200911T180156Z
UID:56221-1601856000-1604188799@www.cumminglocal.com
SUMMARY:Rightfully Hers: 100th Anniversary of the 19th Amendment
DESCRIPTION:Visit the library to explore Rightfully Hers\, a new popup exhibition from the National Archives commemorating the 100th anniversary of the ratification of the 19th Amendment. \nRightfully Hers contains simple messages exploring the history of the ratification of the 19th amendment\, women’s voting rights before and after the 19th\, and its impact today. Despite decades of marches\, petitions\, and public debate to enshrine a woman’s right to vote in the constitution\, the 19th Amendment – while an enormous milestone – did not grant voting rights for all. The challenges of its passage reverberate to the ongoing fight for gender equity today. \nThis traveling exhibit will be on display at all Forsyth County Public Library branches: \nAugust 2 – September 1\, 2020: Post Road Library \nSeptember 5 – October 1\, 2020: Sharon Forks Library \nOctober 5 – October 31\, 2020: Hampton Park Library \nNovember 3 – November 30\, 2020: Cumming Library \nRightfully Hers is presented in part by the Women’s Suffrage Centennial Commission and the National Archives Foundation through the generous support of Unilever\, Pivotal Ventures\, Carl M. Freeman Foundation in honor of Virginia Allen Freeman\, AARP\, and Denise Gwyn Ferguson.
URL:https://www.cumminglocal.com/event/rightfully-hers-100th-anniversary-of-the-19th-amendment-2/
LOCATION:Hampton Park Library\, 5345 Settingdown Road\, Cumming\, GA\, 30041\, United States
CATEGORIES:Library Events
ATTACH;FMTTYPE=image/jpeg:https://www.cumminglocal.com/wp-content/uploads/2020/08/Rightfully-Hers-16x9-3.jpg
ORGANIZER;CN="Forsyth County Public Library":MAILTO:gloverp@forsythpl.org
END:VEVENT
BEGIN:VEVENT
DTSTART;VALUE=DATE:20201005
DTEND;VALUE=DATE:20201106
DTSTAMP:20260425T142854
CREATED:20201115T191812Z
LAST-MODIFIED:20201115T191812Z
UID:56469-1601856000-1604620799@www.cumminglocal.com
SUMMARY:Experience Autumn In the City Virtual Art Show
DESCRIPTION:Experience “Autumn In the City Virtual Art Show”! The show\, hosted by the Cumming Arts Center\, is online at www.sawneeart.org and runs through Nov 5. It features paintings\, photography and 3-D artwork from talented local artists. Don’t miss the opportunity to view this outstanding display and vote your selection for “Peoples’ Choice Award” which will be announced on the last day.
URL:https://www.cumminglocal.com/event/experience-autumn-in-the-city-virtual-art-show/
LOCATION:None Specified
END:VEVENT
BEGIN:VEVENT
DTSTART;TZID=America/New_York:20201006T080000
DTEND;TZID=America/New_York:20201006T170000
DTSTAMP:20260425T142854
CREATED:20201115T191811Z
LAST-MODIFIED:20201115T191811Z
UID:56472-1601971200-1602003600@www.cumminglocal.com
SUMMARY:Ballpark Movie Night: "The Sandlots" at The Sandlots
DESCRIPTION:On Friday\, October 23rd The Sandlots baseball park will hold a movie night\, where attendees can watch the baseball classic\, “The Sandlots” at The Sandlots.   \nDoors open at 6:00 PM and the movie will start at 7:00 PM.  \nThe Sandlots address is:\n2250 Holbrook Campground Rd\nAlpharetta\, GA 30004 \nEntry is free\, but attendees are encourage to donate $5 per person to support the Sawnee Mountain Mavericks baseball team\, in their efforts to fundraise towards a trip to Cooperstown New York for a baseball tournament in the Summer of 2021.   \nMovie Night will include a full concession stand and chance to win raffle prizes.   \nAttendees are encourage to bring their own chairs and/or blankets for seating.   \nSee attachment for Event Flyer and link below for Facebook Event Page.   \nBall Park Movie Night
URL:https://www.cumminglocal.com/event/ballpark-movie-night-the-sandlots-at-the-sandlots/
LOCATION:None Specified
CATEGORIES:Fundraisers,Musical/Dance/Theater Events,Other
ATTACH;FMTTYPE=image/jpeg:https://www.cumminglocal.com/wp-content/uploads/2020/10/FB-size-movie-night-images.jpg
END:VEVENT
BEGIN:VEVENT
DTSTART;TZID=UTC:20201006T180000
DTEND;TZID=UTC:20201006T190000
DTSTAMP:20260425T142854
CREATED:20201115T191945Z
LAST-MODIFIED:20201115T191945Z
UID:56379-1602007200-1602010800@www.cumminglocal.com
SUMMARY:City Council Work Session
DESCRIPTION:
URL:https://www.cumminglocal.com/event/city-council-work-session-6/
LOCATION:Cumming City Hall (Council Chambers – Third Floor)
END:VEVENT
END:VCALENDAR