BEGIN:VCALENDAR
VERSION:2.0
PRODID:-//Cumming Local - ECPv6.15.17//NONSGML v1.0//EN
CALSCALE:GREGORIAN
METHOD:PUBLISH
X-WR-CALNAME:Cumming Local
X-ORIGINAL-URL:https://www.cumminglocal.com
X-WR-CALDESC:Events for Cumming Local
REFRESH-INTERVAL;VALUE=DURATION:PT1H
X-Robots-Tag:noindex
X-PUBLISHED-TTL:PT1H
BEGIN:VTIMEZONE
TZID:America/New_York
BEGIN:DAYLIGHT
TZOFFSETFROM:-0500
TZOFFSETTO:-0400
TZNAME:EDT
DTSTART:20190310T070000
END:DAYLIGHT
BEGIN:STANDARD
TZOFFSETFROM:-0400
TZOFFSETTO:-0500
TZNAME:EST
DTSTART:20191103T060000
END:STANDARD
BEGIN:DAYLIGHT
TZOFFSETFROM:-0500
TZOFFSETTO:-0400
TZNAME:EDT
DTSTART:20200308T070000
END:DAYLIGHT
BEGIN:STANDARD
TZOFFSETFROM:-0400
TZOFFSETTO:-0500
TZNAME:EST
DTSTART:20201101T060000
END:STANDARD
BEGIN:DAYLIGHT
TZOFFSETFROM:-0500
TZOFFSETTO:-0400
TZNAME:EDT
DTSTART:20210314T070000
END:DAYLIGHT
BEGIN:STANDARD
TZOFFSETFROM:-0400
TZOFFSETTO:-0500
TZNAME:EST
DTSTART:20211107T060000
END:STANDARD
END:VTIMEZONE
BEGIN:VEVENT
DTSTART;VALUE=DATE:20200905
DTEND;VALUE=DATE:20201002
DTSTAMP:20260425T172741
CREATED:20200911T180156Z
LAST-MODIFIED:20200911T180156Z
UID:56219-1599264000-1601596799@www.cumminglocal.com
SUMMARY:Rightfully Hers: 100th Anniversary of the 19th Amendment
DESCRIPTION:Visit the library to explore Rightfully Hers\, a new popup exhibition from the National Archives commemorating the 100th anniversary of the ratification of the 19th Amendment. \nRightfully Hers contains simple messages exploring the history of the ratification of the 19th amendment\, women’s voting rights before and after the 19th\, and its impact today. Despite decades of marches\, petitions\, and public debate to enshrine a woman’s right to vote in the constitution\, the 19th Amendment – while an enormous milestone – did not grant voting rights for all. The challenges of its passage reverberate to the ongoing fight for gender equity today. \nThis traveling exhibit will be on display at all Forsyth County Public Library branches: \nAugust 2 – September 1\, 2020: Post Road Library \nSeptember 5 – October 1\, 2020: Sharon Forks Library \nOctober 5 – October 31\, 2020: Hampton Park Library \nNovember 3 – November 30\, 2020: Cumming Library \nRightfully Hers is presented in part by the Women’s Suffrage Centennial Commission and the National Archives Foundation through the generous support of Unilever\, Pivotal Ventures\, Carl M. Freeman Foundation in honor of Virginia Allen Freeman\, AARP\, and Denise Gwyn Ferguson.
URL:https://www.cumminglocal.com/event/rightfully-hers-100th-anniversary-of-the-19th-amendment-3/
LOCATION:Sharon Forks Library\, 2820 Old Atlanta Road\, Cumming\, GA\, 30041\, United States
CATEGORIES:Library Events
ATTACH;FMTTYPE=image/jpeg:https://www.cumminglocal.com/wp-content/uploads/2020/08/Rightfully-Hers-16x9-2.jpg
ORGANIZER;CN="Forsyth County Public Library":MAILTO:gloverp@forsythpl.org
END:VEVENT
BEGIN:VEVENT
DTSTART;TZID=America/New_York:20200926T100000
DTEND;TZID=America/New_York:20200926T140000
DTSTAMP:20260425T172741
CREATED:20200911T180155Z
LAST-MODIFIED:20200911T180155Z
UID:56286-1601114400-1601128800@www.cumminglocal.com
SUMMARY:The Princeton Review ACT Free Online Practice Test
DESCRIPTION:Take a free online full-length ACT practice test with The Princeton Review! Familiarize yourself with the format and the content you’ll see on the actual ACT and get in-depth feedback question by question with a comprehensive score report that helps you identify areas of weakness and evaluate your current performance. \nRegistration for this program is necessary.  Please register using the following link: ACT Free Online Practice Test registration \nA free follow-up ACT Scores Back Session from The Princeton Review will be offered Tuesday\, September 29th at 5:00 p.m.  You may register for that session here: The Princeton Review ACT Scores Back Session
URL:https://www.cumminglocal.com/event/the-princeton-review-act-free-online-practice-test/
LOCATION:None Specified
CATEGORIES:Library Events
ATTACH;FMTTYPE=image/png:https://www.cumminglocal.com/wp-content/uploads/2020/09/Princeton-Review-Logo-2.png
ORGANIZER;CN="Forsyth County Public Library":MAILTO:gloverp@forsythpl.org
END:VEVENT
BEGIN:VEVENT
DTSTART;TZID=America/New_York:20200926T110000
DTEND;TZID=America/New_York:20200926T114500
DTSTAMP:20260425T172741
CREATED:20200911T180155Z
LAST-MODIFIED:20200911T180155Z
UID:56288-1601118000-1601120700@www.cumminglocal.com
SUMMARY:Drawing Workshop with Young Rembrandts
DESCRIPTION:Everyone can draw! Young Rembrandts’ unique curriculum engages both sides of the brain so every child participating can learn and be successful. The Young Rembrandts Method and curriculum offer a form of brain-based learning that is crucial to the complete education and full development of modern minds. Plus\, it’s a lot of fun! \nSupplies Needed: \n·         Paper \n·         Pencil \n·         Eraser \n·         Black Sharpie or marker for outlining \n·         Different colored markers \nThis program is for elementary aged children and this session has a maximum capacity of 40 students. It will take place on FCPL’s GoToWebinar Platform. Registration is required.
URL:https://www.cumminglocal.com/event/drawing-workshop-with-young-rembrandts-4/
LOCATION:None Specified
CATEGORIES:Library Events
ATTACH;FMTTYPE=image/jpeg:https://www.cumminglocal.com/wp-content/uploads/2020/09/Young-rembrandts-logo.jpg
ORGANIZER;CN="Forsyth County Public Library":MAILTO:gloverp@forsythpl.org
END:VEVENT
END:VCALENDAR