BEGIN:VCALENDAR
VERSION:2.0
PRODID:-//Cumming Local - ECPv6.15.17//NONSGML v1.0//EN
CALSCALE:GREGORIAN
METHOD:PUBLISH
X-WR-CALNAME:Cumming Local
X-ORIGINAL-URL:https://www.cumminglocal.com
X-WR-CALDESC:Events for Cumming Local
REFRESH-INTERVAL;VALUE=DURATION:PT1H
X-Robots-Tag:noindex
X-PUBLISHED-TTL:PT1H
BEGIN:VTIMEZONE
TZID:America/New_York
BEGIN:DAYLIGHT
TZOFFSETFROM:-0500
TZOFFSETTO:-0400
TZNAME:EDT
DTSTART:20190310T070000
END:DAYLIGHT
BEGIN:STANDARD
TZOFFSETFROM:-0400
TZOFFSETTO:-0500
TZNAME:EST
DTSTART:20191103T060000
END:STANDARD
BEGIN:DAYLIGHT
TZOFFSETFROM:-0500
TZOFFSETTO:-0400
TZNAME:EDT
DTSTART:20200308T070000
END:DAYLIGHT
BEGIN:STANDARD
TZOFFSETFROM:-0400
TZOFFSETTO:-0500
TZNAME:EST
DTSTART:20201101T060000
END:STANDARD
BEGIN:DAYLIGHT
TZOFFSETFROM:-0500
TZOFFSETTO:-0400
TZNAME:EDT
DTSTART:20210314T070000
END:DAYLIGHT
BEGIN:STANDARD
TZOFFSETFROM:-0400
TZOFFSETTO:-0500
TZNAME:EST
DTSTART:20211107T060000
END:STANDARD
END:VTIMEZONE
BEGIN:VEVENT
DTSTART;VALUE=DATE:20200905
DTEND;VALUE=DATE:20201002
DTSTAMP:20260421T103709
CREATED:20200911T180156Z
LAST-MODIFIED:20200911T180156Z
UID:56219-1599264000-1601596799@www.cumminglocal.com
SUMMARY:Rightfully Hers: 100th Anniversary of the 19th Amendment
DESCRIPTION:Visit the library to explore Rightfully Hers\, a new popup exhibition from the National Archives commemorating the 100th anniversary of the ratification of the 19th Amendment. \nRightfully Hers contains simple messages exploring the history of the ratification of the 19th amendment\, women’s voting rights before and after the 19th\, and its impact today. Despite decades of marches\, petitions\, and public debate to enshrine a woman’s right to vote in the constitution\, the 19th Amendment – while an enormous milestone – did not grant voting rights for all. The challenges of its passage reverberate to the ongoing fight for gender equity today. \nThis traveling exhibit will be on display at all Forsyth County Public Library branches: \nAugust 2 – September 1\, 2020: Post Road Library \nSeptember 5 – October 1\, 2020: Sharon Forks Library \nOctober 5 – October 31\, 2020: Hampton Park Library \nNovember 3 – November 30\, 2020: Cumming Library \nRightfully Hers is presented in part by the Women’s Suffrage Centennial Commission and the National Archives Foundation through the generous support of Unilever\, Pivotal Ventures\, Carl M. Freeman Foundation in honor of Virginia Allen Freeman\, AARP\, and Denise Gwyn Ferguson.
URL:https://www.cumminglocal.com/event/rightfully-hers-100th-anniversary-of-the-19th-amendment-3/
LOCATION:Sharon Forks Library\, 2820 Old Atlanta Road\, Cumming\, GA\, 30041\, United States
CATEGORIES:Library Events
ATTACH;FMTTYPE=image/jpeg:https://www.cumminglocal.com/wp-content/uploads/2020/08/Rightfully-Hers-16x9-2.jpg
ORGANIZER;CN="Forsyth County Public Library":MAILTO:gloverp@forsythpl.org
END:VEVENT
BEGIN:VEVENT
DTSTART;TZID=America/New_York:20200920T130000
DTEND;TZID=America/New_York:20200920T170000
DTSTAMP:20260421T103709
CREATED:20200911T180155Z
LAST-MODIFIED:20200911T180155Z
UID:56303-1600606800-1600621200@www.cumminglocal.com
SUMMARY:International Doodle Dog Day at Halcyon Forsyth - 9/20
DESCRIPTION:https://www.facebook.com/events/s/doodle-dog-day/207930257247301/ \n Sunday\, September 20 from 1:00-5:00 p.m. at Halcyon Forsyth\nPhoto attached \nHalcyon Forsyth\n6365 Halcyon Way\, Alpharetta\, GA  30005 \n(470) 223-3665\ninfo@visithalcyon.com \nhttps://www.facebook.com/events/s/doodle-dog-day/207930257247301/ \nIn partnership with International Doodle Dog Day\, Halcyon is hosting Georgia’s doodle dog PAW-ty! We invite doodles\, other furry friends and their humans to Halcyon for an afternoon of dog-loving fun!  \nCheck in at the Halcyon table in the Village Green to pick up your free swag and a schedule of events. Then visit our participating restaurants and retailers for special treats\, take photos in the VW Photo Bus (dogs welcome!)\, join one of our Pooch Parades at 2 or 4 pm\, play some doggy bingo in the Green\, dine on one of our dog friendly patios or browse our dog welcoming boutiques including Unexpected Pooch\, take a walk on the Greenway connected to Halcyon and so much more!  \nPlease follow our health and safety practices while on site including social distancing at all times and frequent hand washing or sanitizing at one of our hand sanitizer stations. Complimentary sanitizer\, wipes and masks are available at our Sanitization Station. Please stay home if you are not feeling well. \nWe can’t wait to meet you all!
URL:https://www.cumminglocal.com/event/international-doodle-dog-day-at-halcyon-forsyth-9-20/
LOCATION:Halcyon\, 6365 Halcyon Way\, Alpharetta\, GA\, 30005\, United States
ATTACH;FMTTYPE=image/jpeg:https://www.cumminglocal.com/wp-content/uploads/2020/09/doodle-dog.jpg
END:VEVENT
END:VCALENDAR