BEGIN:VCALENDAR
VERSION:2.0
PRODID:-//Cumming Local - ECPv6.15.17//NONSGML v1.0//EN
CALSCALE:GREGORIAN
METHOD:PUBLISH
X-ORIGINAL-URL:https://www.cumminglocal.com
X-WR-CALDESC:Events for Cumming Local
REFRESH-INTERVAL;VALUE=DURATION:PT1H
X-Robots-Tag:noindex
X-PUBLISHED-TTL:PT1H
BEGIN:VTIMEZONE
TZID:America/New_York
BEGIN:DAYLIGHT
TZOFFSETFROM:-0500
TZOFFSETTO:-0400
TZNAME:EDT
DTSTART:20190310T070000
END:DAYLIGHT
BEGIN:STANDARD
TZOFFSETFROM:-0400
TZOFFSETTO:-0500
TZNAME:EST
DTSTART:20191103T060000
END:STANDARD
BEGIN:DAYLIGHT
TZOFFSETFROM:-0500
TZOFFSETTO:-0400
TZNAME:EDT
DTSTART:20200308T070000
END:DAYLIGHT
BEGIN:STANDARD
TZOFFSETFROM:-0400
TZOFFSETTO:-0500
TZNAME:EST
DTSTART:20201101T060000
END:STANDARD
BEGIN:DAYLIGHT
TZOFFSETFROM:-0500
TZOFFSETTO:-0400
TZNAME:EDT
DTSTART:20210314T070000
END:DAYLIGHT
BEGIN:STANDARD
TZOFFSETFROM:-0400
TZOFFSETTO:-0500
TZNAME:EST
DTSTART:20211107T060000
END:STANDARD
END:VTIMEZONE
BEGIN:VEVENT
DTSTART;VALUE=DATE:20200621
DTEND;VALUE=DATE:20200801
DTSTAMP:20260425T101650
CREATED:20200623T134555Z
LAST-MODIFIED:20200623T134555Z
UID:56038-1592697600-1596239999@www.cumminglocal.com
SUMMARY:Terry's Blackberry Farm Roadside Market
DESCRIPTION:Roadside Blackberry Market stand Open with fresh organically grown Blackberries.  No chemicals\, no pesticides\, no preservatives or grown hormones.  Self service market accepts cash\, Venmo.
URL:https://www.cumminglocal.com/event/terrys-blackberry-farm-roadside-market/
LOCATION:None Specified
CATEGORIES:Farmer Markets
ATTACH;FMTTYPE=image/jpeg:https://www.cumminglocal.com/wp-content/uploads/2020/06/Roadside-stand-6-4-2.jpg
END:VEVENT
END:VCALENDAR