BEGIN:VCALENDAR
VERSION:2.0
PRODID:-//Cumming Local - ECPv6.15.17//NONSGML v1.0//EN
CALSCALE:GREGORIAN
METHOD:PUBLISH
X-ORIGINAL-URL:https://www.cumminglocal.com
X-WR-CALDESC:Events for Cumming Local
REFRESH-INTERVAL;VALUE=DURATION:PT1H
X-Robots-Tag:noindex
X-PUBLISHED-TTL:PT1H
BEGIN:VTIMEZONE
TZID:America/New_York
BEGIN:DAYLIGHT
TZOFFSETFROM:-0500
TZOFFSETTO:-0400
TZNAME:EDT
DTSTART:20190310T070000
END:DAYLIGHT
BEGIN:STANDARD
TZOFFSETFROM:-0400
TZOFFSETTO:-0500
TZNAME:EST
DTSTART:20191103T060000
END:STANDARD
BEGIN:DAYLIGHT
TZOFFSETFROM:-0500
TZOFFSETTO:-0400
TZNAME:EDT
DTSTART:20200308T070000
END:DAYLIGHT
BEGIN:STANDARD
TZOFFSETFROM:-0400
TZOFFSETTO:-0500
TZNAME:EST
DTSTART:20201101T060000
END:STANDARD
BEGIN:DAYLIGHT
TZOFFSETFROM:-0500
TZOFFSETTO:-0400
TZNAME:EDT
DTSTART:20210314T070000
END:DAYLIGHT
BEGIN:STANDARD
TZOFFSETFROM:-0400
TZOFFSETTO:-0500
TZNAME:EST
DTSTART:20211107T060000
END:STANDARD
END:VTIMEZONE
BEGIN:VEVENT
DTSTART;TZID=America/New_York:20200305T100000
DTEND;TZID=America/New_York:20200627T160000
DTSTAMP:20260425T101647
CREATED:20200306T155816Z
LAST-MODIFIED:20200306T155816Z
UID:55262-1583402400-1593273600@www.cumminglocal.com
SUMMARY:ACT & SAT Workshop
DESCRIPTION:The ACT and SAT are touted as an exam over everything that students have learned from 8th grade on. \nThe good news is\, this isn’t true. It is a finite amount of learnable content.  \nThe bad news is\, it’s still a whole heck of a lot of information.  \nAnd often determines a student’s academic and financial future.  \nCan you imagine walking into this 3+ hour exam without an instructor to review the information? No one can be prepared for that! \nThe first half of our workshop will be spent going over content and strategies for each section. After that\, a full ACT or SAT test is administered. The following the workshop\, a follow up meeting is scheduled with you and your student in order to discuss the necessary tools and process to jump start an individual preparation plan!  \nContact Deb Hagerty to reserve your spot\, limited to 15 students per session. \n$315 per student\ninfo@eruditetutors.net\nwww.eruditetutors.net
URL:https://www.cumminglocal.com/event/act-sat-workshop/
LOCATION:Vickery Village\, 5855 South Vickery Street\, Cumming\, GA\, 30040\, United States
CATEGORIES:Workshops
ATTACH;FMTTYPE=image/png:https://www.cumminglocal.com/wp-content/uploads/2020/03/act-sat-red-37-1.png
ORGANIZER;CN="Erudite Tutors":MAILTO:deb@eruditetutors.net
END:VEVENT
END:VCALENDAR