BEGIN:VCALENDAR
VERSION:2.0
PRODID:-//Cumming Local - ECPv6.15.17//NONSGML v1.0//EN
CALSCALE:GREGORIAN
METHOD:PUBLISH
X-WR-CALNAME:Cumming Local
X-ORIGINAL-URL:https://www.cumminglocal.com
X-WR-CALDESC:Events for Cumming Local
REFRESH-INTERVAL;VALUE=DURATION:PT1H
X-Robots-Tag:noindex
X-PUBLISHED-TTL:PT1H
BEGIN:VTIMEZONE
TZID:America/New_York
BEGIN:DAYLIGHT
TZOFFSETFROM:-0500
TZOFFSETTO:-0400
TZNAME:EDT
DTSTART:20190310T070000
END:DAYLIGHT
BEGIN:STANDARD
TZOFFSETFROM:-0400
TZOFFSETTO:-0500
TZNAME:EST
DTSTART:20191103T060000
END:STANDARD
BEGIN:DAYLIGHT
TZOFFSETFROM:-0500
TZOFFSETTO:-0400
TZNAME:EDT
DTSTART:20200308T070000
END:DAYLIGHT
BEGIN:STANDARD
TZOFFSETFROM:-0400
TZOFFSETTO:-0500
TZNAME:EST
DTSTART:20201101T060000
END:STANDARD
BEGIN:DAYLIGHT
TZOFFSETFROM:-0500
TZOFFSETTO:-0400
TZNAME:EDT
DTSTART:20210314T070000
END:DAYLIGHT
BEGIN:STANDARD
TZOFFSETFROM:-0400
TZOFFSETTO:-0500
TZNAME:EST
DTSTART:20211107T060000
END:STANDARD
END:VTIMEZONE
BEGIN:VEVENT
DTSTART;TZID=America/New_York:20200305T100000
DTEND;TZID=America/New_York:20200418T160000
DTSTAMP:20260425T101048
CREATED:20200306T155816Z
LAST-MODIFIED:20200306T155816Z
UID:55260-1583402400-1587225600@www.cumminglocal.com
SUMMARY:ACT & SAT Workshop
DESCRIPTION:The ACT and SAT are touted as an exam over everything that students have learned from 8th grade on. \nThe good news is\, this isn’t true. It is a finite amount of learnable content.  \nThe bad news is\, it’s still a whole heck of a lot of information.  \nAnd often determines a student’s academic and financial future.  \nCan you imagine walking into this 3+ hour exam without an instructor to review the information? No one can be prepared for that! \nThe first half of our workshop will be spent going over content and strategies for each section. After that\, a full ACT or SAT test is administered. The following the workshop\, a follow up meeting is scheduled with you and your student in order to discuss the necessary tools and process to jump start an individual preparation plan!  \nContact Deb Hagerty to reserve your spot\, limited to 15 students per session. \n$315 per student\ninfo@eruditetutors.net\nwww.eruditetutors.net
URL:https://www.cumminglocal.com/event/act-sat-workshop-2/
LOCATION:Vickery Village\, 5855 South Vickery Street\, Cumming\, GA\, 30040\, United States
CATEGORIES:Workshops
ATTACH;FMTTYPE=image/png:https://www.cumminglocal.com/wp-content/uploads/2020/03/act-sat-red-37.png
ORGANIZER;CN="Erudite Tutors":MAILTO:deb@eruditetutors.net
END:VEVENT
BEGIN:VEVENT
DTSTART;TZID=America/New_York:20200305T100000
DTEND;TZID=America/New_York:20200627T160000
DTSTAMP:20260425T101048
CREATED:20200306T155816Z
LAST-MODIFIED:20200306T155816Z
UID:55262-1583402400-1593273600@www.cumminglocal.com
SUMMARY:ACT & SAT Workshop
DESCRIPTION:The ACT and SAT are touted as an exam over everything that students have learned from 8th grade on. \nThe good news is\, this isn’t true. It is a finite amount of learnable content.  \nThe bad news is\, it’s still a whole heck of a lot of information.  \nAnd often determines a student’s academic and financial future.  \nCan you imagine walking into this 3+ hour exam without an instructor to review the information? No one can be prepared for that! \nThe first half of our workshop will be spent going over content and strategies for each section. After that\, a full ACT or SAT test is administered. The following the workshop\, a follow up meeting is scheduled with you and your student in order to discuss the necessary tools and process to jump start an individual preparation plan!  \nContact Deb Hagerty to reserve your spot\, limited to 15 students per session. \n$315 per student\ninfo@eruditetutors.net\nwww.eruditetutors.net
URL:https://www.cumminglocal.com/event/act-sat-workshop/
LOCATION:Vickery Village\, 5855 South Vickery Street\, Cumming\, GA\, 30040\, United States
CATEGORIES:Workshops
ATTACH;FMTTYPE=image/png:https://www.cumminglocal.com/wp-content/uploads/2020/03/act-sat-red-37-1.png
ORGANIZER;CN="Erudite Tutors":MAILTO:deb@eruditetutors.net
END:VEVENT
BEGIN:VEVENT
DTSTART;TZID=America/New_York:20200324T160000
DTEND;TZID=America/New_York:20200508T200000
DTSTAMP:20260425T101048
CREATED:20200323T185141Z
LAST-MODIFIED:20200323T185141Z
UID:55590-1585065600-1588968000@www.cumminglocal.com
SUMMARY:Online Coding For Kids At Home Due To COVID19
DESCRIPTION:As kids stay home across the nation because of the Coronavirus pandemic\, they can gain valuable life skills such as coding and programming through online training by Red Bear Technologies. We are offering online coding classes in Python\, Java\, Web Development\, and AP Computer Science for students from ages 8 – 18. \nOur priority is to support teachers\, students\, and families around the world in the best way we know how — by providing them with rich tech education and meaningful projects that will keep kids engaged and active because we understand that In today’s world and the future\, digital literacy is the need of the hour and fast becoming a necessity than a distant goal worldwide.  \nWe are offering the following courses: \nPython\nJava\nHTML\, CSS\, JavaScript\nAP Computer Science A+\nAP Computer Science Principles \nEach course will include homework and projects followed by a capstone project. There will be frequent quizzes and engaging course material. \nTo learn more and enroll\, visit  https://redbeartechnologies.com/online \nSend an email to contact@redbeartechnologies.com or call 470-336-3966
URL:https://www.cumminglocal.com/event/online-coding-for-kids-at-home-due-to-covid19/
LOCATION:None Specified
CATEGORIES:Deals,Holiday Events,Teen Events,Workshops
ATTACH;FMTTYPE=image/png:https://www.cumminglocal.com/wp-content/uploads/2020/03/kids-Python-Java-HTMLCSS-JAvascript.png
ORGANIZER;CN="Red Bear Technologies":MAILTO:contact@redbeartechnologies.com
END:VEVENT
BEGIN:VEVENT
DTSTART;TZID=America/New_York:20200328T133000
DTEND;TZID=America/New_York:20200426T153000
DTSTAMP:20260425T101048
CREATED:20200302T140314Z
LAST-MODIFIED:20200302T140314Z
UID:55172-1585402200-1587915000@www.cumminglocal.com
SUMMARY:Embroidery & Energy Bites:  A Workshop.
DESCRIPTION:Join us for an afternoon as we hands-on learn the basics of making energy bites and create a fun embroidery art that you can wear out from the event.\nOh\, also\, you will take a dozen energy bites home to humble brag! \nBtw\, your first cafe drink at RiverMill Bakery is on us!  \nThis will be a small group event\, so grab your tickets here before it’s too late!  \nYou will leave the event with:\nA dozen energy bites.\nAn embroidery craft.\nTons of laughs\, new connections/network\, and basics of embroidery & energy bite making skills.\nA few adorable pics of you! – I mean\, if we don’t have pics\, did it even happen! \nSee you there …
URL:https://www.cumminglocal.com/event/embroidery-energy-bites-a-workshop/
LOCATION:Rivermill bakery\, 5071 post rd ste 301\,\, Cumming\, GA\, 30040\, United States
CATEGORIES:Workshops
ORGANIZER;CN="Shivani":MAILTO:Thebirdwhoswam@gmail.com
END:VEVENT
BEGIN:VEVENT
DTSTART;TZID=America/New_York:20200411T110000
DTEND;TZID=America/New_York:20200411T170000
DTSTAMP:20260425T101048
CREATED:20200302T140737Z
LAST-MODIFIED:20200302T141034Z
UID:55212-1586602800-1586624400@www.cumminglocal.com
SUMMARY:The Taste 2020
DESCRIPTION:The event formerly known as The Taste of Forsyth Along the Hospitality Highway has a new name for 2020. Now known simply as “The Taste\,” the beloved event returns to the Cumming Fairgrounds on Saturday\, April 11.\n\nPresented by Lou Sobh Honda and Lou Sobh Kia\, The Taste provides an adventure in food sampling with dozens of local eateries participating. Patrons can purchase samples of everything from appetizers to entrees to desserts\, and enjoy all types of cuisine from Italian to Mexican to BBQ – and everything in between!\n\nFamilies can also enjoy music and other entertainment\, games\, activities\, and three age-specific Easter egg hunts at 11:30 a.m. (ages 3 & under)\, 1 p.m. (ages 4-7)\, and at 2:30 p.m. (ages 8-10). Click here for more information about The Taste.
URL:https://www.cumminglocal.com/event/the-taste-at-cumming-fairgrounds/
LOCATION:Cumming Fairgrounds
CATEGORIES:Fairs & Festivals,Holiday Events
ATTACH;FMTTYPE=image/jpeg:https://www.cumminglocal.com/wp-content/uploads/2020/03/81785688_109267003937961_7141052422943670272_o.jpg
END:VEVENT
BEGIN:VEVENT
DTSTART;TZID=America/New_York:20200411T150000
DTEND;TZID=America/New_York:20200411T160000
DTSTAMP:20260425T101048
CREATED:20200302T140313Z
LAST-MODIFIED:20200302T140313Z
UID:55190-1586617200-1586620800@www.cumminglocal.com
SUMMARY:Advanced Bass Fishing Lures
DESCRIPTION:There are a dozen basic Bass lures that come in hard and soft plastic styles that anglers should learn to use. This class will cover the most common lures used to catch Largemouth Bass\, Spotted Bass and Shoal Bass year-round. Veteran angler Ken Sturdivant will show and demonstrate these lures to anglers\, and he will also have a free Tackle Box List to get anglers started. Ken Sturdivant of Southern Fishing is an expert on fishing in Georgia lakes.
URL:https://www.cumminglocal.com/event/advanced-bass-fishing-lures/
LOCATION:Post Road Library\, 5010 Post Road\, Cumming\, GA\, 30040\, United States
CATEGORIES:Library Events
ATTACH;FMTTYPE=image/jpeg:https://www.cumminglocal.com/wp-content/uploads/2020/02/Image_Credit_-_Ken_Sturdivant_and_Southern_Fishing_-_sunset-signature.jpg
ORGANIZER;CN="Forsyth County Public Library":MAILTO:gloverp@forsythpl.org
END:VEVENT
END:VCALENDAR