BEGIN:VCALENDAR
VERSION:2.0
PRODID:-//Cumming Local - ECPv6.15.17//NONSGML v1.0//EN
CALSCALE:GREGORIAN
METHOD:PUBLISH
X-ORIGINAL-URL:https://www.cumminglocal.com
X-WR-CALDESC:Events for Cumming Local
REFRESH-INTERVAL;VALUE=DURATION:PT1H
X-Robots-Tag:noindex
X-PUBLISHED-TTL:PT1H
BEGIN:VTIMEZONE
TZID:America/New_York
BEGIN:DAYLIGHT
TZOFFSETFROM:-0500
TZOFFSETTO:-0400
TZNAME:EDT
DTSTART:20190310T070000
END:DAYLIGHT
BEGIN:STANDARD
TZOFFSETFROM:-0400
TZOFFSETTO:-0500
TZNAME:EST
DTSTART:20191103T060000
END:STANDARD
BEGIN:DAYLIGHT
TZOFFSETFROM:-0500
TZOFFSETTO:-0400
TZNAME:EDT
DTSTART:20200308T070000
END:DAYLIGHT
BEGIN:STANDARD
TZOFFSETFROM:-0400
TZOFFSETTO:-0500
TZNAME:EST
DTSTART:20201101T060000
END:STANDARD
BEGIN:DAYLIGHT
TZOFFSETFROM:-0500
TZOFFSETTO:-0400
TZNAME:EDT
DTSTART:20210314T070000
END:DAYLIGHT
BEGIN:STANDARD
TZOFFSETFROM:-0400
TZOFFSETTO:-0500
TZNAME:EST
DTSTART:20211107T060000
END:STANDARD
END:VTIMEZONE
BEGIN:VEVENT
DTSTART;TZID=America/New_York:20200304T191500
DTEND;TZID=America/New_York:20200304T200000
DTSTAMP:20260425T142856
CREATED:20200226T004035Z
LAST-MODIFIED:20200226T004035Z
UID:55151-1583349300-1583352000@www.cumminglocal.com
SUMMARY:Meal Prep 101
DESCRIPTION:Don’ t miss this Fun way to experience Dream Dinners meal prep!\nNEW guests can make 3 dinners for $34.95 to take home.  (Last month available at this price)\nEnjoy samples\, tour the kitchen\, see how easy dinner can be.\nBring a friend \, it’s more fun together!
URL:https://www.cumminglocal.com/event/meal-prep-101-4/
LOCATION:Dream Dinners in Cumming\, 539 Lake Center Parkway\, Cumming\, 30040\, United States
ATTACH;FMTTYPE=image/jpeg:https://www.cumminglocal.com/wp-content/uploads/2020/02/meal-prep.jpg
END:VEVENT
END:VCALENDAR