BEGIN:VCALENDAR
VERSION:2.0
PRODID:-//Cumming Local - ECPv6.15.17//NONSGML v1.0//EN
CALSCALE:GREGORIAN
METHOD:PUBLISH
X-ORIGINAL-URL:https://www.cumminglocal.com
X-WR-CALDESC:Events for Cumming Local
REFRESH-INTERVAL;VALUE=DURATION:PT1H
X-Robots-Tag:noindex
X-PUBLISHED-TTL:PT1H
BEGIN:VTIMEZONE
TZID:UTC
BEGIN:STANDARD
TZOFFSETFROM:+0000
TZOFFSETTO:+0000
TZNAME:UTC
DTSTART:20190101T000000
END:STANDARD
END:VTIMEZONE
BEGIN:VEVENT
DTSTART;TZID=UTC:20200303T180000
DTEND;TZID=UTC:20200303T190000
DTSTAMP:20260425T083104
CREATED:20200219T190157Z
LAST-MODIFIED:20200228T103149Z
UID:55048-1583258400-1583262000@www.cumminglocal.com
SUMMARY:City Council Work Session
DESCRIPTION:
URL:https://www.cumminglocal.com/event/city-council-work-session-5/
LOCATION:Cumming City Hall (Gallery B – Second Floor)
END:VEVENT
END:VCALENDAR