BEGIN:VCALENDAR
VERSION:2.0
PRODID:-//Cumming Local - ECPv6.15.17//NONSGML v1.0//EN
CALSCALE:GREGORIAN
METHOD:PUBLISH
X-ORIGINAL-URL:https://www.cumminglocal.com
X-WR-CALDESC:Events for Cumming Local
REFRESH-INTERVAL;VALUE=DURATION:PT1H
X-Robots-Tag:noindex
X-PUBLISHED-TTL:PT1H
BEGIN:VTIMEZONE
TZID:America/New_York
BEGIN:DAYLIGHT
TZOFFSETFROM:-0500
TZOFFSETTO:-0400
TZNAME:EDT
DTSTART:20180311T070000
END:DAYLIGHT
BEGIN:STANDARD
TZOFFSETFROM:-0400
TZOFFSETTO:-0500
TZNAME:EST
DTSTART:20181104T060000
END:STANDARD
BEGIN:DAYLIGHT
TZOFFSETFROM:-0500
TZOFFSETTO:-0400
TZNAME:EDT
DTSTART:20190310T070000
END:DAYLIGHT
BEGIN:STANDARD
TZOFFSETFROM:-0400
TZOFFSETTO:-0500
TZNAME:EST
DTSTART:20191103T060000
END:STANDARD
BEGIN:DAYLIGHT
TZOFFSETFROM:-0500
TZOFFSETTO:-0400
TZNAME:EDT
DTSTART:20200308T070000
END:DAYLIGHT
BEGIN:STANDARD
TZOFFSETFROM:-0400
TZOFFSETTO:-0500
TZNAME:EST
DTSTART:20201101T060000
END:STANDARD
BEGIN:DAYLIGHT
TZOFFSETFROM:-0500
TZOFFSETTO:-0400
TZNAME:EDT
DTSTART:20210314T070000
END:DAYLIGHT
BEGIN:STANDARD
TZOFFSETFROM:-0400
TZOFFSETTO:-0500
TZNAME:EST
DTSTART:20211107T060000
END:STANDARD
END:VTIMEZONE
BEGIN:VEVENT
DTSTART;TZID=America/New_York:20191121T100000
DTEND;TZID=America/New_York:20200222T153000
DTSTAMP:20260425T135814
CREATED:20191122T180645Z
LAST-MODIFIED:20191122T180645Z
UID:53878-1574330400-1582385400@www.cumminglocal.com
SUMMARY:Georgia Milestones / EOG
DESCRIPTION:We offer a six week course in Math\, ELA and Science to prepare your student for these daunting tests. \n8th grade: Math and ELA\n7th grade: Science \nFebruary 22nd – March 28th \nMath: 10-11:30\nReading: 12-3:30\nScience: 2-3:30 \nDuring the first 4 sessions we will teach the major units of each subject. Session 5 will be a review day. If your student misses a session\, this will be the time to make up for that; if your student needs additional support in any area\, we will review applicable content. The final session is a mock exam in order to feel comfortable with the test and pinpoint struggle points where extra studying could be beneficial.  \nPricing:\n$300 / one subject\n$500/ two subjects\n$700/ three subjects \n(Three subjects can be combined between students)  \nContact: taylor@eruditetutors.net \nknowledge-empowered.com \n**Private tutoring offered as well if that is a better fit for your student
URL:https://www.cumminglocal.com/event/georgia-milestones-eog/
LOCATION:Vickery Village\, 5855 South Vickery Street\, Cumming\, GA\, 30040\, United States
ATTACH;FMTTYPE=image/jpeg:https://www.cumminglocal.com/wp-content/uploads/2019/11/68751335_2901653503183275_7529672651707514880_n.jpg
ORGANIZER;CN="Erudite Tutors":MAILTO:deb@eruditetutors.net
END:VEVENT
BEGIN:VEVENT
DTSTART;TZID=America/New_York:20200222T110000
DTEND;TZID=America/New_York:20200222T120000
DTSTAMP:20260425T135814
CREATED:20200201T161516Z
LAST-MODIFIED:20200201T161516Z
UID:54793-1582369200-1582372800@www.cumminglocal.com
SUMMARY:Pruning 101 with the Forsyth County Master Gardeners
DESCRIPTION:You know that your garden needs pruning\, but what do you cut and how? Orlando Beltran of the Forsyth County Master Gardeners will teach you to prune your garden correctly in preparation for Spring. \nOrlando Beltran is a retired machinist. He is an active Forsyth County Master Gardener and a Master Naturalist.
URL:https://www.cumminglocal.com/event/pruning-101-with-the-forsyth-county-master-gardeners/
LOCATION:Sharon Forks Library\, 2820 Old Atlanta Road\, Cumming\, GA\, 30041\, United States
ORGANIZER;CN="Forsyth County Public Library":MAILTO:gloverp@forsythpl.org
END:VEVENT
BEGIN:VEVENT
DTSTART;TZID=America/New_York:20200222T190000
DTEND;TZID=America/New_York:20200222T210000
DTSTAMP:20260425T135814
CREATED:20200115T121609Z
LAST-MODIFIED:20200115T121609Z
UID:54688-1582398000-1582405200@www.cumminglocal.com
SUMMARY:Live Music\, Acoustics Night at Music Authority
DESCRIPTION:Attention local music lovers\, come hear four live acts at Music Authority’s backroom for only $10  per ticket.  Come hear: \n•	Beau Hall\n•	Macartney Reinhardt\n•	Music Authority’s Guitar Ensemble\n•	Cat Carter  \nWhen/Where:  Music Authority\, 123 Merchants Square\, Cumming\, Georgia\, (770) 886-9066 – in the Back Room on Saturday\, Feb. 22\, 7 pm.  \n Music Authority celebrates and promotes local talent through their Backroom at a monthly event. If you are interested in playing at the Acoustics Night contact melissaloggins@att.net.  Check community calendars and the Music Authority website for monthly dates and times.   \nAbout Music Authority:\nFounded in 2002\, Music Authority is an entertainment destination and gathering place for music lovers to share\, celebrate and collaborate. Music Authority empowers musicians to reach beyond their potential through dedicated instruction\, world-class facilities\, music equipment and promotion to building confidence through family\, expert and peer support networks.  Join us at www.musicauthorityinc.com\,  Youtube/musicauthorityga\, @musicauthority2 and Facebook/musicauthority.
URL:https://www.cumminglocal.com/event/live-music-acoustics-night-at-music-authority/
LOCATION:Music Authority\, 123 Merchants Square\, Cumming\, GA\, 30040\, United States
CATEGORIES:Musical/Dance/Theater Events
ATTACH;FMTTYPE=image/jpeg:https://www.cumminglocal.com/wp-content/uploads/2020/01/AcousticsFeb.jpg
ORGANIZER;CN="Music Authority":MAILTO:melissaloggins@att.net
END:VEVENT
END:VCALENDAR