BEGIN:VCALENDAR
VERSION:2.0
PRODID:-//Cumming Local - ECPv6.15.17//NONSGML v1.0//EN
CALSCALE:GREGORIAN
METHOD:PUBLISH
X-WR-CALNAME:Cumming Local
X-ORIGINAL-URL:https://www.cumminglocal.com
X-WR-CALDESC:Events for Cumming Local
REFRESH-INTERVAL;VALUE=DURATION:PT1H
X-Robots-Tag:noindex
X-PUBLISHED-TTL:PT1H
BEGIN:VTIMEZONE
TZID:America/New_York
BEGIN:DAYLIGHT
TZOFFSETFROM:-0500
TZOFFSETTO:-0400
TZNAME:EDT
DTSTART:20180311T070000
END:DAYLIGHT
BEGIN:STANDARD
TZOFFSETFROM:-0400
TZOFFSETTO:-0500
TZNAME:EST
DTSTART:20181104T060000
END:STANDARD
BEGIN:DAYLIGHT
TZOFFSETFROM:-0500
TZOFFSETTO:-0400
TZNAME:EDT
DTSTART:20190310T070000
END:DAYLIGHT
BEGIN:STANDARD
TZOFFSETFROM:-0400
TZOFFSETTO:-0500
TZNAME:EST
DTSTART:20191103T060000
END:STANDARD
BEGIN:DAYLIGHT
TZOFFSETFROM:-0500
TZOFFSETTO:-0400
TZNAME:EDT
DTSTART:20200308T070000
END:DAYLIGHT
BEGIN:STANDARD
TZOFFSETFROM:-0400
TZOFFSETTO:-0500
TZNAME:EST
DTSTART:20201101T060000
END:STANDARD
BEGIN:DAYLIGHT
TZOFFSETFROM:-0500
TZOFFSETTO:-0400
TZNAME:EDT
DTSTART:20210314T070000
END:DAYLIGHT
BEGIN:STANDARD
TZOFFSETFROM:-0400
TZOFFSETTO:-0500
TZNAME:EST
DTSTART:20211107T060000
END:STANDARD
END:VTIMEZONE
BEGIN:VEVENT
DTSTART;TZID=America/New_York:20191121T100000
DTEND;TZID=America/New_York:20200222T153000
DTSTAMP:20260425T200548
CREATED:20191122T180645Z
LAST-MODIFIED:20191122T180645Z
UID:53878-1574330400-1582385400@www.cumminglocal.com
SUMMARY:Georgia Milestones / EOG
DESCRIPTION:We offer a six week course in Math\, ELA and Science to prepare your student for these daunting tests. \n8th grade: Math and ELA\n7th grade: Science \nFebruary 22nd – March 28th \nMath: 10-11:30\nReading: 12-3:30\nScience: 2-3:30 \nDuring the first 4 sessions we will teach the major units of each subject. Session 5 will be a review day. If your student misses a session\, this will be the time to make up for that; if your student needs additional support in any area\, we will review applicable content. The final session is a mock exam in order to feel comfortable with the test and pinpoint struggle points where extra studying could be beneficial.  \nPricing:\n$300 / one subject\n$500/ two subjects\n$700/ three subjects \n(Three subjects can be combined between students)  \nContact: taylor@eruditetutors.net \nknowledge-empowered.com \n**Private tutoring offered as well if that is a better fit for your student
URL:https://www.cumminglocal.com/event/georgia-milestones-eog/
LOCATION:Vickery Village\, 5855 South Vickery Street\, Cumming\, GA\, 30040\, United States
ATTACH;FMTTYPE=image/jpeg:https://www.cumminglocal.com/wp-content/uploads/2019/11/68751335_2901653503183275_7529672651707514880_n.jpg
ORGANIZER;CN="Erudite Tutors":MAILTO:deb@eruditetutors.net
END:VEVENT
BEGIN:VEVENT
DTSTART;TZID=America/New_York:20200207T100000
DTEND;TZID=America/New_York:20200221T190000
DTSTAMP:20260425T200548
CREATED:20200109T120007Z
LAST-MODIFIED:20200109T120007Z
UID:54239-1581069600-1582311600@www.cumminglocal.com
SUMMARY:Annapurna Region Trekking Tours in Nepal
DESCRIPTION:Bookmountaintours gives you the opportunity to witness the lush green woods\, lavish huts\, ethnic villages\, rugged trekking trails\, and exotic wildlife by participating in various trekking tours in Nepal.\nThe country is blessed with amazing cultural and natural diversity and so attracts a huge number of travelers and tourists every year. Beautiful quaint mountain villages and captivating scenic and heavenly scenes of Mother Nature make Nepal Trekking Tours a favorite. Be a part of this long\, epic and unforgettable trip for a life-changing experience.  \nProgram Description \nNepal has many famous and ideal destinations for trekking and hiking. One of the popular destinations is a trek within the mountain ranges of Central Nepal that is Annapurna Base Camp Trekking. The trek passes through some of the world’s highest mountains and vast climatic zones. The trek encircles the heavenly beautiful Annapurna Massif and the path reaches the highest point at Thorung La Pass touching the Tibetan Plateau. The trek begins at Besisahar or Bhulbhule in the valley called Marshyangdi River.  \nHighlights \n•	Reverential scenic beauty of Annapurna Sisters such as Annapurna South\, Annapurna III and Annapurna Fang\n•	Breathtaking and death-defying heights of Tent Peak\, Ganga Purna and Huinchuli and Kangsar Kang\n•	Adventurous trip to enthralling Alpine landscape\n•	Spellbinding views of some of the highest snow-capped peaks of the world such as Annapurna Massif which includes the mountains like Manaslu\, Gangapurna\, Dhaulagiri\, Tiloche\, Machapuchare\, Pauganda Danda and Pisang Peak\n•	A chance to seek hospitality of the Nepalese people\, to know their ancient culture\, taste their traditional food and learn about their regional language and clothing\n•	Taste the staple food and local delicacies such as momos\, rice and steam dal\n•	You must try mountain biking to try something exciting\n•	You can make new friends and enrich your social interaction capability \nFacilities \nBookmountaintours makes sure that the travelers are provided great facilities so that they can focus on trekking without any obstacle.\n•	Safe\, comfortable and quick Pick and drop facility to the Airport\n•	Homely and cozy accommodation at tea-houses\, camps and tents under the beautiful sky\n•	Serving of delicious and tasty food thrice a day\n•	Presence of knowledgeable\, certified and English-speaking guide for your help\n•	Porters who would help you to carry extra luggage and bags\n•	Evacuation Team is available 24*7\n•	First-aid kit and Oxygen bottles \nAbout Bookmountaintours \nBookmountaintours is a team of adventurists who invite everyone to travel without boundaries. The idea is to transverse the world without any cultural or demographic connotations. Discover the world in a better way with the inspiring and enthusiastic travel fanatics. The team helps you to know and understand the various cultural and natural diversifications by enabling you the easier ways of traveling.
URL:https://www.cumminglocal.com/event/annapurna-region-trekking-tours-in-nepal/
LOCATION:None Specified
ATTACH;FMTTYPE=image/jpeg:https://www.cumminglocal.com/wp-content/uploads/2020/01/Annapurna-Base-Camp-Trekking.jpg
END:VEVENT
BEGIN:VEVENT
DTSTART;TZID=America/New_York:20200211T180000
DTEND;TZID=America/New_York:20200211T210000
DTSTAMP:20260425T200548
CREATED:20200201T163019Z
LAST-MODIFIED:20200201T163019Z
UID:54852-1581444000-1581454800@www.cumminglocal.com
SUMMARY:Ladies Night Out: Galentine's Party
DESCRIPTION:You bring your girlfriends – we’ll bring the fun!  \nJoin us for Halcyon’s first-ever Galentine’s Party. We’re putting together such a great night for you with swag bags (for the 1st 50 to check in)\, giveaways\, samples\, crafting\, sipping\, sampling\, a lot of laughing and so much more! And if all goes according to plan\, we have a few brand new tenants who are excited to meet you that night too! \nPre-registration is requested. Your $10 entry is a donation directly to Mentor Me North Georgia\, a nonprofit organization dedicated to serving children ages 6-17 in Forsyth County. Since 2002\, they have been connecting mentors with children in need and improving their self-image\, life choices and opportunities.
URL:https://www.cumminglocal.com/event/galentines-party/
LOCATION:Halcyon\, 6365 Halcyon Way\, Alpharetta\, GA\, 30005\, United States
CATEGORIES:Holiday Events
ATTACH;FMTTYPE=image/jpeg:https://www.cumminglocal.com/wp-content/uploads/2020/02/82645181_2604483166503213_499133830393757696_o.jpg
ORGANIZER;CN="Halcyon":MAILTO:info@visithalcyon.com
END:VEVENT
BEGIN:VEVENT
DTSTART;TZID=America/New_York:20200211T190000
DTEND;TZID=America/New_York:20200211T200000
DTSTAMP:20260425T200548
CREATED:20200201T161516Z
LAST-MODIFIED:20200201T161516Z
UID:54783-1581447600-1581451200@www.cumminglocal.com
SUMMARY:Atlanta History Center presents African American History
DESCRIPTION:Where should a person go to learn about the history of African American life in Atlanta? The Atlanta History Center\, of course. \nPaul Crater from the Atlanta History Center will inform patrons about all that the Kenan Research Center has to offer about African Americans in Atlanta and surrounding areas. Mr. Crater will focus on how the collection documents African American life in Atlanta\, in politics; civil rights; business; criminal justice; sports; as well as life for enslaved African Americans before and during the Civil War. You will also learn how to access these materials and digital samples from the collection. \nPaul Crater is Vice President of Collections and Research Services at the Atlanta History Center. He manages the Kenan Research Center\, a center for the study of Atlanta and southern regional history and culture. He is the author of three photography books on the history of Atlanta\, including Baseball in Atlanta\, World War II in Atlanta\, and co-author of Lost Atlanta\, published in 2015. He is the curator of Voices Across the Color Line\, an award-winning exhibition of the Atlanta Student Movement that appeared at the Atlanta History Center in 2010. In 2014\, The National Academy of Television Arts and Sciences (NATAS) Southeast Chapter awarded him an Emmy for his contribution in the development of 37 Weeks: Sherman on the March\, which aired on Georgia Public Broadcasting. He is a graduate of the University of Tennessee\, Knoxville and Georgia State University. \nCelebrating African-American History is sponsored by FCPL Friends & Advocates.
URL:https://www.cumminglocal.com/event/atlanta-history-center-presents-african-american-history/
LOCATION:Sharon Forks Library\, 2820 Old Atlanta Road\, Cumming\, GA\, 30041\, United States
ORGANIZER;CN="Forsyth County Public Library":MAILTO:gloverp@forsythpl.org
END:VEVENT
END:VCALENDAR