BEGIN:VCALENDAR
VERSION:2.0
PRODID:-//Cumming Local - ECPv6.15.17//NONSGML v1.0//EN
CALSCALE:GREGORIAN
METHOD:PUBLISH
X-ORIGINAL-URL:https://www.cumminglocal.com
X-WR-CALDESC:Events for Cumming Local
REFRESH-INTERVAL;VALUE=DURATION:PT1H
X-Robots-Tag:noindex
X-PUBLISHED-TTL:PT1H
BEGIN:VTIMEZONE
TZID:America/New_York
BEGIN:DAYLIGHT
TZOFFSETFROM:-0500
TZOFFSETTO:-0400
TZNAME:EDT
DTSTART:20180311T070000
END:DAYLIGHT
BEGIN:STANDARD
TZOFFSETFROM:-0400
TZOFFSETTO:-0500
TZNAME:EST
DTSTART:20181104T060000
END:STANDARD
BEGIN:DAYLIGHT
TZOFFSETFROM:-0500
TZOFFSETTO:-0400
TZNAME:EDT
DTSTART:20190310T070000
END:DAYLIGHT
BEGIN:STANDARD
TZOFFSETFROM:-0400
TZOFFSETTO:-0500
TZNAME:EST
DTSTART:20191103T060000
END:STANDARD
BEGIN:DAYLIGHT
TZOFFSETFROM:-0500
TZOFFSETTO:-0400
TZNAME:EDT
DTSTART:20200308T070000
END:DAYLIGHT
BEGIN:STANDARD
TZOFFSETFROM:-0400
TZOFFSETTO:-0500
TZNAME:EST
DTSTART:20201101T060000
END:STANDARD
BEGIN:DAYLIGHT
TZOFFSETFROM:-0500
TZOFFSETTO:-0400
TZNAME:EDT
DTSTART:20210314T070000
END:DAYLIGHT
BEGIN:STANDARD
TZOFFSETFROM:-0400
TZOFFSETTO:-0500
TZNAME:EST
DTSTART:20211107T060000
END:STANDARD
END:VTIMEZONE
BEGIN:VEVENT
DTSTART;TZID=America/New_York:20191121T100000
DTEND;TZID=America/New_York:20200222T153000
DTSTAMP:20260425T142857
CREATED:20191122T180645Z
LAST-MODIFIED:20191122T180645Z
UID:53878-1574330400-1582385400@www.cumminglocal.com
SUMMARY:Georgia Milestones / EOG
DESCRIPTION:We offer a six week course in Math\, ELA and Science to prepare your student for these daunting tests. \n8th grade: Math and ELA\n7th grade: Science \nFebruary 22nd – March 28th \nMath: 10-11:30\nReading: 12-3:30\nScience: 2-3:30 \nDuring the first 4 sessions we will teach the major units of each subject. Session 5 will be a review day. If your student misses a session\, this will be the time to make up for that; if your student needs additional support in any area\, we will review applicable content. The final session is a mock exam in order to feel comfortable with the test and pinpoint struggle points where extra studying could be beneficial.  \nPricing:\n$300 / one subject\n$500/ two subjects\n$700/ three subjects \n(Three subjects can be combined between students)  \nContact: taylor@eruditetutors.net \nknowledge-empowered.com \n**Private tutoring offered as well if that is a better fit for your student
URL:https://www.cumminglocal.com/event/georgia-milestones-eog/
LOCATION:Vickery Village\, 5855 South Vickery Street\, Cumming\, GA\, 30040\, United States
ATTACH;FMTTYPE=image/jpeg:https://www.cumminglocal.com/wp-content/uploads/2019/11/68751335_2901653503183275_7529672651707514880_n.jpg
ORGANIZER;CN="Erudite Tutors":MAILTO:deb@eruditetutors.net
END:VEVENT
BEGIN:VEVENT
DTSTART;TZID=America/New_York:20200205T180000
DTEND;TZID=America/New_York:20200205T190000
DTSTAMP:20260425T142857
CREATED:20200201T161615Z
LAST-MODIFIED:20200201T161615Z
UID:54729-1580925600-1580929200@www.cumminglocal.com
SUMMARY:Meal Prep Workshop 101  February Menu
DESCRIPTION:It’s the PERFECT TIME to try the Dream Dinners Meal Prep system\nIf you’ve tried the boxes and still feel something is missing or it’s just not the right solution for your family\, come talk to us.  \nNew to Dream Dinners OR haven’t attended a session in over a year?  Attend this Open House Workshop Event to learn about the Dream Dinners Meal Prep system\, Enjoy Samples\, and “Make & Take” 3 Dinners!\n All for only $34.99 .  (P.S.–this price is going up soon\, get this great offer while still available!) \nThis is our VERY BEST NEW GUEST OFFER! Follow the link to view the menu choices\, place your order \, and reserve your spot.  Limited to 6 spots! Bring a friend–it’s more fun together.   (Available for NEW guests OR those who haven’t attended a session in over a year) \n*Wednesday February 5  at 6:00 pm\nhttps://dreamdinners.com/session/827348
URL:https://www.cumminglocal.com/event/meal-prep-workshop-101-february-menu/
LOCATION:Dream Dinners in Cumming\, 539 Lake Center Parkway\, Cumming\, 30040\, United States
ATTACH;FMTTYPE=image/jpeg:https://www.cumminglocal.com/wp-content/uploads/2020/01/jan-OHDT-cover-photo.jpg
ORGANIZER;CN="Dream Dinners in Cumming":MAILTO:Cummingga@dreamdinners.com
END:VEVENT
BEGIN:VEVENT
DTSTART;TZID=America/New_York:20200205T190000
DTEND;TZID=America/New_York:20200205T200000
DTSTAMP:20260425T142857
CREATED:20200201T161517Z
LAST-MODIFIED:20200201T161517Z
UID:54779-1580929200-1580932800@www.cumminglocal.com
SUMMARY:Great Decisions
DESCRIPTION:Great Decisions is America’s largest discussion on world affairs. Forsyth County Public Library and the University of North Georgia (UNG) will present information and lead discussions on a range of fascinating and timely geopolitical topics. \nEach session will be held at the Cumming Library\, 585 Dahlonega Street\, Cumming\, and will be led by a member of the UNG faculty. \nGreat Decisions 2020 topics include: \nFebruary 5: India and Pakistan\nFebruary 12: Red Sea Security\nFebruary 19: Modern Slavery and Human Trafficking\nFebruary 26: U.S. Relations with the Northern Triangle\nMarch 4: China’s Road into Latin America\nMarch 11: The Philippines and the U.S.\nMarch 18: Artificial Intelligence and Data
URL:https://www.cumminglocal.com/event/great-decisions/
LOCATION:Cumming Library\, 585 Dahlonega Street\, Cumming\, GA\, 30040\, United States
ORGANIZER;CN="Forsyth County Public Library":MAILTO:gloverp@forsythpl.org
END:VEVENT
END:VCALENDAR