BEGIN:VCALENDAR
VERSION:2.0
PRODID:-//Cumming Local - ECPv6.15.17//NONSGML v1.0//EN
CALSCALE:GREGORIAN
METHOD:PUBLISH
X-WR-CALNAME:Cumming Local
X-ORIGINAL-URL:https://www.cumminglocal.com
X-WR-CALDESC:Events for Cumming Local
REFRESH-INTERVAL;VALUE=DURATION:PT1H
X-Robots-Tag:noindex
X-PUBLISHED-TTL:PT1H
BEGIN:VTIMEZONE
TZID:America/New_York
BEGIN:DAYLIGHT
TZOFFSETFROM:-0500
TZOFFSETTO:-0400
TZNAME:EDT
DTSTART:20180311T070000
END:DAYLIGHT
BEGIN:STANDARD
TZOFFSETFROM:-0400
TZOFFSETTO:-0500
TZNAME:EST
DTSTART:20181104T060000
END:STANDARD
BEGIN:DAYLIGHT
TZOFFSETFROM:-0500
TZOFFSETTO:-0400
TZNAME:EDT
DTSTART:20190310T070000
END:DAYLIGHT
BEGIN:STANDARD
TZOFFSETFROM:-0400
TZOFFSETTO:-0500
TZNAME:EST
DTSTART:20191103T060000
END:STANDARD
BEGIN:DAYLIGHT
TZOFFSETFROM:-0500
TZOFFSETTO:-0400
TZNAME:EDT
DTSTART:20200308T070000
END:DAYLIGHT
BEGIN:STANDARD
TZOFFSETFROM:-0400
TZOFFSETTO:-0500
TZNAME:EST
DTSTART:20201101T060000
END:STANDARD
BEGIN:DAYLIGHT
TZOFFSETFROM:-0500
TZOFFSETTO:-0400
TZNAME:EDT
DTSTART:20210314T070000
END:DAYLIGHT
BEGIN:STANDARD
TZOFFSETFROM:-0400
TZOFFSETTO:-0500
TZNAME:EST
DTSTART:20211107T060000
END:STANDARD
END:VTIMEZONE
BEGIN:VEVENT
DTSTART;TZID=America/New_York:20191121T100000
DTEND;TZID=America/New_York:20200222T153000
DTSTAMP:20260423T230929
CREATED:20191122T180645Z
LAST-MODIFIED:20191122T180645Z
UID:53878-1574330400-1582385400@www.cumminglocal.com
SUMMARY:Georgia Milestones / EOG
DESCRIPTION:We offer a six week course in Math\, ELA and Science to prepare your student for these daunting tests. \n8th grade: Math and ELA\n7th grade: Science \nFebruary 22nd – March 28th \nMath: 10-11:30\nReading: 12-3:30\nScience: 2-3:30 \nDuring the first 4 sessions we will teach the major units of each subject. Session 5 will be a review day. If your student misses a session\, this will be the time to make up for that; if your student needs additional support in any area\, we will review applicable content. The final session is a mock exam in order to feel comfortable with the test and pinpoint struggle points where extra studying could be beneficial.  \nPricing:\n$300 / one subject\n$500/ two subjects\n$700/ three subjects \n(Three subjects can be combined between students)  \nContact: taylor@eruditetutors.net \nknowledge-empowered.com \n**Private tutoring offered as well if that is a better fit for your student
URL:https://www.cumminglocal.com/event/georgia-milestones-eog/
LOCATION:Vickery Village\, 5855 South Vickery Street\, Cumming\, GA\, 30040\, United States
ATTACH;FMTTYPE=image/jpeg:https://www.cumminglocal.com/wp-content/uploads/2019/11/68751335_2901653503183275_7529672651707514880_n.jpg
ORGANIZER;CN="Erudite Tutors":MAILTO:deb@eruditetutors.net
END:VEVENT
BEGIN:VEVENT
DTSTART;TZID=America/New_York:20200201T113000
DTEND;TZID=America/New_York:20200201T133000
DTSTAMP:20260423T230929
CREATED:20200201T161517Z
LAST-MODIFIED:20200201T161517Z
UID:54771-1580556600-1580563800@www.cumminglocal.com
SUMMARY:Not Your Mama's Decoupage! Make & Take Workshop Feb 1st
DESCRIPTION:Many people have distant memories of decoupaging a project in school or watching mom glue paper onto wood or glass to make objects of art. Well times have changed! \nThe ancient art has gotten a face lift. \nGone are the small napkins\, tissue paper and white glue. Now\, large\, durable\, beautifully patterned paper is used that can cover your furniture. \nJoin us inside Out of the Cedar Chest Antiques in Cumming GA (off Hwy 9 next to Planet Fitness) on Saturday Feb 1st for a two hour hands on class. Beginners Welcome!!! \nYou will learn how to decoupage using the latest techniques and you will walk away with a gorgeous 18″ Farmhouse Tray. \nSaturday Feb 1st 11:30a to 1:30p\n$45 per attendee (includes paint and all tools and supplies)\nReserve your seat in advance. \nREGISTER at the following link: \nhttp://bit.ly/gvdworkshop
URL:https://www.cumminglocal.com/event/not-your-mamas-decoupage-make-take-workshop-feb-1st/
LOCATION:Out of the Cedar Chest Antiques\, 129b Merchant's Circle\, Cumming\, GA\, 30040\, United States
CATEGORIES:Arts & Crafts,Workshops
ATTACH;FMTTYPE=image/jpeg:https://www.cumminglocal.com/wp-content/uploads/2020/01/IMG_2958.jpg
ORGANIZER;CN="Georgia Vintage":MAILTO:info@georgiavintage.com
END:VEVENT
BEGIN:VEVENT
DTSTART;TZID=America/New_York:20200201T130000
DTEND;TZID=America/New_York:20200201T150000
DTSTAMP:20260423T230929
CREATED:20200201T161615Z
LAST-MODIFIED:20200201T161615Z
UID:54739-1580562000-1580569200@www.cumminglocal.com
SUMMARY:Beginner Yoga Workshop
DESCRIPTION:This workshop is designed for those who have never done yoga before or beginner yogis looking to learn some key things to creating and sustaining a yoga practice.  \nWe understand that starting your yoga journey isn’t only a physical thing. Sometimes it’s scary to walk into a studio and feel like you’re the only one who doesn’t know whats going on. It’s like going to a new school. We get it. We want you to feel comfortable\, this is your space too. We’re a family. \n$35/student\nhttps://www.wellnessliving.com/rs/event/village-yoga?k_class=130809&k_class_tab=13840&fbclid=IwAR1ZMsffAhxQocUV_UZz5OygHYsFFnKkWWDbX6Q8bor1H1PyaB6-MsAxxC0
URL:https://www.cumminglocal.com/event/beginner-yoga-workshop/
LOCATION:Village Yoga\, 5854 N Vickery St\, Suite J1\, Cumming\, GA\, 30040\, United States
CATEGORIES:Fitness Events/Races,Workshops
ATTACH;FMTTYPE=image/png:https://www.cumminglocal.com/wp-content/uploads/2020/01/INTRO-TO-YOGA.png
ORGANIZER;CN="Village Yoga":MAILTO:info@village-yoga.com
END:VEVENT
END:VCALENDAR