BEGIN:VCALENDAR
VERSION:2.0
PRODID:-//Cumming Local - ECPv6.15.17//NONSGML v1.0//EN
CALSCALE:GREGORIAN
METHOD:PUBLISH
X-ORIGINAL-URL:https://www.cumminglocal.com
X-WR-CALDESC:Events for Cumming Local
REFRESH-INTERVAL;VALUE=DURATION:PT1H
X-Robots-Tag:noindex
X-PUBLISHED-TTL:PT1H
BEGIN:VTIMEZONE
TZID:America/New_York
BEGIN:DAYLIGHT
TZOFFSETFROM:-0500
TZOFFSETTO:-0400
TZNAME:EDT
DTSTART:20180311T070000
END:DAYLIGHT
BEGIN:STANDARD
TZOFFSETFROM:-0400
TZOFFSETTO:-0500
TZNAME:EST
DTSTART:20181104T060000
END:STANDARD
BEGIN:DAYLIGHT
TZOFFSETFROM:-0500
TZOFFSETTO:-0400
TZNAME:EDT
DTSTART:20190310T070000
END:DAYLIGHT
BEGIN:STANDARD
TZOFFSETFROM:-0400
TZOFFSETTO:-0500
TZNAME:EST
DTSTART:20191103T060000
END:STANDARD
BEGIN:DAYLIGHT
TZOFFSETFROM:-0500
TZOFFSETTO:-0400
TZNAME:EDT
DTSTART:20200308T070000
END:DAYLIGHT
BEGIN:STANDARD
TZOFFSETFROM:-0400
TZOFFSETTO:-0500
TZNAME:EST
DTSTART:20201101T060000
END:STANDARD
BEGIN:DAYLIGHT
TZOFFSETFROM:-0500
TZOFFSETTO:-0400
TZNAME:EDT
DTSTART:20210314T070000
END:DAYLIGHT
BEGIN:STANDARD
TZOFFSETFROM:-0400
TZOFFSETTO:-0500
TZNAME:EST
DTSTART:20211107T060000
END:STANDARD
END:VTIMEZONE
BEGIN:VEVENT
DTSTART;TZID=America/New_York:20191121T100000
DTEND;TZID=America/New_York:20200222T153000
DTSTAMP:20260423T143925
CREATED:20191122T180645Z
LAST-MODIFIED:20191122T180645Z
UID:53878-1574330400-1582385400@www.cumminglocal.com
SUMMARY:Georgia Milestones / EOG
DESCRIPTION:We offer a six week course in Math\, ELA and Science to prepare your student for these daunting tests. \n8th grade: Math and ELA\n7th grade: Science \nFebruary 22nd – March 28th \nMath: 10-11:30\nReading: 12-3:30\nScience: 2-3:30 \nDuring the first 4 sessions we will teach the major units of each subject. Session 5 will be a review day. If your student misses a session\, this will be the time to make up for that; if your student needs additional support in any area\, we will review applicable content. The final session is a mock exam in order to feel comfortable with the test and pinpoint struggle points where extra studying could be beneficial.  \nPricing:\n$300 / one subject\n$500/ two subjects\n$700/ three subjects \n(Three subjects can be combined between students)  \nContact: taylor@eruditetutors.net \nknowledge-empowered.com \n**Private tutoring offered as well if that is a better fit for your student
URL:https://www.cumminglocal.com/event/georgia-milestones-eog/
LOCATION:Vickery Village\, 5855 South Vickery Street\, Cumming\, GA\, 30040\, United States
ATTACH;FMTTYPE=image/jpeg:https://www.cumminglocal.com/wp-content/uploads/2019/11/68751335_2901653503183275_7529672651707514880_n.jpg
ORGANIZER;CN="Erudite Tutors":MAILTO:deb@eruditetutors.net
END:VEVENT
BEGIN:VEVENT
DTSTART;TZID=America/New_York:20200108T093000
DTEND;TZID=America/New_York:20200108T093000
DTSTAMP:20260423T143925
CREATED:20200109T120008Z
LAST-MODIFIED:20200109T120008Z
UID:54210-1578475800-1578475800@www.cumminglocal.com
SUMMARY:Two Day Painting Workshop with Acclaimed Artist Bonnie Flood
DESCRIPTION:Learn how light and shadow affect your painting with acclaimed artist Bonnie Flood. Don’t miss this opportunity to participate in the 2-day workshop at the Cumming Art Center (Brannon Heard House) in downtown Cumming on Jan 8-9. Visit Sawneeart.org for registration information.
URL:https://www.cumminglocal.com/event/two-day-painting-workshop-with-acclaimed-artist-bonnie-flood/
LOCATION:Cumming Art Center\, 111 Pilgrim Mill Rd\, Cumming\, GA\, 30040\, United States
ORGANIZER;CN="Sawnee Asscociation of the Arts":MAILTO:Sawneeart@gmail.com
END:VEVENT
BEGIN:VEVENT
DTSTART;TZID=America/New_York:20200108T103000
DTEND;TZID=America/New_York:20200108T120000
DTSTAMP:20260423T143925
CREATED:20200109T120008Z
LAST-MODIFIED:20200109T120008Z
UID:54219-1578479400-1578484800@www.cumminglocal.com
SUMMARY:Discovery Days Kids Club
DESCRIPTION:Preschoolers are invited to Halcyon’s Discovery Days Kids Club! Enjoy crafts\, activities\, animal encounters\, walks on the nature trail and so much more each Wednesday in the Village Green at Halcyon. We do require that a parent or guardian stay with each child during the program. Stay after the program and enjoy lunch\, snacks or sweet treats at one of our kid-friendly restaurants! \nKids Club is held rain or shine. We will hold activities inside in our Market Hall during inclement weather (rainy days or temps below 60 degrees) \nWeather notices will be posted on the event page.
URL:https://www.cumminglocal.com/event/discovery-days-kids-club-2/
LOCATION:Halcyon\, 6365 Halcyon Way\, Alpharetta\, GA\, 30005\, United States
CATEGORIES:Arts & Crafts
ATTACH;FMTTYPE=image/jpeg:https://www.cumminglocal.com/wp-content/uploads/2020/01/DiscoveryDays_KidsClub_Logo.jpg
ORGANIZER;CN="Halcyon":MAILTO:info@visithalcyon.com
END:VEVENT
END:VCALENDAR