BEGIN:VCALENDAR
VERSION:2.0
PRODID:-//Cumming Local - ECPv6.15.17//NONSGML v1.0//EN
CALSCALE:GREGORIAN
METHOD:PUBLISH
X-WR-CALNAME:Cumming Local
X-ORIGINAL-URL:https://www.cumminglocal.com
X-WR-CALDESC:Events for Cumming Local
REFRESH-INTERVAL;VALUE=DURATION:PT1H
X-Robots-Tag:noindex
X-PUBLISHED-TTL:PT1H
BEGIN:VTIMEZONE
TZID:America/New_York
BEGIN:DAYLIGHT
TZOFFSETFROM:-0500
TZOFFSETTO:-0400
TZNAME:EDT
DTSTART:20180311T070000
END:DAYLIGHT
BEGIN:STANDARD
TZOFFSETFROM:-0400
TZOFFSETTO:-0500
TZNAME:EST
DTSTART:20181104T060000
END:STANDARD
BEGIN:DAYLIGHT
TZOFFSETFROM:-0500
TZOFFSETTO:-0400
TZNAME:EDT
DTSTART:20190310T070000
END:DAYLIGHT
BEGIN:STANDARD
TZOFFSETFROM:-0400
TZOFFSETTO:-0500
TZNAME:EST
DTSTART:20191103T060000
END:STANDARD
BEGIN:DAYLIGHT
TZOFFSETFROM:-0500
TZOFFSETTO:-0400
TZNAME:EDT
DTSTART:20200308T070000
END:DAYLIGHT
BEGIN:STANDARD
TZOFFSETFROM:-0400
TZOFFSETTO:-0500
TZNAME:EST
DTSTART:20201101T060000
END:STANDARD
BEGIN:DAYLIGHT
TZOFFSETFROM:-0500
TZOFFSETTO:-0400
TZNAME:EDT
DTSTART:20210314T070000
END:DAYLIGHT
BEGIN:STANDARD
TZOFFSETFROM:-0400
TZOFFSETTO:-0500
TZNAME:EST
DTSTART:20211107T060000
END:STANDARD
END:VTIMEZONE
BEGIN:VEVENT
DTSTART;TZID=America/New_York:20191121T100000
DTEND;TZID=America/New_York:20200222T153000
DTSTAMP:20260421T103707
CREATED:20191122T180645Z
LAST-MODIFIED:20191122T180645Z
UID:53878-1574330400-1582385400@www.cumminglocal.com
SUMMARY:Georgia Milestones / EOG
DESCRIPTION:We offer a six week course in Math\, ELA and Science to prepare your student for these daunting tests. \n8th grade: Math and ELA\n7th grade: Science \nFebruary 22nd – March 28th \nMath: 10-11:30\nReading: 12-3:30\nScience: 2-3:30 \nDuring the first 4 sessions we will teach the major units of each subject. Session 5 will be a review day. If your student misses a session\, this will be the time to make up for that; if your student needs additional support in any area\, we will review applicable content. The final session is a mock exam in order to feel comfortable with the test and pinpoint struggle points where extra studying could be beneficial.  \nPricing:\n$300 / one subject\n$500/ two subjects\n$700/ three subjects \n(Three subjects can be combined between students)  \nContact: taylor@eruditetutors.net \nknowledge-empowered.com \n**Private tutoring offered as well if that is a better fit for your student
URL:https://www.cumminglocal.com/event/georgia-milestones-eog/
LOCATION:Vickery Village\, 5855 South Vickery Street\, Cumming\, GA\, 30040\, United States
ATTACH;FMTTYPE=image/jpeg:https://www.cumminglocal.com/wp-content/uploads/2019/11/68751335_2901653503183275_7529672651707514880_n.jpg
ORGANIZER;CN="Erudite Tutors":MAILTO:deb@eruditetutors.net
END:VEVENT
BEGIN:VEVENT
DTSTART;TZID=America/New_York:20191201T180000
DTEND;TZID=America/New_York:20200101T230000
DTSTAMP:20260421T103707
CREATED:20191013T194457Z
LAST-MODIFIED:20191118T151214Z
UID:53286-1575223200-1577919600@www.cumminglocal.com
SUMMARY:2019 Operation Griswold 5.0 More Spectacular!
DESCRIPTION:New Revision: By Joey and Laura Tirico\nLocated at 104 Wolf Creek Court Cumming\, GA 30028\nInspired by the hit movie Christmas Vacation\, “Operation Griswold” and now Forsyths County “Gingerbread House” was born five years ago! A work in progress\, my wife and I have enjoyed decorating our home for the Christmas holidays since moving to Cumming over nine years ago. We immediately fell in love with the Norman Rockwell countryside setting and friendly people. It is those friends and neighbors who inspire us every year to make each Christmas even more special than the last. \nThe day following Thanksgiving\, its lights\, ladders\, and action! Resembling the set of a major motion picture\, Operation Griswold 5.0 (the fifth year) is underway! Over 50\,000 lights and counting now currently adorn the front yard taking about 30 days to finish. It definitely gets the attention of all the neighborhood kids who are mesmerized by the overwhelming beauty of lighted candy canes\, ice cycles\, lighted wreaths and 20-foot tall decorated Christmas tree in our front yard. Parents comment on how it brings back such fond memories of childhood\, making our efforts so worthwhile. \nWhile the outside can probably be seen from outer space\, the inside is a totally different story. Inspired by visits each year to the Biltmore House in Asheville\, NC\, the inside is an elegant array of formal dining and entertaining. Whether it’s an informal bonfire in the backyard with close neighbors or a formal dinner with family\, we love our home and living in such a picturesque neighborhood. We wish all of our friends and neighbors in the Wolf Creek Subdivision and surrounding community a very Merry Christmas and Blessed New Year!
URL:https://www.cumminglocal.com/event/2019-operation-griswold-5-0-more-spectacular/
LOCATION:Operation Griswold\, 104 Wolf Creek Court\, Cumming\, GA\, 30028\, United States
CATEGORIES:Holiday Events
ATTACH;FMTTYPE=image/jpeg:https://www.cumminglocal.com/wp-content/uploads/2019/10/20181127_180339-scaled.jpg
END:VEVENT
BEGIN:VEVENT
DTSTART;TZID=America/New_York:20191207T100000
DTEND;TZID=America/New_York:20191214T190000
DTSTAMP:20260421T103707
CREATED:20191122T180644Z
LAST-MODIFIED:20191122T180644Z
UID:53894-1575712800-1576350000@www.cumminglocal.com
SUMMARY:Ayurveda Training School in Kerala India
DESCRIPTION:Discover the mystical and divine world of the Vedic sciences with Ayurveda courses in India. This alternate form of medicine was originated about 5\,000 years ago by the sages of India in order to promote a healthy and disease-free lifestyle. The traditional science of Ayurveda provides simple yet sophisticated healing solutions and treatments to deal with various physical and mental ailments. Let’s unveil the healing techniques of Ayurveda and establish balance and harmony in our day to day life. \nProgram Description: \nAyurveda Courses in Kerala aims at unleashing the inner and outer wisdom of ancient Vedic Philosophies through a well-structured curriculum. These courses are week-long and impart the basic knowledge of Ayurveda including Ayurveda treatments\, Medications\, Dietary consumption as per the dosha\, its principles\, and many more. Gain balance in life and cherish the beauty of this world with an Ayurveda based lifestyle. \nProgram Highlights:\n•	Basic fundamentals of Ayurvedic Science\n•	Principles of Ayurvedic Medication\n•	Understanding the three elements of TriDosha\n•	Panchakarma Treatment\n•	Identification of Ailments and diseases\n•	Study about the various Marma points and Energy Chakra\n•	Use of different herbal oils\, herbs\, and medicinal plants\n•	Prepare Ayurvedic medicines using herbs and oils\n•	Perform Abhyanga or Ayurvedic massage\n•	Certification from an affiliated organization\n•	Cooking Ayurveda meals\n•	Involving Ayurveda Principles in Lifestyle \nAyurveda Courses offered:\n•	Basic Awareness on Ayurveda\n•	Ayurveda Massage course\n•	Ayurveda Cooking course\n•	Ayurveda Beauty therapy course \nFood:\nThe students are served with nutritionally balanced meals\, three times a day. The meals are prepared using fresh and organic ingredients\, ensuring holistic nourishment and hygiene. All the meals prepared in the kitchen are pure vegetarian. Our delicious meals are prepared mindfully under the guided vigilance of Ayurveda professionals so that every bite is full of love\, nutrients\, and healing properties. \nAccommodation:\nUnwind and relax amidst the picturesque scenery and tall coconut trees at Rishikul Ayurshala’s Ayurveda School in Kerala. The center offers comfortable\, spacious\, and sustainably designed bedrooms on a sharing basis to all the students.  In order to minimize the inconvenience\, the rooms are equipped with several modern amenities such as twin beds\, clean linens\, private bathroom\, hot/cold water supply\, Internet facility\, and a study area. Some rooms also have a private balcony to enjoy the mesmeric views of the surroundings.   \nFee Details:\n•	Basic Awareness on Ayurveda (7 Days): USD 700\n•	Ayurvedic Massage (7 Days):  USD 650\n•	Ayurveda Cooking Course (7 Days): USD 650\n•	Ayurveda Beauty Therapy Course (7 Days):  USD 650 \nAbout Rishikul Ayurshala:\nRishikul Ayurshala aims to propagate the Ayurvedic movement through Ayurveda Training in India. The Ayurvedic courses offered by our center deliver comprehensive knowledge of theoretical as well as a practical approach of Ayurveda. Our team of Ayurvedic professionals and experienced practitioners impart the wisdom of Vedic science to support the individuals who want to make an abiding career in Ayurvedic science.
URL:https://www.cumminglocal.com/event/ayurveda-training-school-in-kerala-india/
LOCATION:None Specified
ATTACH;FMTTYPE=image/jpeg:https://www.cumminglocal.com/wp-content/uploads/2019/11/Ayurveda-School.jpg
ORGANIZER;CN="Rishikul Yogshala":MAILTO:ryogshala@gmail.com
END:VEVENT
BEGIN:VEVENT
DTSTART;TZID=America/New_York:20191209T103000
DTEND;TZID=America/New_York:20191209T113000
DTSTAMP:20260421T103707
CREATED:20191013T194342Z
LAST-MODIFIED:20191013T194342Z
UID:53420-1575887400-1575891000@www.cumminglocal.com
SUMMARY:Book Chat
DESCRIPTION:Join us at the Sharon Forks Library for Book Chat\, a casual conversation group for adults. \nDecember’s Conversation Starter:\nMonday\, December 9\n10:30 a.m. \nLess by Andrew Sean Greer\nReceiving an invitation to his ex-boyfriend’s wedding\, Arthur\, a failed novelist on the eve of his fiftieth birthday\, embarks on an international journey that finds him falling in love\, risking his life\, reinventing himself\, and making connections with the past.
URL:https://www.cumminglocal.com/event/book-chat-2/
LOCATION:Sharon Forks Library\, 2820 Old Atlanta Road\, Cumming\, GA\, 30041\, United States
CATEGORIES:Library Events
ORGANIZER;CN="Forsyth County Public Library":MAILTO:gloverp@forsythpl.org
END:VEVENT
END:VCALENDAR