BEGIN:VCALENDAR
VERSION:2.0
PRODID:-//Cumming Local - ECPv6.15.17//NONSGML v1.0//EN
CALSCALE:GREGORIAN
METHOD:PUBLISH
X-WR-CALNAME:Cumming Local
X-ORIGINAL-URL:https://www.cumminglocal.com
X-WR-CALDESC:Events for Cumming Local
REFRESH-INTERVAL;VALUE=DURATION:PT1H
X-Robots-Tag:noindex
X-PUBLISHED-TTL:PT1H
BEGIN:VTIMEZONE
TZID:America/New_York
BEGIN:DAYLIGHT
TZOFFSETFROM:-0500
TZOFFSETTO:-0400
TZNAME:EDT
DTSTART:20180311T070000
END:DAYLIGHT
BEGIN:STANDARD
TZOFFSETFROM:-0400
TZOFFSETTO:-0500
TZNAME:EST
DTSTART:20181104T060000
END:STANDARD
BEGIN:DAYLIGHT
TZOFFSETFROM:-0500
TZOFFSETTO:-0400
TZNAME:EDT
DTSTART:20190310T070000
END:DAYLIGHT
BEGIN:STANDARD
TZOFFSETFROM:-0400
TZOFFSETTO:-0500
TZNAME:EST
DTSTART:20191103T060000
END:STANDARD
BEGIN:DAYLIGHT
TZOFFSETFROM:-0500
TZOFFSETTO:-0400
TZNAME:EDT
DTSTART:20200308T070000
END:DAYLIGHT
BEGIN:STANDARD
TZOFFSETFROM:-0400
TZOFFSETTO:-0500
TZNAME:EST
DTSTART:20201101T060000
END:STANDARD
END:VTIMEZONE
BEGIN:VEVENT
DTSTART;TZID=America/New_York:20191112T103000
DTEND;TZID=America/New_York:20191112T113000
DTSTAMP:20260422T192859
CREATED:20190909T172533Z
LAST-MODIFIED:20190909T172533Z
UID:53099-1573554600-1573558200@www.cumminglocal.com
SUMMARY:Adult Special Needs Craft & Story Hour
DESCRIPTION:Adults with special needs are invited to listen to stories and create simple crafts designed to accommodate a range of abilities. This month we will hear stories about birds and construct our own unique feeders for our feathered friends\, using peanut butter\, cereal\, and bird seed. \nThis program is designed specifically for adults. Families and children with special needs are invited to our Sensory Storytime program on the first Sunday of each month.
URL:https://www.cumminglocal.com/event/adult-special-needs-craft-story-hour/
LOCATION:Hampton Park Library\, 5345 Settingdown Road\, Cumming\, GA\, 30041\, United States
CATEGORIES:Library Events
ORGANIZER;CN="Forsyth County Public Library":MAILTO:gloverp@forsythpl.org
END:VEVENT
BEGIN:VEVENT
DTSTART;TZID=America/New_York:20191112T190000
DTEND;TZID=America/New_York:20191112T200000
DTSTAMP:20260422T192859
CREATED:20190909T172533Z
LAST-MODIFIED:20190909T172533Z
UID:53104-1573585200-1573588800@www.cumminglocal.com
SUMMARY:Alzheimer’s Disease: Causes and Prevention
DESCRIPTION:What is Alzheimer’s Disease? Katja Bryant\, a neuroscience nurse at Northside Hospital with over 25 years of experience\, will share what we know about the causes of Alzheimer’s disease and if and how it can be prevented. Learn what you can do as an adult to change and improve your lifestyle to prevent Alzheimer’s and dementia\, such as aging well\, exercise\, social engagement\, a healthy diet\, mental stimulation\, quality sleep\, stress management and some tips on reducing the overall risk of Alzheimer’s disease. \nKatja Bryant is neuroscience nurse with over 25 years of experience\, with practice in rehabilitation nursing\, spinal cord injury\, neuro-trauma\, and most recently with neuro vascular and stroke disease. Katja received her nursing degree from the University in Heidelberg\, Germany. She received her Masters in Nursing from Walden University with a specialization in Stroke Program Development\, and currently Katja is pursuing her Doctorate in Nursing with a focus in Stroke Research and Quality of Care. Katja is originally from Germany and immigrated to the U.S. in 1995. She resides in Alpharetta with her three children and adopted her middle daughter Anna in 2011 from China
URL:https://www.cumminglocal.com/event/alzheimers-disease-causes-and-prevention/
LOCATION:Sharon Forks Library\, 2820 Old Atlanta Road\, Cumming\, GA\, 30041\, United States
CATEGORIES:Library Events
ORGANIZER;CN="Forsyth County Public Library":MAILTO:gloverp@forsythpl.org
END:VEVENT
END:VCALENDAR