BEGIN:VCALENDAR
VERSION:2.0
PRODID:-//Cumming Local - ECPv6.15.17//NONSGML v1.0//EN
CALSCALE:GREGORIAN
METHOD:PUBLISH
X-WR-CALNAME:Cumming Local
X-ORIGINAL-URL:https://www.cumminglocal.com
X-WR-CALDESC:Events for Cumming Local
REFRESH-INTERVAL;VALUE=DURATION:PT1H
X-Robots-Tag:noindex
X-PUBLISHED-TTL:PT1H
BEGIN:VTIMEZONE
TZID:America/New_York
BEGIN:DAYLIGHT
TZOFFSETFROM:-0500
TZOFFSETTO:-0400
TZNAME:EDT
DTSTART:20180311T070000
END:DAYLIGHT
BEGIN:STANDARD
TZOFFSETFROM:-0400
TZOFFSETTO:-0500
TZNAME:EST
DTSTART:20181104T060000
END:STANDARD
BEGIN:DAYLIGHT
TZOFFSETFROM:-0500
TZOFFSETTO:-0400
TZNAME:EDT
DTSTART:20190310T070000
END:DAYLIGHT
BEGIN:STANDARD
TZOFFSETFROM:-0400
TZOFFSETTO:-0500
TZNAME:EST
DTSTART:20191103T060000
END:STANDARD
BEGIN:DAYLIGHT
TZOFFSETFROM:-0500
TZOFFSETTO:-0400
TZNAME:EDT
DTSTART:20200308T070000
END:DAYLIGHT
BEGIN:STANDARD
TZOFFSETFROM:-0400
TZOFFSETTO:-0500
TZNAME:EST
DTSTART:20201101T060000
END:STANDARD
END:VTIMEZONE
BEGIN:VEVENT
DTSTART;TZID=America/New_York:20191110T140000
DTEND;TZID=America/New_York:20191110T150000
DTSTAMP:20260425T200549
CREATED:20190909T172533Z
LAST-MODIFIED:20190909T172533Z
UID:53102-1573394400-1573398000@www.cumminglocal.com
SUMMARY:Nourishing Body Wisdom - 8 Simple Strategies for Increasing Metabolism
DESCRIPTION:This presentation focuses on 8 simple strategies to increase your metabolism\, energy\, and pleasure without restrictive diets or punishing exercise. Most of us have been told that if we want to lose weight\, we need to eat less and exercise more. The problem with this approach is that it doesn’t work for everyone. However\, when it does work and we do lose weight\, the weight doesn’t stay off\, and an even bigger problem is that\, when it comes back\, we usually gain more than we started with. This leads to the chronic diet epidemic in our society. Certified Eating Psychology Coach Sherri Zak will share the scientific reasons for this along with 8 simple strategies for real change.  If you want something different\, you have to do something different. \nAbout Sherri Zak \nSherri Zak is a mom\, a business-owner\, an animal-lover and a money-managing ninja. At one point\, overwhelmed by family and business demands\, Sherri reached an all-time low and began taking medication for anxiety and depression. Driven to find alternatives and get back on her feet\, Sherri studied everything she could get her hands on about healthy living and plant-based nutrition. She lost almost 30 pounds\, got herself off of the toxic anxiety medication\, is now living a life she loves\, and is inspired to help others do the same. With a strong background in business and a passion for nutrition and women’s health\, Sherri knows what it takes to get out of the clutches of overwhelm and reach the other side feeling more alive than ever. As a certified Eating Psychology Coach\, Sherri has an unyielding commitment to stand by her clients and do what it takes to help them reach their goals.
URL:https://www.cumminglocal.com/event/nourishing-body-wisdom-8-simple-strategies-for-increasing-metabolism/
LOCATION:Hampton Park Library\, 5345 Settingdown Road\, Cumming\, GA\, 30041\, United States
CATEGORIES:Library Events
ORGANIZER;CN="Forsyth County Public Library":MAILTO:gloverp@forsythpl.org
END:VEVENT
BEGIN:VEVENT
DTSTART;TZID=America/New_York:20191110T140000
DTEND;TZID=America/New_York:20191110T170000
DTSTAMP:20260425T200549
CREATED:20191013T194457Z
LAST-MODIFIED:20191013T194457Z
UID:53284-1573394400-1573405200@www.cumminglocal.com
SUMMARY:The Daisy Dash 5k and Fun Run
DESCRIPTION:This race benefits Kari Clark.  She is a Forsyth County native that has been fighting breast cancer for 6 years.  Kari’s husband\, Matt\, has been a Forsyth County firefighter for 18 years.  They have three girls ages 11\, 8 and 6.  Along with the trials of fighting breast cancer\, Matt’s truck was recently stolen from the hospital’s parking lot.  Many local news sources including the AJC  have covered their story.   \nThe Daisy Dash 5K and Fun Run takes place on Sunday\, November 10th.  We would love YOUR support!  Come run\, walk\, or sponsor this event! \nThe Clark family needs the support of our community!
URL:https://www.cumminglocal.com/event/the-daisy-dash-5k-and-fun-run/
CATEGORIES:Fitness Events/Races,Fundraisers,Volunteer/Service Opportunities
ATTACH;FMTTYPE=image/jpeg:https://www.cumminglocal.com/wp-content/uploads/2019/09/Breast-cancer-ribbon-on-gerber-daisy.jpg
END:VEVENT
END:VCALENDAR