BEGIN:VCALENDAR
VERSION:2.0
PRODID:-//Cumming Local - ECPv6.15.17//NONSGML v1.0//EN
CALSCALE:GREGORIAN
METHOD:PUBLISH
X-WR-CALNAME:Cumming Local
X-ORIGINAL-URL:https://www.cumminglocal.com
X-WR-CALDESC:Events for Cumming Local
REFRESH-INTERVAL;VALUE=DURATION:PT1H
X-Robots-Tag:noindex
X-PUBLISHED-TTL:PT1H
BEGIN:VTIMEZONE
TZID:UTC
BEGIN:STANDARD
TZOFFSETFROM:+0000
TZOFFSETTO:+0000
TZNAME:UTC
DTSTART:20180101T000000
END:STANDARD
END:VTIMEZONE
BEGIN:VEVENT
DTSTART;TZID=UTC:20191105T170000
DTEND;TZID=UTC:20191105T180000
DTSTAMP:20260421T182239
CREATED:20191029T125938Z
LAST-MODIFIED:20191101T150156Z
UID:53689-1572973200-1572976800@www.cumminglocal.com
SUMMARY:Youth Council Meeting
DESCRIPTION:
URL:https://www.cumminglocal.com/event/youth-council-meeting-4/
LOCATION:Cumming City Hall (Council Chambers – Third Floor)
END:VEVENT
BEGIN:VEVENT
DTSTART;TZID=UTC:20191105T180000
DTEND;TZID=UTC:20191105T190000
DTSTAMP:20260421T182239
CREATED:20191029T125938Z
LAST-MODIFIED:20191101T150156Z
UID:53690-1572976800-1572980400@www.cumminglocal.com
SUMMARY:City Council Work Session
DESCRIPTION:
URL:https://www.cumminglocal.com/event/city-council-work-session-4/
LOCATION:Cumming City Hall (Gallery B – Second Floor)
END:VEVENT
END:VCALENDAR