BEGIN:VCALENDAR
VERSION:2.0
PRODID:-//Cumming Local - ECPv6.15.17//NONSGML v1.0//EN
CALSCALE:GREGORIAN
METHOD:PUBLISH
X-ORIGINAL-URL:https://www.cumminglocal.com
X-WR-CALDESC:Events for Cumming Local
REFRESH-INTERVAL;VALUE=DURATION:PT1H
X-Robots-Tag:noindex
X-PUBLISHED-TTL:PT1H
BEGIN:VTIMEZONE
TZID:America/New_York
BEGIN:DAYLIGHT
TZOFFSETFROM:-0500
TZOFFSETTO:-0400
TZNAME:EDT
DTSTART:20180311T070000
END:DAYLIGHT
BEGIN:STANDARD
TZOFFSETFROM:-0400
TZOFFSETTO:-0500
TZNAME:EST
DTSTART:20181104T060000
END:STANDARD
BEGIN:DAYLIGHT
TZOFFSETFROM:-0500
TZOFFSETTO:-0400
TZNAME:EDT
DTSTART:20190310T070000
END:DAYLIGHT
BEGIN:STANDARD
TZOFFSETFROM:-0400
TZOFFSETTO:-0500
TZNAME:EST
DTSTART:20191103T060000
END:STANDARD
BEGIN:DAYLIGHT
TZOFFSETFROM:-0500
TZOFFSETTO:-0400
TZNAME:EDT
DTSTART:20200308T070000
END:DAYLIGHT
BEGIN:STANDARD
TZOFFSETFROM:-0400
TZOFFSETTO:-0500
TZNAME:EST
DTSTART:20201101T060000
END:STANDARD
END:VTIMEZONE
BEGIN:VEVENT
DTSTART;VALUE=DATE:20191101
DTEND;VALUE=DATE:20191102
DTSTAMP:20260425T101655
CREATED:20191008T164711Z
LAST-MODIFIED:20191008T164711Z
UID:53324-1572566400-1572652799@www.cumminglocal.com
SUMMARY:National Authors Day
DESCRIPTION:#NationalAuthorsDay
URL:https://www.cumminglocal.com/event/national-authors-day/
CATEGORIES:Other
END:VEVENT
BEGIN:VEVENT
DTSTART;VALUE=DATE:20191101
DTEND;VALUE=DATE:20191102
DTSTAMP:20260425T101655
CREATED:20191008T164711Z
LAST-MODIFIED:20191008T164711Z
UID:53323-1572566400-1572652799@www.cumminglocal.com
SUMMARY:World Vegan Day
DESCRIPTION:#WorldVeganDay
URL:https://www.cumminglocal.com/event/world-vegan-day/
CATEGORIES:Other
END:VEVENT
BEGIN:VEVENT
DTSTART;VALUE=DATE:20191101
DTEND;VALUE=DATE:20191102
DTSTAMP:20260425T101655
CREATED:20191008T164712Z
LAST-MODIFIED:20191008T164712Z
UID:53325-1572566400-1572652799@www.cumminglocal.com
SUMMARY:National Cook For Your Pets Day
DESCRIPTION:#CookForYourPetsDay
URL:https://www.cumminglocal.com/event/national-cook-for-your-pets-day/
CATEGORIES:Other
END:VEVENT
BEGIN:VEVENT
DTSTART;TZID=America/New_York:20191101T183000
DTEND;TZID=America/New_York:20191101T193000
DTSTAMP:20260425T101655
CREATED:20190920T123423Z
LAST-MODIFIED:20190920T123423Z
UID:53206-1572633000-1572636600@www.cumminglocal.com
SUMMARY:Hatha For Humanity
DESCRIPTION:Join Yoga Selah for an evening supporting Habitat For Humanity – North Central Georgia and the Women Build 2020 project. Women from around Metro Atlanta and North Central Georgia have come together to raise $90\,000 and build an entire house from the ground up in Forsyth County for a family beginning in February 2020. This initiative will provide a safe and affordable place for a single mother and her children here in our community. \nThis all levels yoga class is open to everyone\, and we will be accepting cash or check donations. All proceeds from the evening will go toward Women Build 2020. If you are unable to attend\, but you would like to support the project\, please bring your donation by the studio anytime before the class. \nWhere: Yoga Selah\, 101 Meadow Drive Ste C\, Cumming\nDate: Friday\, November 1st\nTime: 6:30pm-7:30pm\nCost: DONATION
URL:https://www.cumminglocal.com/event/hatha-for-humanity/
LOCATION:YOGA SELAH\, 101 Meadow Dr Ste C\, Cumming\, GA\, 30040\, United States
CATEGORIES:Fundraisers
ORGANIZER;CN="Yoga Selah":MAILTO:yogaselah@gmail.com
END:VEVENT
END:VCALENDAR