BEGIN:VCALENDAR
VERSION:2.0
PRODID:-//Cumming Local - ECPv6.15.17//NONSGML v1.0//EN
CALSCALE:GREGORIAN
METHOD:PUBLISH
X-ORIGINAL-URL:https://www.cumminglocal.com
X-WR-CALDESC:Events for Cumming Local
REFRESH-INTERVAL;VALUE=DURATION:PT1H
X-Robots-Tag:noindex
X-PUBLISHED-TTL:PT1H
BEGIN:VTIMEZONE
TZID:America/New_York
BEGIN:DAYLIGHT
TZOFFSETFROM:-0500
TZOFFSETTO:-0400
TZNAME:EDT
DTSTART:20180311T070000
END:DAYLIGHT
BEGIN:STANDARD
TZOFFSETFROM:-0400
TZOFFSETTO:-0500
TZNAME:EST
DTSTART:20181104T060000
END:STANDARD
BEGIN:DAYLIGHT
TZOFFSETFROM:-0500
TZOFFSETTO:-0400
TZNAME:EDT
DTSTART:20190310T070000
END:DAYLIGHT
BEGIN:STANDARD
TZOFFSETFROM:-0400
TZOFFSETTO:-0500
TZNAME:EST
DTSTART:20191103T060000
END:STANDARD
BEGIN:DAYLIGHT
TZOFFSETFROM:-0500
TZOFFSETTO:-0400
TZNAME:EDT
DTSTART:20200308T070000
END:DAYLIGHT
BEGIN:STANDARD
TZOFFSETFROM:-0400
TZOFFSETTO:-0500
TZNAME:EST
DTSTART:20201101T060000
END:STANDARD
END:VTIMEZONE
BEGIN:VEVENT
DTSTART;VALUE=DATE:20191020
DTEND;VALUE=DATE:20191021
DTSTAMP:20260425T173414
CREATED:20190807T151732Z
LAST-MODIFIED:20190807T151732Z
UID:52888-1571529600-1571615999@www.cumminglocal.com
SUMMARY:Fall Mini Sessions with Sarah C. Photography
DESCRIPTION:DATES: October 20th and November 16th in Cumming\, GA.\nBOOK: https://sarahcothran.as.me/fallminis \nMinis are $75 and include: \n– 20 minute session for up to 6 people\n– Private online gallery for viewing\n**Prints and digitals sold separately**\n– Custom in person ordering session (optional)
URL:https://www.cumminglocal.com/event/fall-mini-sessions-with-sarah-c-photography/
LOCATION:None Specified
CATEGORIES:Other
ATTACH;FMTTYPE=image/jpeg:https://www.cumminglocal.com/wp-content/uploads/2019/08/Owens_0063-1.jpg
ORGANIZER;CN="Sarah C. Photography":MAILTO:sarah@sarahcothran.com
END:VEVENT
BEGIN:VEVENT
DTSTART;VALUE=DATE:20191020
DTEND;VALUE=DATE:20191021
DTSTAMP:20260425T173414
CREATED:20191008T164711Z
LAST-MODIFIED:20191008T164711Z
UID:53316-1571529600-1571615999@www.cumminglocal.com
SUMMARY:World Statistics Day
DESCRIPTION:#StatisticsDay
URL:https://www.cumminglocal.com/event/world-statistics-day/
CATEGORIES:Other
END:VEVENT
BEGIN:VEVENT
DTSTART;TZID=America/New_York:20191020T133000
DTEND;TZID=America/New_York:20191020T163000
DTSTAMP:20260425T173414
CREATED:20190823T175159Z
LAST-MODIFIED:20190823T175159Z
UID:53028-1571578200-1571589000@www.cumminglocal.com
SUMMARY:Diwali Celebration
DESCRIPTION:Join us at the Sharon Forks Library for the sixth annual Diwali Celebration! There will be festive crafts\, Indian food to sample\, and dance performances throughout the day. All ages and cultures are welcome. \nDance Performance Schedule:\n2:00 p.m.: Atlanta Nritya Academy\n2:35 p.m.: Darshini Natyalaya School of Dance\n3:10 p.m.: NG’s Dance\n3:45 p.m.: Jalpa Dance Academy\n4:05 p.m.: Akansha’s Dance Studio \n1:30-4:30: Crafts\, food\, and more throughout the library
URL:https://www.cumminglocal.com/event/diwali-celebration/
LOCATION:Sharon Forks Library\, 2820 Old Atlanta Road\, Cumming\, GA\, 30041\, United States
CATEGORIES:Library Events
ORGANIZER;CN="Forsyth County Public Library":MAILTO:gloverp@forsythpl.org
END:VEVENT
BEGIN:VEVENT
DTSTART;TZID=America/New_York:20191020T140000
DTEND;TZID=America/New_York:20191020T150000
DTSTAMP:20260425T173414
CREATED:20190823T175159Z
LAST-MODIFIED:20190823T175159Z
UID:53029-1571580000-1571583600@www.cumminglocal.com
SUMMARY:Special Interest Travel: Presented by Lauren Schultheiss\, Big Creek Travel
DESCRIPTION:Special Interest Travel is a wonderful way to combine travel with a personal hobby or passion\, or maybe you’d like to try your hand at something completely new and different. Lauren Schultheiss\, owner of Big Creek Travel\, will show you how. \nPlay a round of golf at a renowned golf course. Relax and take a specialized wine-tasting river cruise for something completely different. Tour exceptional gardens and natural areas around the globe\, if that’s your thing. Maybe art and history are of particular interest to you. You can even gear your travel to all things culinary. There’s a tour for that! \nLauren will show you how to do this and more to enjoy the trip of a lifetime!  \nAbout Lauren Schultheiss \nLauren Schultheiss is the owner of Big Creek Travel\, an independent travel agency located in Forsyth County.  She started in the industry over 25 years ago\, working with both leisure and corporate travel\, before starting her own agency. Lauren has lived in Forsyth for more than 12 years and spends her free time working with a variety of community organizations.  She is on the board of the Forsyth County Women’s Club\, co-leads Xperience Connections (a women’s networking group)\, is a member of a local BNI chapter\, is the editor of Foco Woman (a local magazine celebrating the women of Forsyth)\, is on the board of her neighborhood HOA\, and leads the Atlanta Chapter of the Colorado State Alumni.  She holds a degree in media relations from Bowling Green State University and an MBA from Colorado State. Travel has always been a passion\, and she enjoys helping others connect through travel.
URL:https://www.cumminglocal.com/event/special-interest-travel-presented-by-lauren-schultheiss-big-creek-travel/
LOCATION:Hampton Park Library\, 5345 Settingdown Road\, Cumming\, GA\, 30041\, United States
CATEGORIES:Library Events
ORGANIZER;CN="Forsyth County Public Library":MAILTO:gloverp@forsythpl.org
END:VEVENT
END:VCALENDAR