BEGIN:VCALENDAR
VERSION:2.0
PRODID:-//Cumming Local - ECPv6.15.17//NONSGML v1.0//EN
CALSCALE:GREGORIAN
METHOD:PUBLISH
X-WR-CALNAME:Cumming Local
X-ORIGINAL-URL:https://www.cumminglocal.com
X-WR-CALDESC:Events for Cumming Local
REFRESH-INTERVAL;VALUE=DURATION:PT1H
X-Robots-Tag:noindex
X-PUBLISHED-TTL:PT1H
BEGIN:VTIMEZONE
TZID:America/New_York
BEGIN:DAYLIGHT
TZOFFSETFROM:-0500
TZOFFSETTO:-0400
TZNAME:EDT
DTSTART:20180311T070000
END:DAYLIGHT
BEGIN:STANDARD
TZOFFSETFROM:-0400
TZOFFSETTO:-0500
TZNAME:EST
DTSTART:20181104T060000
END:STANDARD
BEGIN:DAYLIGHT
TZOFFSETFROM:-0500
TZOFFSETTO:-0400
TZNAME:EDT
DTSTART:20190310T070000
END:DAYLIGHT
BEGIN:STANDARD
TZOFFSETFROM:-0400
TZOFFSETTO:-0500
TZNAME:EST
DTSTART:20191103T060000
END:STANDARD
BEGIN:DAYLIGHT
TZOFFSETFROM:-0500
TZOFFSETTO:-0400
TZNAME:EDT
DTSTART:20200308T070000
END:DAYLIGHT
BEGIN:STANDARD
TZOFFSETFROM:-0400
TZOFFSETTO:-0500
TZNAME:EST
DTSTART:20201101T060000
END:STANDARD
END:VTIMEZONE
BEGIN:VTIMEZONE
TZID:UTC
BEGIN:STANDARD
TZOFFSETFROM:+0000
TZOFFSETTO:+0000
TZNAME:UTC
DTSTART:20180101T000000
END:STANDARD
END:VTIMEZONE
BEGIN:VEVENT
DTSTART;VALUE=DATE:20191015
DTEND;VALUE=DATE:20191016
DTSTAMP:20260422T192857
CREATED:20191008T164710Z
LAST-MODIFIED:20191008T164710Z
UID:53311-1571097600-1571183999@www.cumminglocal.com
SUMMARY:Global Handwashing Day
DESCRIPTION:#GlobalHandwashingDay
URL:https://www.cumminglocal.com/event/global-handwashing-day/
CATEGORIES:Other
END:VEVENT
BEGIN:VEVENT
DTSTART;TZID=America/New_York:20191015T170000
DTEND;TZID=America/New_York:20191015T190000
DTSTAMP:20260422T192857
CREATED:20191013T194343Z
LAST-MODIFIED:20191013T194343Z
UID:53401-1571158800-1571166000@www.cumminglocal.com
SUMMARY:Yappy Hour at Halcyon
DESCRIPTION:Bring your pups and meet us on the Village Green for Yappy Hour\, Tuesday evenings from 5pm – 7pm  to pick up your free doggy treats and meet our special visitors from Furkids Animal Rescue and Shelters. Then spend time at all your favorite Halcyon dog-friendly patios.
URL:https://www.cumminglocal.com/event/yappy-hour-at-halcyon/
LOCATION:Halcyon\, 6365 Halcyon Way\, Alpharetta\, GA\, 30005\, United States
CATEGORIES:Other
ATTACH;FMTTYPE=image/jpeg:https://www.cumminglocal.com/wp-content/uploads/2019/10/Living_Desktop.jpg
ORGANIZER;CN="Halcyon":MAILTO:info@visithalcyon.com
END:VEVENT
BEGIN:VEVENT
DTSTART;TZID=UTC:20191015T180000
DTEND;TZID=UTC:20191015T190000
DTSTAMP:20260422T192857
CREATED:20190923T173910Z
LAST-MODIFIED:20191011T144648Z
UID:53228-1571162400-1571166000@www.cumminglocal.com
SUMMARY:City Council Regular Meeting
DESCRIPTION:
URL:https://www.cumminglocal.com/event/city-council-regular-meeting-7/
LOCATION:Cumming City Hall (Council Chambers – Third Floor)
END:VEVENT
BEGIN:VEVENT
DTSTART;TZID=America/New_York:20191015T190000
DTEND;TZID=America/New_York:20191015T200000
DTSTAMP:20260422T192857
CREATED:20190823T175159Z
LAST-MODIFIED:20190823T175159Z
UID:53027-1571166000-1571169600@www.cumminglocal.com
SUMMARY:Lizzie Borden: The Cutting Edge - Bringing Literature to Life
DESCRIPTION:Do you think you know all there is about Lizzie Borden? Or maybe you don’t know much more than her name and ‘that song’. Sloane Meyer brings literature to life during an entertaining evening that sheds light on new evidence that just might change your mind…or at least teaches you more accurate lyrics.  \nThis special presentation of Bringing Literature to Life is sponsored by the FCPL Friends & Advocates.
URL:https://www.cumminglocal.com/event/lizzie-borden-the-cutting-edge-bringing-literature-to-life/
LOCATION:Sharon Forks Library\, 2820 Old Atlanta Road\, Cumming\, GA\, 30041\, United States
CATEGORIES:Library Events
ORGANIZER;CN="Forsyth County Public Library":MAILTO:gloverp@forsythpl.org
END:VEVENT
END:VCALENDAR