BEGIN:VCALENDAR
VERSION:2.0
PRODID:-//Cumming Local - ECPv6.15.17//NONSGML v1.0//EN
CALSCALE:GREGORIAN
METHOD:PUBLISH
X-ORIGINAL-URL:https://www.cumminglocal.com
X-WR-CALDESC:Events for Cumming Local
REFRESH-INTERVAL;VALUE=DURATION:PT1H
X-Robots-Tag:noindex
X-PUBLISHED-TTL:PT1H
BEGIN:VTIMEZONE
TZID:America/New_York
BEGIN:DAYLIGHT
TZOFFSETFROM:-0500
TZOFFSETTO:-0400
TZNAME:EDT
DTSTART:20180311T070000
END:DAYLIGHT
BEGIN:STANDARD
TZOFFSETFROM:-0400
TZOFFSETTO:-0500
TZNAME:EST
DTSTART:20181104T060000
END:STANDARD
BEGIN:DAYLIGHT
TZOFFSETFROM:-0500
TZOFFSETTO:-0400
TZNAME:EDT
DTSTART:20190310T070000
END:DAYLIGHT
BEGIN:STANDARD
TZOFFSETFROM:-0400
TZOFFSETTO:-0500
TZNAME:EST
DTSTART:20191103T060000
END:STANDARD
BEGIN:DAYLIGHT
TZOFFSETFROM:-0500
TZOFFSETTO:-0400
TZNAME:EDT
DTSTART:20200308T070000
END:DAYLIGHT
BEGIN:STANDARD
TZOFFSETFROM:-0400
TZOFFSETTO:-0500
TZNAME:EST
DTSTART:20201101T060000
END:STANDARD
END:VTIMEZONE
BEGIN:VTIMEZONE
TZID:UTC
BEGIN:STANDARD
TZOFFSETFROM:+0000
TZOFFSETTO:+0000
TZNAME:UTC
DTSTART:20180101T000000
END:STANDARD
END:VTIMEZONE
BEGIN:VEVENT
DTSTART;TZID=America/New_York:20190930T080000
DTEND;TZID=America/New_York:20191004T180000
DTSTAMP:20260425T101657
CREATED:20190920T123423Z
LAST-MODIFIED:20190920T123423Z
UID:53211-1569830400-1570212000@www.cumminglocal.com
SUMMARY:YTLC Fall Break S.T.E.M/S.T.E.A.M Day Camp
DESCRIPTION:Treat Your Kids to a Stay-Cation S.T.E.A.M (science\, technology\, engineering\, art\, math) Day Camp at Youth Technology Learning Center-YTLC Cumming for ages 3 to 14.  Camp has an option for half day/full day with extended care available with early drop-off from 8:00 a.m. to 9:00 a.m. and late pick-up from 4:00 p.m. to 6:00 p.m.  \nRegister before September 30\, 2019 and get 15% Off! \n*Three Classes per Day* \n*Outdoor Play Included* \n*Extended Care* \n*Lego Movies at Lunchtime* \nClasses Include: \nLego Early Simple Machines (suggested ages 3 to 6) \nLego Beginning Level Robotics I (suggested ages 6 to 9 \nAdvanced Hi-Tech Robotics (suggested ages 9+) \nK’Nex Education Engineering (suggested ages 3+) \nKids Computer Science Coding  (suggested ages 3+) \nDigital Animation Movie Making (suggested ages 6+) \nVideo Game Design Coding & Programming (suggested ages 9+)
URL:https://www.cumminglocal.com/event/ytlc-fall-break-s-t-e-m-s-t-e-a-m-day-camp/
LOCATION:Youth Technology Learning Center-YTLC Cumming\, 767 Peachtree Parkway\, Cumming\, GA\, 30041\, United States
CATEGORIES:Other
ATTACH;FMTTYPE=image/jpeg:https://www.cumminglocal.com/wp-content/uploads/2019/09/20190225_094407.jpg
END:VEVENT
BEGIN:VEVENT
DTSTART;VALUE=DATE:20191001
DTEND;VALUE=DATE:20191002
DTSTAMP:20260425T101657
CREATED:20190908T164649Z
LAST-MODIFIED:20190908T164649Z
UID:53131-1569888000-1569974399@www.cumminglocal.com
SUMMARY:International Day of Older Persons
DESCRIPTION:#UNDOP
URL:https://www.cumminglocal.com/event/international-day-of-older-persons/
CATEGORIES:Other
END:VEVENT
BEGIN:VEVENT
DTSTART;VALUE=DATE:20191001
DTEND;VALUE=DATE:20191002
DTSTAMP:20260425T101657
CREATED:20190908T164649Z
LAST-MODIFIED:20190908T164649Z
UID:53130-1569888000-1569974399@www.cumminglocal.com
SUMMARY:International Coffee Day
DESCRIPTION:#InternationalCoffeeDay
URL:https://www.cumminglocal.com/event/international-coffee-day/
CATEGORIES:Other
END:VEVENT
BEGIN:VEVENT
DTSTART;VALUE=DATE:20191001
DTEND;VALUE=DATE:20191002
DTSTAMP:20260425T101657
CREATED:20190908T164649Z
LAST-MODIFIED:20190908T164649Z
UID:53129-1569888000-1569974399@www.cumminglocal.com
SUMMARY:World Vegetarian Day
DESCRIPTION:#WorldVegetarianDay
URL:https://www.cumminglocal.com/event/world-vegetarian-day/
CATEGORIES:Other
END:VEVENT
BEGIN:VEVENT
DTSTART;TZID=UTC:20191001T180000
DTEND;TZID=UTC:20191001T190000
DTSTAMP:20260425T101657
CREATED:20190920T123456Z
LAST-MODIFIED:20190927T143241Z
UID:53198-1569952800-1569956400@www.cumminglocal.com
SUMMARY:City Council Work Session
DESCRIPTION:
URL:https://www.cumminglocal.com/event/city-council-work-session-3/
LOCATION:Cumming City Hall (Gallery B – Second Floor)
END:VEVENT
END:VCALENDAR