BEGIN:VCALENDAR
VERSION:2.0
PRODID:-//Cumming Local - ECPv6.15.17//NONSGML v1.0//EN
CALSCALE:GREGORIAN
METHOD:PUBLISH
X-ORIGINAL-URL:https://www.cumminglocal.com
X-WR-CALDESC:Events for Cumming Local
REFRESH-INTERVAL;VALUE=DURATION:PT1H
X-Robots-Tag:noindex
X-PUBLISHED-TTL:PT1H
BEGIN:VTIMEZONE
TZID:America/New_York
BEGIN:DAYLIGHT
TZOFFSETFROM:-0500
TZOFFSETTO:-0400
TZNAME:EDT
DTSTART:20180311T070000
END:DAYLIGHT
BEGIN:STANDARD
TZOFFSETFROM:-0400
TZOFFSETTO:-0500
TZNAME:EST
DTSTART:20181104T060000
END:STANDARD
BEGIN:DAYLIGHT
TZOFFSETFROM:-0500
TZOFFSETTO:-0400
TZNAME:EDT
DTSTART:20190310T070000
END:DAYLIGHT
BEGIN:STANDARD
TZOFFSETFROM:-0400
TZOFFSETTO:-0500
TZNAME:EST
DTSTART:20191103T060000
END:STANDARD
BEGIN:DAYLIGHT
TZOFFSETFROM:-0500
TZOFFSETTO:-0400
TZNAME:EDT
DTSTART:20200308T070000
END:DAYLIGHT
BEGIN:STANDARD
TZOFFSETFROM:-0400
TZOFFSETTO:-0500
TZNAME:EST
DTSTART:20201101T060000
END:STANDARD
END:VTIMEZONE
BEGIN:VEVENT
DTSTART;VALUE=DATE:20190927
DTEND;VALUE=DATE:20190928
DTSTAMP:20260425T083909
CREATED:20190908T164648Z
LAST-MODIFIED:20190908T164648Z
UID:53125-1569542400-1569628799@www.cumminglocal.com
SUMMARY:World Tourism Day
DESCRIPTION:#WTD2019
URL:https://www.cumminglocal.com/event/world-tourism-day/
CATEGORIES:Other
END:VEVENT
BEGIN:VEVENT
DTSTART;TZID=America/New_York:20190927T113000
DTEND;TZID=America/New_York:20190927T170000
DTSTAMP:20260425T083909
CREATED:20190911T195159Z
LAST-MODIFIED:20190911T195159Z
UID:53183-1569583800-1569603600@www.cumminglocal.com
SUMMARY:CMX CinéBistro Halcyon set to open
DESCRIPTION:CMX Cinemas is pleased to announce the upcoming opening of CMX CinéBistro Halcyon and new-to-market CMX Stone sports bar for the Alpharetta community to enjoy starting Friday\, September 27. The third CMX CinéBistro location in Georgia will open at 6215 Town Square in the new Halcyon development – offering an intimate experience with in-theater dining\, cozy reclining love seats and a redefined sports bar. \n“CMX CinéBistro is known for its unmatched dinner-and-movie experience\, and we are eager to open our doors to Alpharetta\, South Forsyth County and the surrounding communities\,” said Javier Ezquerro\, COO of CMX Cinemas. “We hope to become Alpharetta’s preferred entertainment destination with something for everyone – from the chef-prepared menu\, hand-crafted cocktails and the ultimate sports-watching experience at CMX Stone.” \nThe 37\,762 square-foot theater will feature 10 screens and range from 67 to 89 lush oversized reclining leather love seats and foot rests in each auditorium – all featuring the latest projection technology on curved high-gain screens with Christie Digital 2K projectors\, RealD 3D and a digital 7.1 sound system. Moviegoers will also notice minimalist details and innovative design throughout the theater. \nGuests can order from a chef-driven American Bistro menu – prepared in the scratch kitchen by in-house chefs – and unwind at the immersive bar\, featuring signature cocktails by talented mixologists\, as well as a premium beer and wine selection. The multi-functional theater is also available to rent for VIP movie screenings\, corporate events\, celebrations and special occasions. \nIn addition to the upscale movie-watching experience\, CMX Stone sports bar will be located in the lounge of the theater and was conceptualized to enhance guests’ social experience\, utilizing the latest trend in design. Whether visiting CMX CinéBistro Halcyon to watch a movie or the big game\, sports enthusiasts will discover a redefined experience to watch their favorite teams on giant LED screens\, while also enjoying chef-prepared food options\, signature handcrafted cocktails and an extensive list of wine and beer. \nCMX CinéBistro Halcyon will be a 21 and over theater for all shows beginning after 8 p.m. Guests three and above will be welcome for all shows 8 p.m. or earlier and must be accompanied by an adult over the age of 21. Proper ID will be required. To enjoy in-theater dining\, guests must arrive 30 minutes before showtime. \nFor more information about CMX Cinemas\, visit bit.ly/CMXHalcyon or follow along on social media @cmxcinemas.
URL:https://www.cumminglocal.com/event/cmx-cinebistro-halcyon-set-to-open/
LOCATION:None Specified
ATTACH;FMTTYPE=image/jpeg:https://www.cumminglocal.com/wp-content/uploads/2019/09/cmx.jpg
END:VEVENT
END:VCALENDAR