BEGIN:VCALENDAR
VERSION:2.0
PRODID:-//Cumming Local - ECPv6.15.17//NONSGML v1.0//EN
CALSCALE:GREGORIAN
METHOD:PUBLISH
X-WR-CALNAME:Cumming Local
X-ORIGINAL-URL:https://www.cumminglocal.com
X-WR-CALDESC:Events for Cumming Local
REFRESH-INTERVAL;VALUE=DURATION:PT1H
X-Robots-Tag:noindex
X-PUBLISHED-TTL:PT1H
BEGIN:VTIMEZONE
TZID:America/New_York
BEGIN:DAYLIGHT
TZOFFSETFROM:-0500
TZOFFSETTO:-0400
TZNAME:EDT
DTSTART:20180311T070000
END:DAYLIGHT
BEGIN:STANDARD
TZOFFSETFROM:-0400
TZOFFSETTO:-0500
TZNAME:EST
DTSTART:20181104T060000
END:STANDARD
BEGIN:DAYLIGHT
TZOFFSETFROM:-0500
TZOFFSETTO:-0400
TZNAME:EDT
DTSTART:20190310T070000
END:DAYLIGHT
BEGIN:STANDARD
TZOFFSETFROM:-0400
TZOFFSETTO:-0500
TZNAME:EST
DTSTART:20191103T060000
END:STANDARD
BEGIN:DAYLIGHT
TZOFFSETFROM:-0500
TZOFFSETTO:-0400
TZNAME:EDT
DTSTART:20200308T070000
END:DAYLIGHT
BEGIN:STANDARD
TZOFFSETFROM:-0400
TZOFFSETTO:-0500
TZNAME:EST
DTSTART:20201101T060000
END:STANDARD
END:VTIMEZONE
BEGIN:VEVENT
DTSTART;VALUE=DATE:20190923
DTEND;VALUE=DATE:20190924
DTSTAMP:20260421T103708
CREATED:20190908T164648Z
LAST-MODIFIED:20190908T164648Z
UID:53122-1569196800-1569283199@www.cumminglocal.com
SUMMARY:First Day of Fall
DESCRIPTION:#
URL:https://www.cumminglocal.com/event/first-day-of-fall/
CATEGORIES:Other
END:VEVENT
BEGIN:VEVENT
DTSTART;TZID=America/New_York:20190923T103000
DTEND;TZID=America/New_York:20190923T113000
DTSTAMP:20260421T103708
CREATED:20190727T123307Z
LAST-MODIFIED:20190727T123307Z
UID:52727-1569234600-1569238200@www.cumminglocal.com
SUMMARY:Tech A.M. - E-Readers for Beginners
DESCRIPTION:Learn how to use the e-reader you have or try one before you buy. A variety of e-readers will be available for you to try out and practice on. If you have one already\, bring it! We will show you how to check out library e-books on your device.
URL:https://www.cumminglocal.com/event/tech-a-m-e-readers-for-beginners/
LOCATION:Post Road Library\, 5010 Post Road\, Cumming\, GA\, 30040\, United States
CATEGORIES:Library Events
ORGANIZER;CN="Forsyth County Public Library":MAILTO:gloverp@forsythpl.org
END:VEVENT
BEGIN:VEVENT
DTSTART;TZID=America/New_York:20190923T190000
DTEND;TZID=America/New_York:20190923T200000
DTSTAMP:20260421T103708
CREATED:20190727T123307Z
LAST-MODIFIED:20190727T123307Z
UID:52728-1569265200-1569268800@www.cumminglocal.com
SUMMARY:Ancient Egypt - Great Civilizations
DESCRIPTION:The ancient Egyptians are most famous for their elaborate funerary preparations\, but these practices were only a small part of a broader Egyptian worldview in which the practices not only made sense\, but were regarded as absolutely necessary. This talk explores the ways in which the ancient Egyptian experience of the world was shaped by elements such as landscape\, agriculture\, and technology\, and seeks to understand the place of funerary religion within this larger whole. \nAbout Dr. Rune Nyord \nDr. Rune Nyord is an Assistant Professor of Ancient Egyptian Art and Archaeology at Emory University. Before joining Emory in 2018\, he held positions at the University of Copenhagen\, Christ’s College (University of Cambridge)\, and the Free University Berlin. His research focuses on ancient Egyptian funerary culture and ancestor cult\, especially of the Middle Kingdom (early 2nd millennium BCE). He is the author of the monograph Breathing Flesh: Conceptions of the Body in the Ancient Egyptian Coffin Texts (Copenhagen\, 2009) as well as numerous papers and book chapters on ancient Egyptian religion\, art\, and language.
URL:https://www.cumminglocal.com/event/ancient-egypt-great-civilizations/
LOCATION:Cumming Library\, 585 Dahlonega Street\, Cumming\, GA\, 30040\, United States
CATEGORIES:Library Events
ORGANIZER;CN="Forsyth County Public Library":MAILTO:gloverp@forsythpl.org
END:VEVENT
END:VCALENDAR