BEGIN:VCALENDAR
VERSION:2.0
PRODID:-//Cumming Local - ECPv6.15.17//NONSGML v1.0//EN
CALSCALE:GREGORIAN
METHOD:PUBLISH
X-WR-CALNAME:Cumming Local
X-ORIGINAL-URL:https://www.cumminglocal.com
X-WR-CALDESC:Events for Cumming Local
REFRESH-INTERVAL;VALUE=DURATION:PT1H
X-Robots-Tag:noindex
X-PUBLISHED-TTL:PT1H
BEGIN:VTIMEZONE
TZID:America/New_York
BEGIN:DAYLIGHT
TZOFFSETFROM:-0500
TZOFFSETTO:-0400
TZNAME:EDT
DTSTART:20180311T070000
END:DAYLIGHT
BEGIN:STANDARD
TZOFFSETFROM:-0400
TZOFFSETTO:-0500
TZNAME:EST
DTSTART:20181104T060000
END:STANDARD
BEGIN:DAYLIGHT
TZOFFSETFROM:-0500
TZOFFSETTO:-0400
TZNAME:EDT
DTSTART:20190310T070000
END:DAYLIGHT
BEGIN:STANDARD
TZOFFSETFROM:-0400
TZOFFSETTO:-0500
TZNAME:EST
DTSTART:20191103T060000
END:STANDARD
BEGIN:DAYLIGHT
TZOFFSETFROM:-0500
TZOFFSETTO:-0400
TZNAME:EDT
DTSTART:20200308T070000
END:DAYLIGHT
BEGIN:STANDARD
TZOFFSETFROM:-0400
TZOFFSETTO:-0500
TZNAME:EST
DTSTART:20201101T060000
END:STANDARD
END:VTIMEZONE
BEGIN:VEVENT
DTSTART;TZID=America/New_York:20190915T140000
DTEND;TZID=America/New_York:20190915T150000
DTSTAMP:20260423T140417
CREATED:20190727T123307Z
LAST-MODIFIED:20190727T123307Z
UID:52719-1568556000-1568559600@www.cumminglocal.com
SUMMARY:Lost and Drowned in North Georgia -  Forgotten Cities and Towns
DESCRIPTION:North Georgia has more than forty lakes and not one is natural. The state’s controversial decision to dam the region’s rivers for power and water supply changed the landscape forever. Lost communities\, forgotten crossroads\, dissolving racetracks and even entire towns disappeared\, with remnants occasionally peeking up from the depths during times of extreme drought. The creation of Lake Lanier displaced more than seven hundred families. During the construction of Lake Chatuge\, busloads of schoolboys were brought in to help disinter graves for the community’s cemetery relocation. Contractors clearing land for the development of Lake Hartwell met with seventy-eight-year-old Eliza Brock wielding a shotgun and warning the men off her property. Lisa Russell\, author of Lost Cities of North Georgia\,  Underwater Ghost Towns of North Georgia\, and the upcoming Lost Mill Towns of North Georgia\, dives into the history hidden beneath North Georgia’s lakes. \nLisa M. Russell is a member of Society for Georgia Archaeology\, Bartow History Museum\, Etowah Valley Historical Society\, Whitfield-Murray Historical Society\, and the Cherokee County Historical Society. She earned her Masters of Arts degree in professional writing from Kennesaw State University. Lisa teaches English full-time at Georgia Northwestern Technical College. She is a part-time professor of communication at Kennesaw State University. She also teaches at Belhaven University. In her “spare-time” You can find Lisa exploring North Georgia for her next story.
URL:https://www.cumminglocal.com/event/lost-and-drowned-in-north-georgia-forgotten-cities-and-towns/
LOCATION:Hampton Park Library\, 5345 Settingdown Road\, Cumming\, GA\, 30041\, United States
CATEGORIES:Library Events
ORGANIZER;CN="Forsyth County Public Library":MAILTO:gloverp@forsythpl.org
END:VEVENT
BEGIN:VEVENT
DTSTART;TZID=America/New_York:20190915T160000
DTEND;TZID=America/New_York:20190915T173000
DTSTAMP:20260423T140417
CREATED:20190910T005412Z
LAST-MODIFIED:20190910T005412Z
UID:53176-1568563200-1568568600@www.cumminglocal.com
SUMMARY:Tea and Meet & Greet with Princess 👑  Elsa!
DESCRIPTION:High Tea with Princess Elsa! \n$40/person \nIncludes: Pictures & autographs with our special guest – PRINCESS ELSA!!!\, High Tea Service\, Light Bites\, Sweet Treats\, Photo Booth\, & make & take craft!!! \nThis event WILL sell out\, as we have a limited number of spots available\, so make sure to get your tickets early. 😀 \nALL TICKETS MUST BE PURCHASED AHEAD OF TIME IN STORE\, VIA PHONE (470) 215-0390\, OR ONLINE AT: WWW.COMMUNITYCUPGA.COM/STORE/ ** \n**Under “add ons” category. In the “special instructions” field: please include the first names of each guest.
URL:https://www.cumminglocal.com/event/tea-and-meet-greet-with-princess-%f0%9f%91%91-elsa/
LOCATION:Community Cup\, 125 Tribble Gap Rd Suite 103\, Cumming\, GA\, 30040\, United States
ATTACH;FMTTYPE=image/jpeg:https://www.cumminglocal.com/wp-content/uploads/2019/09/ADA67714-C216-4E6E-BBCD-4C9D4EA5B80C.jpeg
END:VEVENT
END:VCALENDAR