BEGIN:VCALENDAR
VERSION:2.0
PRODID:-//Cumming Local - ECPv6.15.17//NONSGML v1.0//EN
CALSCALE:GREGORIAN
METHOD:PUBLISH
X-ORIGINAL-URL:https://www.cumminglocal.com
X-WR-CALDESC:Events for Cumming Local
REFRESH-INTERVAL;VALUE=DURATION:PT1H
X-Robots-Tag:noindex
X-PUBLISHED-TTL:PT1H
BEGIN:VTIMEZONE
TZID:America/New_York
BEGIN:DAYLIGHT
TZOFFSETFROM:-0500
TZOFFSETTO:-0400
TZNAME:EDT
DTSTART:20180311T070000
END:DAYLIGHT
BEGIN:STANDARD
TZOFFSETFROM:-0400
TZOFFSETTO:-0500
TZNAME:EST
DTSTART:20181104T060000
END:STANDARD
BEGIN:DAYLIGHT
TZOFFSETFROM:-0500
TZOFFSETTO:-0400
TZNAME:EDT
DTSTART:20190310T070000
END:DAYLIGHT
BEGIN:STANDARD
TZOFFSETFROM:-0400
TZOFFSETTO:-0500
TZNAME:EST
DTSTART:20191103T060000
END:STANDARD
BEGIN:DAYLIGHT
TZOFFSETFROM:-0500
TZOFFSETTO:-0400
TZNAME:EDT
DTSTART:20200308T070000
END:DAYLIGHT
BEGIN:STANDARD
TZOFFSETFROM:-0400
TZOFFSETTO:-0500
TZNAME:EST
DTSTART:20201101T060000
END:STANDARD
END:VTIMEZONE
BEGIN:VEVENT
DTSTART;TZID=America/New_York:20190814T183000
DTEND;TZID=America/New_York:20190814T193000
DTSTAMP:20260424T171603
CREATED:20190809T171237Z
LAST-MODIFIED:20190809T171237Z
UID:52931-1565807400-1565811000@www.cumminglocal.com
SUMMARY:Full Moon Yoga Nidra Pop-Up Class
DESCRIPTION:Join us for a POP-UP class!  \nAshley Baer will be leading us through a Full Moon centered Yoga Nidra to find meditative self-inquiry and deep relaxation throughout the body and the mind.  \nRegular class rates apply. Space is limited.\nwww.village-yoga.com/schedule
URL:https://www.cumminglocal.com/event/full-moon-yoga-nidra-pop-up-class/
LOCATION:Village Yoga\, 5854 N Vickery St\, Suite J1\, Cumming\, GA\, 30040\, United States
CATEGORIES:Fitness Events/Races
ATTACH;FMTTYPE=image/jpeg:https://www.cumminglocal.com/wp-content/uploads/2019/08/yoga-nidra.jpg
ORGANIZER;CN="Village Yoga":MAILTO:info@village-yoga.com
END:VEVENT
BEGIN:VEVENT
DTSTART;TZID=America/New_York:20190814T190000
DTEND;TZID=America/New_York:20190814T200000
DTSTAMP:20260424T171603
CREATED:20190714T230026Z
LAST-MODIFIED:20190714T230026Z
UID:52578-1565809200-1565812800@www.cumminglocal.com
SUMMARY:Mark Warren Presents "What Made Wyatt Earp Tick?"
DESCRIPTION:What Made Wyatt Earp Tick? Many historians have attempted to dissect the personality of Wyatt Earp\, calling him a complex man with contradictory callings. He was\, in fact\, a very simple man with a straight-forward demeanor. His physical prowess put him in a commanding position among other men\, but his confidence and deliberation were the palpable forces that made others fear or admire him.  \nAfter 63 years of research\, author and Western historian Mark Warren reveals the true nature of Wyatt Earp and explains why he has deservedly entered the pantheon of American heroes. Come join us for a slide presentation of all things Earp. \nWestern historian Mark Warren has been researching the Frontier West for most of his life. His trilogy\, Wyatt Earp\, An American Odyssey\,” has met with the approval of a discerning group of Western historians as well as lovers of the historical fiction genre.  \nUnlike most books on Wyatt Earp\, Warren includes the women in Wyatt’s life rounding out the amazing\, yet tragic story of this iconic Western marshal. These books appeal to both men and women alike\, and they make a great selection for book clubs who enjoy discussing the history of our nation\, and those who pioneered the American West. \nRead chapter one of Adobe Moon and find out more about all of Mark’s books at www.wyattearpanamericanodyssey.com
URL:https://www.cumminglocal.com/event/mark-warren-presents-what-made-wyatt-earp-tick/
LOCATION:Cumming Library\, 585 Dahlonega Street\, Cumming\, GA\, 30040\, United States
CATEGORIES:Library Events,Other
ATTACH;FMTTYPE=image/png:https://www.cumminglocal.com/wp-content/uploads/2019/07/trilogy-photo-for-FB.png
END:VEVENT
END:VCALENDAR