BEGIN:VCALENDAR
VERSION:2.0
PRODID:-//Cumming Local - ECPv6.15.17//NONSGML v1.0//EN
CALSCALE:GREGORIAN
METHOD:PUBLISH
X-ORIGINAL-URL:https://www.cumminglocal.com
X-WR-CALDESC:Events for Cumming Local
REFRESH-INTERVAL;VALUE=DURATION:PT1H
X-Robots-Tag:noindex
X-PUBLISHED-TTL:PT1H
BEGIN:VTIMEZONE
TZID:America/New_York
BEGIN:DAYLIGHT
TZOFFSETFROM:-0500
TZOFFSETTO:-0400
TZNAME:EDT
DTSTART:20180311T070000
END:DAYLIGHT
BEGIN:STANDARD
TZOFFSETFROM:-0400
TZOFFSETTO:-0500
TZNAME:EST
DTSTART:20181104T060000
END:STANDARD
BEGIN:DAYLIGHT
TZOFFSETFROM:-0500
TZOFFSETTO:-0400
TZNAME:EDT
DTSTART:20190310T070000
END:DAYLIGHT
BEGIN:STANDARD
TZOFFSETFROM:-0400
TZOFFSETTO:-0500
TZNAME:EST
DTSTART:20191103T060000
END:STANDARD
BEGIN:DAYLIGHT
TZOFFSETFROM:-0500
TZOFFSETTO:-0400
TZNAME:EDT
DTSTART:20200308T070000
END:DAYLIGHT
BEGIN:STANDARD
TZOFFSETFROM:-0400
TZOFFSETTO:-0500
TZNAME:EST
DTSTART:20201101T060000
END:STANDARD
END:VTIMEZONE
BEGIN:VEVENT
DTSTART;VALUE=DATE:20190808
DTEND;VALUE=DATE:20190809
DTSTAMP:20260422T230836
CREATED:20190710T164650Z
LAST-MODIFIED:20190710T164650Z
UID:52624-1565222400-1565308799@www.cumminglocal.com
SUMMARY:International Cat Day
DESCRIPTION:#InternationalCatDay
URL:https://www.cumminglocal.com/event/international-cat-day/
CATEGORIES:Other
END:VEVENT
BEGIN:VEVENT
DTSTART;TZID=America/New_York:20190808T120000
DTEND;TZID=America/New_York:20190808T120000
DTSTAMP:20260422T230836
CREATED:20190524T002449Z
LAST-MODIFIED:20190524T002449Z
UID:52259-1565265600-1565265600@www.cumminglocal.com
SUMMARY:Family Promise Garage Sale
DESCRIPTION:Family Promise\, a non-profit national organization with an office in Cumming\, serves homeless families in the area by providing short term housing and goal oriented programs to help them regain sustainable independence. Our third annual Family Promise Garage Sale will be held at Lakewood 400 Antiques Market for three days in August.  \nHow can you help?\nDonate items to sell: Furniture and household items are being accepted July 27 – Aug. 7th 10am – 2pm and Sundays 2pm – 5pm. Volunteer your time: https://www.signupgenius.com/go/4090e4daea728abf94-family3\nShop at the sale!  \nFor additional information contact: fpforsyth.org\nCarol Terry      carolterry11@comcast.net      770-722-2201\nNancy Graves      nancyjgraves@gmail.com       805-501-7894
URL:https://www.cumminglocal.com/event/family-promise-garage-sale/
LOCATION:Lakewood 400 Antiques Market\, 1321 Atlanta Hwy\, Cumming\, GA\, 30040\, United States
CATEGORIES:Fundraisers
ATTACH;FMTTYPE=image/jpeg:https://www.cumminglocal.com/wp-content/uploads/2019/05/Red-Logo.jpg
ORGANIZER;CN="Carol Terry":MAILTO:carolterry11@comcast.net
END:VEVENT
BEGIN:VEVENT
DTSTART;TZID=America/New_York:20190808T160000
DTEND;TZID=America/New_York:20190808T190000
DTSTAMP:20260422T230836
CREATED:20190727T133837Z
LAST-MODIFIED:20190727T133838Z
UID:52839-1565280000-1565290800@www.cumminglocal.com
SUMMARY:Foco Expo 2019
DESCRIPTION:For an insider’s look into FoCo Expo 2019\, take a look at this recent article: https://www.cumminglocal.com/foco-expo-2019/ \n 
URL:https://www.cumminglocal.com/event/foco-expo-2019/
LOCATION:Forsyth Conference Center\, 3410 Ronald Reagan Blvd\, Cumming\, GA\, 30041\, United States
CATEGORIES:Fairs & Festivals
ATTACH;FMTTYPE=image/jpeg:https://www.cumminglocal.com/wp-content/uploads/2019/07/2.jpg
ORGANIZER;CN="Cumming-Forsyth County Chamber of Commerce":MAILTO:cfccoc@cummingforsythchamber.org
END:VEVENT
BEGIN:VEVENT
DTSTART;TZID=America/New_York:20190808T173000
DTEND;TZID=America/New_York:20190808T193000
DTSTAMP:20260422T230836
CREATED:20190729T164311Z
LAST-MODIFIED:20190729T164311Z
UID:52859-1565285400-1565292600@www.cumminglocal.com
SUMMARY:7 year Anniversary Open House & Menu Sampling
DESCRIPTION:Come Celebrate 7 years with us! \nDrop in to enjoy complimentary appetizers from the “Favorites” August menu between 5:30 and 7:30 and get tickets to win great prizes including Dinners\, gift certificates\, and kitchen goodies. Bring the whole family to taste test our menu–we love kids! Check our Facebook Event for even more info on what’s happening at the party. \nGet a ticket in the prize drawing just by RSVPing to the event and another just for dropping by! *Earn even MORE tickets to win when you bring a friend new to Dream Dinners or place an order at the party!* \nNEW Guests can do a “mini Meal prep session” and take home 3 dinners for $34.95! Register to make dinners here:\nhttps://dreamdinners.com/session/807999Come \nSee what Dream Dinners can do for you!
URL:https://www.cumminglocal.com/event/7-year-anniversary-open-house-menu-sampling/
LOCATION:Dream Dinners in Cumming\, 539 Lake Center Parkway\, Cumming\, 30040\, United States
ATTACH;FMTTYPE=image/jpeg:https://www.cumminglocal.com/wp-content/uploads/2019/07/facebook-event-cover.jpg
ORGANIZER;CN="Dream Dinners in Cumming":MAILTO:Cummingga@dreamdinners.com
END:VEVENT
END:VCALENDAR