BEGIN:VCALENDAR
VERSION:2.0
PRODID:-//Cumming Local - ECPv6.15.17//NONSGML v1.0//EN
CALSCALE:GREGORIAN
METHOD:PUBLISH
X-WR-CALNAME:Cumming Local
X-ORIGINAL-URL:https://www.cumminglocal.com
X-WR-CALDESC:Events for Cumming Local
REFRESH-INTERVAL;VALUE=DURATION:PT1H
X-Robots-Tag:noindex
X-PUBLISHED-TTL:PT1H
BEGIN:VTIMEZONE
TZID:America/New_York
BEGIN:DAYLIGHT
TZOFFSETFROM:-0500
TZOFFSETTO:-0400
TZNAME:EDT
DTSTART:20180311T070000
END:DAYLIGHT
BEGIN:STANDARD
TZOFFSETFROM:-0400
TZOFFSETTO:-0500
TZNAME:EST
DTSTART:20181104T060000
END:STANDARD
BEGIN:DAYLIGHT
TZOFFSETFROM:-0500
TZOFFSETTO:-0400
TZNAME:EDT
DTSTART:20190310T070000
END:DAYLIGHT
BEGIN:STANDARD
TZOFFSETFROM:-0400
TZOFFSETTO:-0500
TZNAME:EST
DTSTART:20191103T060000
END:STANDARD
BEGIN:DAYLIGHT
TZOFFSETFROM:-0500
TZOFFSETTO:-0400
TZNAME:EDT
DTSTART:20200308T070000
END:DAYLIGHT
BEGIN:STANDARD
TZOFFSETFROM:-0400
TZOFFSETTO:-0500
TZNAME:EST
DTSTART:20201101T060000
END:STANDARD
END:VTIMEZONE
BEGIN:VEVENT
DTSTART;TZID=America/New_York:20190605T100000
DTEND;TZID=America/New_York:20190720T130000
DTSTAMP:20260422T200414
CREATED:20190626T132315Z
LAST-MODIFIED:20190626T132315Z
UID:52420-1559728800-1563627600@www.cumminglocal.com
SUMMARY:Beginner Photography Workshop
DESCRIPTION:Finally find out what all those dials and buttons do on your DSLR\, how to find gorgeous light\, shoot in manual mode\, and what the heck “aperture” and ISO are! Sarah Cothran will start by teaching you the basics and introduce you to all those fun technical aspects of shooting in manual. \nWe will begin inside at 10am with the classroom portion of the workshop and head outside afterwards to get some hands on practice! \nINFO: https://sarahcothran.com/2019/05/beginner-photography-workshop/ \nQuestions: sarah@sarahcothran.com
URL:https://www.cumminglocal.com/event/beginner-photography-workshop/
LOCATION:Arseneau Advisory Group\, 5822 North Vickery St\, Cumming\, GA\, 30040\, United States
CATEGORIES:Workshops
ORGANIZER;CN="Sarah C. Photography":MAILTO:sarah@sarahcothran.com
END:VEVENT
BEGIN:VEVENT
DTSTART;TZID=America/New_York:20190624T093000
DTEND;TZID=America/New_York:20190628T120000
DTSTAMP:20260422T200414
CREATED:20190313T011357Z
LAST-MODIFIED:20190313T011357Z
UID:50440-1561368600-1561723200@www.cumminglocal.com
SUMMARY:Dance Around The World
DESCRIPTION:A dance camp at Still Pointe Dance Studios for kids 4-8 years old where we will explore  music and movement from around the globe! June 24-28 from 9:30am-12noon. $145. Early bird discount is $135. if registered before May 1st!
URL:https://www.cumminglocal.com/event/dance-around-the-world/
LOCATION:Still Pointe\, 1675 Peachtree Par\, Cumming\, GA\, 30041\, United States
CATEGORIES:Musical/Dance/Theater Events
ATTACH;FMTTYPE=image/jpeg:https://www.cumminglocal.com/wp-content/uploads/2019/03/SummerCamp.jpg
END:VEVENT
BEGIN:VEVENT
DTSTART;TZID=America/New_York:20190628T100000
DTEND;TZID=America/New_York:20190628T120000
DTSTAMP:20260422T200414
CREATED:20190531T180231Z
LAST-MODIFIED:20190531T180231Z
UID:52354-1561716000-1561723200@www.cumminglocal.com
SUMMARY:Barnyard Friends - A Petting Zoo Experience
DESCRIPTION:Llamas and bunnies and goats\, oh my! Make some new soft and woolly animal friends at the library! Llamas\, sheep\, rabbits\, and more will be on-hand for petting and feeding — don’t forget to bring your camera!  \nThis program is for all ages and registration is not required.  Please note:  Space inside the petting zoo is limited!  We’ll have crafts and activities while you wait!
URL:https://www.cumminglocal.com/event/barnyard-friends-a-petting-zoo-experience/
LOCATION:Hampton Park Library\, 5345 Settingdown Road\, Cumming\, GA\, 30041\, United States
CATEGORIES:Library Events
ORGANIZER;CN="Forsyth County Public Library":MAILTO:gloverp@forsythpl.org
END:VEVENT
BEGIN:VEVENT
DTSTART;TZID=America/New_York:20190628T173000
DTEND;TZID=America/New_York:20190628T190000
DTSTAMP:20260422T200414
CREATED:20190531T180231Z
LAST-MODIFIED:20190531T180231Z
UID:52355-1561743000-1561748400@www.cumminglocal.com
SUMMARY:Caribbean Celebration! A One World Forsyth Event
DESCRIPTION:Let’s limbo lower now! Live steel drum music\, beach games\, island crafts and more await you at our after-hours Caribbean celebration.\nNo registration required\, but space is limited. Please arrive early for a ticket. \nThis is an after-hours event and the main library will be closed.
URL:https://www.cumminglocal.com/event/caribbean-celebration-a-one-world-forsyth-event/
LOCATION:Post Road Library\, 5010 Post Road\, Cumming\, GA\, 30040\, United States
CATEGORIES:Library Events
ORGANIZER;CN="Forsyth County Public Library":MAILTO:gloverp@forsythpl.org
END:VEVENT
BEGIN:VEVENT
DTSTART;TZID=America/New_York:20190628T190000
DTEND;TZID=America/New_York:20190629T090000
DTSTAMP:20260422T200414
CREATED:20190626T132315Z
LAST-MODIFIED:20190626T132315Z
UID:52423-1561748400-1561798800@www.cumminglocal.com
SUMMARY:The Headshot Event
DESCRIPTION:PROFESSIONAL HEADSHOTS by Sarah Cothran\n$60 | 15 Minutes | 3 digital images \nMeeting Location: Chill Hill Green area at Vickery Village – Cumming\, GA  \nHow it works:\nWe’ll start with a short image consultation where you will discuss your goals and what you want your images to do for you. With that in mind\, we’ll stroll around the outside of the shops at Vickery Village for about 10 minutes\, take a variety of colorful\, textured headshots; then you’re done! Later\, I will work with your images to enhance color and perform other magical powers. Then\, when I’ve got your pictures perfect\, I’ll email them to you.  \nwww.sarahcothran.com
URL:https://www.cumminglocal.com/event/the-headshot-event/
LOCATION:Vickery Village\, 5855 South Vickery Street\, Cumming\, GA\, 30040\, United States
CATEGORIES:Other
ORGANIZER;CN="Sarah C. Photography":MAILTO:sarah@sarahcothran.com
END:VEVENT
END:VCALENDAR