BEGIN:VCALENDAR
VERSION:2.0
PRODID:-//Cumming Local - ECPv6.15.17//NONSGML v1.0//EN
CALSCALE:GREGORIAN
METHOD:PUBLISH
X-WR-CALNAME:Cumming Local
X-ORIGINAL-URL:https://www.cumminglocal.com
X-WR-CALDESC:Events for Cumming Local
REFRESH-INTERVAL;VALUE=DURATION:PT1H
X-Robots-Tag:noindex
X-PUBLISHED-TTL:PT1H
BEGIN:VTIMEZONE
TZID:America/New_York
BEGIN:DAYLIGHT
TZOFFSETFROM:-0500
TZOFFSETTO:-0400
TZNAME:EDT
DTSTART:20180311T070000
END:DAYLIGHT
BEGIN:STANDARD
TZOFFSETFROM:-0400
TZOFFSETTO:-0500
TZNAME:EST
DTSTART:20181104T060000
END:STANDARD
BEGIN:DAYLIGHT
TZOFFSETFROM:-0500
TZOFFSETTO:-0400
TZNAME:EDT
DTSTART:20190310T070000
END:DAYLIGHT
BEGIN:STANDARD
TZOFFSETFROM:-0400
TZOFFSETTO:-0500
TZNAME:EST
DTSTART:20191103T060000
END:STANDARD
BEGIN:DAYLIGHT
TZOFFSETFROM:-0500
TZOFFSETTO:-0400
TZNAME:EDT
DTSTART:20200308T070000
END:DAYLIGHT
BEGIN:STANDARD
TZOFFSETFROM:-0400
TZOFFSETTO:-0500
TZNAME:EST
DTSTART:20201101T060000
END:STANDARD
END:VTIMEZONE
BEGIN:VEVENT
DTSTART;TZID=America/New_York:20190605T100000
DTEND;TZID=America/New_York:20190720T130000
DTSTAMP:20260423T093640
CREATED:20190626T132315Z
LAST-MODIFIED:20190626T132315Z
UID:52420-1559728800-1563627600@www.cumminglocal.com
SUMMARY:Beginner Photography Workshop
DESCRIPTION:Finally find out what all those dials and buttons do on your DSLR\, how to find gorgeous light\, shoot in manual mode\, and what the heck “aperture” and ISO are! Sarah Cothran will start by teaching you the basics and introduce you to all those fun technical aspects of shooting in manual. \nWe will begin inside at 10am with the classroom portion of the workshop and head outside afterwards to get some hands on practice! \nINFO: https://sarahcothran.com/2019/05/beginner-photography-workshop/ \nQuestions: sarah@sarahcothran.com
URL:https://www.cumminglocal.com/event/beginner-photography-workshop/
LOCATION:Arseneau Advisory Group\, 5822 North Vickery St\, Cumming\, GA\, 30040\, United States
CATEGORIES:Workshops
ORGANIZER;CN="Sarah C. Photography":MAILTO:sarah@sarahcothran.com
END:VEVENT
BEGIN:VEVENT
DTSTART;VALUE=DATE:20190608
DTEND;VALUE=DATE:20190609
DTSTAMP:20260423T093640
CREATED:20190511T164656Z
LAST-MODIFIED:20190511T164656Z
UID:52119-1559952000-1560038399@www.cumminglocal.com
SUMMARY:World Oceans Day
DESCRIPTION:#WorldOceansDay
URL:https://www.cumminglocal.com/event/world-oceans-day/
CATEGORIES:Other
END:VEVENT
BEGIN:VEVENT
DTSTART;VALUE=DATE:20190608
DTEND;VALUE=DATE:20190609
DTSTAMP:20260423T093640
CREATED:20190511T164656Z
LAST-MODIFIED:20190511T164656Z
UID:52118-1559952000-1560038399@www.cumminglocal.com
SUMMARY:Best Friends Day
DESCRIPTION:#BestFriendsDay
URL:https://www.cumminglocal.com/event/best-friends-day/
CATEGORIES:Other
END:VEVENT
BEGIN:VEVENT
DTSTART;TZID=America/New_York:20190608T100000
DTEND;TZID=America/New_York:20190608T150000
DTSTAMP:20260423T093641
CREATED:20190530T220119Z
LAST-MODIFIED:20190530T220119Z
UID:52301-1559988000-1560006000@www.cumminglocal.com
SUMMARY:Sage Dental Free Oral Cancer Screening
DESCRIPTION:We will be doing free oral cancer screenings \, which is done with a velscope camera.\nA velscope camera detects abnormal images in the month .\nEvent Location: 1500 Market Pl Blvd\, Cumming\, GA 30041
URL:https://www.cumminglocal.com/event/sage-dental-free-oral-cancer-screening/
LOCATION:Walmart\, 1500 Market Pl Blvd\, Cumming\, GA\, 30041\, United States
ATTACH;FMTTYPE=image/jpeg:https://www.cumminglocal.com/wp-content/uploads/2019/05/Velscope20image2031.jpg
ORGANIZER;CN="Sage Dental Of Cumming":MAILTO:R07CummingFrontDesk@mysagedental.com
END:VEVENT
BEGIN:VEVENT
DTSTART;TZID=America/New_York:20190608T103000
DTEND;TZID=America/New_York:20190608T113000
DTSTAMP:20260423T093641
CREATED:20190520T153343Z
LAST-MODIFIED:20190520T153343Z
UID:52202-1559989800-1559993400@www.cumminglocal.com
SUMMARY:Beauty for a Day: Everything You Need to Know about Daylilies
DESCRIPTION:Charles “Doc” Self will explore the basics of the plant\, including its history and development and its status in American gardens today. Learn which ones to get and which ones to avoid\, where to get them\, how to plant and care for them\, and how to share them with your friends\, family\, and fellow gardeners. Participants will receive take-home materials with basic terminology\, resource websites\, and planting and care instructions. \nCharles Self is a “recovering” lawyer\, retired in 2016\, and a practicing Master Gardener. He currently serves on the board of the Daylily Society of Greater Atlanta\, and his local personal garden contains approximately 180 separate varieties of daylilies\, which are presently in bloom.
URL:https://www.cumminglocal.com/event/beauty-for-a-day-everything-you-need-to-know-about-daylilies/
LOCATION:Hampton Park Library\, 5345 Settingdown Road\, Cumming\, GA\, 30041\, United States
CATEGORIES:Library Events
ATTACH;FMTTYPE=image/jpeg:https://www.cumminglocal.com/wp-content/uploads/2019/05/Beauty-for-a-day-HP.jpg
ORGANIZER;CN="Forsyth County Public Library":MAILTO:gloverp@forsythpl.org
END:VEVENT
BEGIN:VEVENT
DTSTART;TZID=America/New_York:20190608T103000
DTEND;TZID=America/New_York:20190608T120000
DTSTAMP:20260423T093641
CREATED:20190508T124041Z
LAST-MODIFIED:20190508T124041Z
UID:52076-1559989800-1559995200@www.cumminglocal.com
SUMMARY:Leap into Literacy with Skippyjon Jones
DESCRIPTION:Families with young children are invited to enjoy a simple breakfast\, stories\, songs\, and early literacy activities at the Cumming Library. Children can also meet beloved book character Skippyjon Jones and take home a free book courtesy of Barnes & Noble and Scholastic! \nLeap into Literacy programs are designed for infants\, toddlers\, and preschoolers\, but children of all ages are welcome to attend with a caregiver. Admission is free. \nSpecial thanks to Community Cup for their support of this early literacy event. \nThe 2018 – 2019 Leap into Literacy program is sponsored by Forsyth County Public Library\, Forsyth County Schools\, Georgia Highlands Medical Services\, and Literacy Forsyth. Leap into Literacy is also supported by a Community Impact Grant from the North Georgia Community Foundation\, as well as contributions from Scholastic\, Inc.\, Barnes & Noble\, and Forsyth County Public Library Friends and Advocates.
URL:https://www.cumminglocal.com/event/leap-into-literacy-with-skippyjon-jones/
LOCATION:Cumming Library\, 585 Dahlonega Street\, Cumming\, GA\, 30040\, United States
CATEGORIES:Library Events
ATTACH;FMTTYPE=image/jpeg:https://www.cumminglocal.com/wp-content/uploads/2019/05/LEAP-INTO-LITERACY-with-Skippyjon-Jones.jpg
ORGANIZER;CN="Forsyth County Public Library":MAILTO:gloverp@forsythpl.org
END:VEVENT
BEGIN:VEVENT
DTSTART;TZID=America/New_York:20190608T110000
DTEND;TZID=America/New_York:20190608T130000
DTSTAMP:20260423T093641
CREATED:20190520T153343Z
LAST-MODIFIED:20190520T153343Z
UID:52087-1559991600-1559998800@www.cumminglocal.com
SUMMARY:Touch A Truck Event at Buford Village
DESCRIPTION:Saturday\, June 8; 11:00 to 1:00 p.m. \nCome See & Explore all types of vehicles \nWe’ll have a fire truck\, police car\, ambulance\, forklift\, classic car\, tractor\,\nspeed boat and a very cool hot pink stretch limo! \nDine in our Buford Village restaurants \nFun for the Whole Family \n2255 Buford Village Way\, Buford\, GA  30518 \nFacebook.com/bufordvillagega
URL:https://www.cumminglocal.com/event/touch-a-truck-event-at-buford-village/
CATEGORIES:Other
END:VEVENT
BEGIN:VEVENT
DTSTART;TZID=America/New_York:20190608T130000
DTEND;TZID=America/New_York:20190608T230000
DTSTAMP:20260423T093641
CREATED:20190424T005401Z
LAST-MODIFIED:20190424T005401Z
UID:51833-1559998800-1560034800@www.cumminglocal.com
SUMMARY:THE ICON MUSIC FEST W/ THE PURPLE XPERIENCE (PRINCE)\, I AM KING (MICHAEL JACKSON)\, SO MADONNA (MADONNA)\, BAD ROMANCE (LADY GAGA) AND I HEART RADIOS OWN DJ TIME ONE W/ SPECIAL FREDDIE MERCURY / QUEEN TRIBUTE
DESCRIPTION:Perhaps the biggest production show of the summer… \nThe ICON music festival presented by 37 MAIN at the Cumming Fairgrounds is a show for the ages!!! \nGet ready to experience hands down the Nations premier tributes to PRINCE\, MICHAEL JACKSON\, MADONNA & a special tribute DJ set to Freddie Mercury & Queen! \nThe Purple Xperience (PRINCE – From Minneapolis\, MN) \nI Am King (MICHAEL JACKSON – From Los Vegas\, NV) \nSo Madonna (MADONNA) -From Los Angeles\, CA \nI HEART RADIO’s OWN\, DJ TIME ONE (Tribute to Freddie & Queen) – From Atlanta\, GA
URL:https://www.cumminglocal.com/event/the-icon-music-fest-w-the-purple-xperience-prince-i-am-king-michael-jackson-so-madonna-madonna-bad-romance-lady-gaga-and-i-heart-radios-own-dj-time-one-w-special-freddie-mercury-queen-t/
LOCATION:Cumming Fairgrounds
CATEGORIES:Fairs & Festivals,Musical/Dance/Theater Events
ATTACH;FMTTYPE=image/jpeg:https://www.cumminglocal.com/wp-content/uploads/2019/04/Icon-fest.jpg
END:VEVENT
BEGIN:VEVENT
DTSTART;TZID=America/New_York:20190608T140000
DTEND;TZID=America/New_York:20190608T150000
DTSTAMP:20260423T093641
CREATED:20190520T153343Z
LAST-MODIFIED:20190520T153343Z
UID:52204-1560002400-1560006000@www.cumminglocal.com
SUMMARY:Grow It\, Don't Throw It: Master Gardeners Summer Series
DESCRIPTION:Want to take your buy local commitment to the next level?   Learn how to reduce waste\, save money\, and have fun!   \nThe Master Gardeners will guide you in growing plants\, fruits\, and vegetables from scraps\, cuttings\, and more.  Please bring clean garden gloves if you can.
URL:https://www.cumminglocal.com/event/grow-it-dont-throw-it-master-gardeners-summer-series/
LOCATION:Cumming Library\, 585 Dahlonega Street\, Cumming\, GA\, 30040\, United States
CATEGORIES:Library Events
ATTACH;FMTTYPE=image/jpeg:https://www.cumminglocal.com/wp-content/uploads/2019/05/Master-Gardener-Summer-Series-1.jpg
ORGANIZER;CN="Forsyth County Public Library":MAILTO:gloverp@forsythpl.org
END:VEVENT
END:VCALENDAR