BEGIN:VCALENDAR
VERSION:2.0
PRODID:-//Cumming Local - ECPv6.15.17//NONSGML v1.0//EN
CALSCALE:GREGORIAN
METHOD:PUBLISH
X-WR-CALNAME:Cumming Local
X-ORIGINAL-URL:https://www.cumminglocal.com
X-WR-CALDESC:Events for Cumming Local
REFRESH-INTERVAL;VALUE=DURATION:PT1H
X-Robots-Tag:noindex
X-PUBLISHED-TTL:PT1H
BEGIN:VTIMEZONE
TZID:America/New_York
BEGIN:DAYLIGHT
TZOFFSETFROM:-0500
TZOFFSETTO:-0400
TZNAME:EDT
DTSTART:20180311T070000
END:DAYLIGHT
BEGIN:STANDARD
TZOFFSETFROM:-0400
TZOFFSETTO:-0500
TZNAME:EST
DTSTART:20181104T060000
END:STANDARD
BEGIN:DAYLIGHT
TZOFFSETFROM:-0500
TZOFFSETTO:-0400
TZNAME:EDT
DTSTART:20190310T070000
END:DAYLIGHT
BEGIN:STANDARD
TZOFFSETFROM:-0400
TZOFFSETTO:-0500
TZNAME:EST
DTSTART:20191103T060000
END:STANDARD
BEGIN:DAYLIGHT
TZOFFSETFROM:-0500
TZOFFSETTO:-0400
TZNAME:EDT
DTSTART:20200308T070000
END:DAYLIGHT
BEGIN:STANDARD
TZOFFSETFROM:-0400
TZOFFSETTO:-0500
TZNAME:EST
DTSTART:20201101T060000
END:STANDARD
END:VTIMEZONE
BEGIN:VEVENT
DTSTART;TZID=America/New_York:20190605T100000
DTEND;TZID=America/New_York:20190720T130000
DTSTAMP:20260421T103744
CREATED:20190626T132315Z
LAST-MODIFIED:20190626T132315Z
UID:52420-1559728800-1563627600@www.cumminglocal.com
SUMMARY:Beginner Photography Workshop
DESCRIPTION:Finally find out what all those dials and buttons do on your DSLR\, how to find gorgeous light\, shoot in manual mode\, and what the heck “aperture” and ISO are! Sarah Cothran will start by teaching you the basics and introduce you to all those fun technical aspects of shooting in manual. \nWe will begin inside at 10am with the classroom portion of the workshop and head outside afterwards to get some hands on practice! \nINFO: https://sarahcothran.com/2019/05/beginner-photography-workshop/ \nQuestions: sarah@sarahcothran.com
URL:https://www.cumminglocal.com/event/beginner-photography-workshop/
LOCATION:Arseneau Advisory Group\, 5822 North Vickery St\, Cumming\, GA\, 30040\, United States
CATEGORIES:Workshops
ORGANIZER;CN="Sarah C. Photography":MAILTO:sarah@sarahcothran.com
END:VEVENT
BEGIN:VEVENT
DTSTART;VALUE=DATE:20190607
DTEND;VALUE=DATE:20190608
DTSTAMP:20260421T103744
CREATED:20190511T164656Z
LAST-MODIFIED:20190511T164656Z
UID:52117-1559865600-1559951999@www.cumminglocal.com
SUMMARY:National Donut Day
DESCRIPTION:#NationalDonutDay
URL:https://www.cumminglocal.com/event/national-donut-day/
CATEGORIES:Other
END:VEVENT
BEGIN:VEVENT
DTSTART;TZID=America/New_York:20190607T103000
DTEND;TZID=America/New_York:20190607T113000
DTSTAMP:20260421T103744
CREATED:20190520T153343Z
LAST-MODIFIED:20190520T153343Z
UID:52198-1559903400-1559907000@www.cumminglocal.com
SUMMARY:Bach to Rock Music Class
DESCRIPTION:Get ready to rock\, roll\, and learn with Bach to Rock! Join us for a fun\, hands-on music class for preschoolers. Kids will get to touch and try different instruments\, learn about fast and slow beats and sound and silence\, read musical stories\, play games\, and more! \nThis program is for children ages 3-5 with a caregiver. Registration is not required; space is limited.  Tickets will be given out 15 minutes before program starts.
URL:https://www.cumminglocal.com/event/bach-to-rock-music-class/
LOCATION:Sharon Forks Library\, 2820 Old Atlanta Road\, Cumming\, GA\, 30041\, United States
CATEGORIES:Library Events
ATTACH;FMTTYPE=image/jpeg:https://www.cumminglocal.com/wp-content/uploads/2019/05/Bach-to-Rock-Music-Class.jpg
ORGANIZER;CN="Forsyth County Public Library":MAILTO:gloverp@forsythpl.org
END:VEVENT
BEGIN:VEVENT
DTSTART;TZID=America/New_York:20190607T103000
DTEND;TZID=America/New_York:20190607T233000
DTSTAMP:20260421T103744
CREATED:20190520T153343Z
LAST-MODIFIED:20190520T153343Z
UID:52196-1559903400-1559950200@www.cumminglocal.com
SUMMARY:Those Reptile Guys
DESCRIPTION:We love reptiles! Just because they are scaly doesn’t mean they are SCARY! Join us for an interactive reptile experience and meet some of the coolest lizards\, turtles\, and snakes around!   \nKnow Before You Go:\nThis program does not require advance registration and admission will be given on a first-come\, first-served basis. Please arrive early to guarantee your place. We will begin issuing tickets to patrons in line 30 minutes before the program starts.
URL:https://www.cumminglocal.com/event/those-reptile-guys/
LOCATION:Hampton Park Library\, 5345 Settingdown Road\, Cumming\, GA\, 30041\, United States
CATEGORIES:Library Events
ATTACH;FMTTYPE=image/jpeg:https://www.cumminglocal.com/wp-content/uploads/2019/05/Those-Reptile-Guys.jpg
ORGANIZER;CN="Forsyth County Public Library":MAILTO:gloverp@forsythpl.org
END:VEVENT
BEGIN:VEVENT
DTSTART;TZID=America/New_York:20190607T140000
DTEND;TZID=America/New_York:20190607T143000
DTSTAMP:20260421T103744
CREATED:20190520T153343Z
LAST-MODIFIED:20190520T153343Z
UID:52200-1559916000-1559917800@www.cumminglocal.com
SUMMARY:Mumferd's Safety Tales: How to Be Safe in Busy Places
DESCRIPTION:Everything a child should know to stay safe in busy places this summer presented in a fun and engaging format by Mumferd the Dog! This 30-minute performance by the Kaiser Permanente Theatre shares important lifesaving safety and health tips with children using puppets and live action performers. \nAges 4 and up. No registration required but space is limited. Please arrive 30 minutes in advance for a ticket.
URL:https://www.cumminglocal.com/event/mumferds-safety-tales-how-to-be-safe-in-busy-places/
LOCATION:Post Road Library\, 5010 Post Road\, Cumming\, GA\, 30040\, United States
CATEGORIES:Library Events
ATTACH;FMTTYPE=image/jpeg:https://www.cumminglocal.com/wp-content/uploads/2019/05/Mumferd-KaiserPermanente.jpg
ORGANIZER;CN="Forsyth County Public Library":MAILTO:gloverp@forsythpl.org
END:VEVENT
BEGIN:VEVENT
DTSTART;TZID=America/New_York:20190607T190000
DTEND;TZID=America/New_York:20190607T200000
DTSTAMP:20260421T103744
CREATED:20190626T132316Z
LAST-MODIFIED:20190626T132316Z
UID:52417-1559934000-1559937600@www.cumminglocal.com
SUMMARY:Storytelling with ‘Frankie the Dog’ for Kids of All Ages
DESCRIPTION:Coinciding with School Street Food Truck Friday\, this Friday\, June 7 at 7pm\, Frankie’s owners will offer a storytelling for kids of all ages with Frankie participating. After the storytelling\, children will be given a page from a ‘Frankie the Dog’ coloring book with crayons provided by Sawnee Association of the Arts (SAA). Their art work will be on display at the SAA Art Center (Brannon-Heard House) for the next two weeks Thurs-Sat 11am-5pm. Ribbons and prizes will be awarded. A Children’s Artist Reception and Awards Ceremony will be held at 3pm Saturday afternoon on June 15. Parents\, grandparents\, friends and relatives and the general public are invited to view the art display. On Saturday\, June 15\, SAA will also offer a ‘Make a Gift for Dad for Fathers Day’. Visit sawneeart.org for more information.
URL:https://www.cumminglocal.com/event/storytelling-with-frankie-the-dog-for-kids-of-all-ages/
LOCATION:Brannon-Heard House\, Cumming\, 111 Pilgrim Mill Rd\, Cumming\, 30040\, United States
CATEGORIES:Arts & Crafts
ORGANIZER;CN="Sawnee Asscociation of the Arts":MAILTO:Sawneeart@gmail.com
END:VEVENT
END:VCALENDAR