BEGIN:VCALENDAR
VERSION:2.0
PRODID:-//Cumming Local - ECPv6.15.17//NONSGML v1.0//EN
CALSCALE:GREGORIAN
METHOD:PUBLISH
X-WR-CALNAME:Cumming Local
X-ORIGINAL-URL:https://www.cumminglocal.com
X-WR-CALDESC:Events for Cumming Local
REFRESH-INTERVAL;VALUE=DURATION:PT1H
X-Robots-Tag:noindex
X-PUBLISHED-TTL:PT1H
BEGIN:VTIMEZONE
TZID:America/New_York
BEGIN:DAYLIGHT
TZOFFSETFROM:-0500
TZOFFSETTO:-0400
TZNAME:EDT
DTSTART:20180311T070000
END:DAYLIGHT
BEGIN:STANDARD
TZOFFSETFROM:-0400
TZOFFSETTO:-0500
TZNAME:EST
DTSTART:20181104T060000
END:STANDARD
BEGIN:DAYLIGHT
TZOFFSETFROM:-0500
TZOFFSETTO:-0400
TZNAME:EDT
DTSTART:20190310T070000
END:DAYLIGHT
BEGIN:STANDARD
TZOFFSETFROM:-0400
TZOFFSETTO:-0500
TZNAME:EST
DTSTART:20191103T060000
END:STANDARD
BEGIN:DAYLIGHT
TZOFFSETFROM:-0500
TZOFFSETTO:-0400
TZNAME:EDT
DTSTART:20200308T070000
END:DAYLIGHT
BEGIN:STANDARD
TZOFFSETFROM:-0400
TZOFFSETTO:-0500
TZNAME:EST
DTSTART:20201101T060000
END:STANDARD
END:VTIMEZONE
BEGIN:VEVENT
DTSTART;VALUE=DATE:20190605
DTEND;VALUE=DATE:20190606
DTSTAMP:20260422T200416
CREATED:20190511T164655Z
LAST-MODIFIED:20190511T164655Z
UID:52115-1559692800-1559779199@www.cumminglocal.com
SUMMARY:World Environment Day
DESCRIPTION:#WorldEnvironmentDay
URL:https://www.cumminglocal.com/event/world-environment-day/
CATEGORIES:Other
END:VEVENT
BEGIN:VEVENT
DTSTART;TZID=America/New_York:20190605T100000
DTEND;TZID=America/New_York:20190720T130000
DTSTAMP:20260422T200416
CREATED:20190626T132315Z
LAST-MODIFIED:20190626T132315Z
UID:52420-1559728800-1563627600@www.cumminglocal.com
SUMMARY:Beginner Photography Workshop
DESCRIPTION:Finally find out what all those dials and buttons do on your DSLR\, how to find gorgeous light\, shoot in manual mode\, and what the heck “aperture” and ISO are! Sarah Cothran will start by teaching you the basics and introduce you to all those fun technical aspects of shooting in manual. \nWe will begin inside at 10am with the classroom portion of the workshop and head outside afterwards to get some hands on practice! \nINFO: https://sarahcothran.com/2019/05/beginner-photography-workshop/ \nQuestions: sarah@sarahcothran.com
URL:https://www.cumminglocal.com/event/beginner-photography-workshop/
LOCATION:Arseneau Advisory Group\, 5822 North Vickery St\, Cumming\, GA\, 30040\, United States
CATEGORIES:Workshops
ORGANIZER;CN="Sarah C. Photography":MAILTO:sarah@sarahcothran.com
END:VEVENT
BEGIN:VEVENT
DTSTART;TZID=America/New_York:20190605T140000
DTEND;TZID=America/New_York:20190605T153000
DTSTAMP:20260422T200416
CREATED:20190520T153343Z
LAST-MODIFIED:20190520T153343Z
UID:52192-1559743200-1559748600@www.cumminglocal.com
SUMMARY:American Girl History Book Club
DESCRIPTION:A book club for American Girl fans who want to learn more about the historical eras of the characters.  \nRead any book from the American Girl series about Felicity before the program then participate in discussion\, activities and crafts from the Colonial period. \nFor ages 7 and up.  Learn history!  Boys and girls welcome! \nSpace is limited so come early to get a ticket for this program.
URL:https://www.cumminglocal.com/event/american-girl-history-book-club-2/
LOCATION:Cumming Library\, 585 Dahlonega Street\, Cumming\, GA\, 30040\, United States
CATEGORIES:Library Events
ATTACH;FMTTYPE=image/jpeg:https://www.cumminglocal.com/wp-content/uploads/2019/05/American-Girl-History-Book-Club.jpg
ORGANIZER;CN="Forsyth County Public Library":MAILTO:gloverp@forsythpl.org
END:VEVENT
END:VCALENDAR