BEGIN:VCALENDAR
VERSION:2.0
PRODID:-//Cumming Local - ECPv6.15.17//NONSGML v1.0//EN
CALSCALE:GREGORIAN
METHOD:PUBLISH
X-WR-CALNAME:Cumming Local
X-ORIGINAL-URL:https://www.cumminglocal.com
X-WR-CALDESC:Events for Cumming Local
REFRESH-INTERVAL;VALUE=DURATION:PT1H
X-Robots-Tag:noindex
X-PUBLISHED-TTL:PT1H
BEGIN:VTIMEZONE
TZID:America/New_York
BEGIN:DAYLIGHT
TZOFFSETFROM:-0500
TZOFFSETTO:-0400
TZNAME:EDT
DTSTART:20180311T070000
END:DAYLIGHT
BEGIN:STANDARD
TZOFFSETFROM:-0400
TZOFFSETTO:-0500
TZNAME:EST
DTSTART:20181104T060000
END:STANDARD
BEGIN:DAYLIGHT
TZOFFSETFROM:-0500
TZOFFSETTO:-0400
TZNAME:EDT
DTSTART:20190310T070000
END:DAYLIGHT
BEGIN:STANDARD
TZOFFSETFROM:-0400
TZOFFSETTO:-0500
TZNAME:EST
DTSTART:20191103T060000
END:STANDARD
BEGIN:DAYLIGHT
TZOFFSETFROM:-0500
TZOFFSETTO:-0400
TZNAME:EDT
DTSTART:20200308T070000
END:DAYLIGHT
BEGIN:STANDARD
TZOFFSETFROM:-0400
TZOFFSETTO:-0500
TZNAME:EST
DTSTART:20201101T060000
END:STANDARD
END:VTIMEZONE
BEGIN:VTIMEZONE
TZID:UTC
BEGIN:STANDARD
TZOFFSETFROM:+0000
TZOFFSETTO:+0000
TZNAME:UTC
DTSTART:20180101T000000
END:STANDARD
END:VTIMEZONE
BEGIN:VEVENT
DTSTART;TZID=America/New_York:20190419T090000
DTEND;TZID=America/New_York:20190419T150000
DTSTAMP:20260421T091948
CREATED:20190329T141943Z
LAST-MODIFIED:20190329T141943Z
UID:51511-1555664400-1555686000@www.cumminglocal.com
SUMMARY:Beautiful Creation Day Retreat
DESCRIPTION:Ladies!!! Join us on  Good Friday\, April 19th\, for our next Day Retreat in a serene setting on Lake Lanier. What a special day to spend reflecting on the Love of Jesus Christ! Our group size is limited to 8 participants\, so reserve your space today!!! What can you expect?  We will meet at 9 am and begin our day in prayer; then we will head down to the lake where we will spend time in retreat activities designed to help you focus your heart\, mind\, and soul on Jesus. We will provide lunch & snacks \, and you can plan for our day to wrap up around 2 or 3pm.  If you have school age children\, it is absolutely possible to participate in the retreat and be home before bus time! This event takes place in North Forsyth off of Hwy 369 on Lake Lanier.\nThe money we raise from our outreach events helps us to fund our trauma counseling scholarships. We suggest a donation amount between $50-$100 for this event.  We can also customize a day retreat for your staff or group.   Visit us on facebook to register for the event–space is limited\, reservations required.  @you.are.a.beautiful.creation #retreatsyesplease #mystoryHissong #beinginsteadofseeming
URL:https://www.cumminglocal.com/event/beautiful-creation-day-retreat/
LOCATION:GA\, United States
CATEGORIES:Workshops
ATTACH;FMTTYPE=image/jpeg:https://www.cumminglocal.com/wp-content/uploads/2019/03/IMG_2457.jpg
ORGANIZER;CN="Beautiful Creation":MAILTO:christithomp@gmail.com
END:VEVENT
BEGIN:VEVENT
DTSTART;TZID=America/New_York:20190419T103000
DTEND;TZID=America/New_York:20190419T123000
DTSTAMP:20260421T091948
CREATED:20190410T143851Z
LAST-MODIFIED:20190410T143851Z
UID:51666-1555669800-1555677000@www.cumminglocal.com
SUMMARY:New Moms Club Open House & Information Drop In
DESCRIPTION:FREE OPEN HOUSE! Drop in ANYTIME 10:30-12:30. Learn more about the NEW MOMS CLUB program at Dream Dinners with special perks for moms who are about to welcome a new little one\, or have a child under a year. \nEnjoy appetizers\, take a tour\, win raffle prizes\, see what Dream Dinners can do for you! We are the local\, personalized meal prep solution ready to help you get a handle on “What’s for Dinner?”\nStrollers and Littles are welcome! \n**Sweet treat gift for all who RSVP and drop by!** \nMeet some of our local partners like Bliss Mama Wellness and find out about this women only spa and their awesome services. Arise Family Chiropractic will be there to answer questions and provide a complimentary exam certificate! Community Cup is also a partner–who doesn’t love good caffeine! \nCheck us out on Facebook!\n**************************************************************************************************************\nOPTIONAL: New guests may make 3 dinners to take home to try for just $34.95. Be sure to register to reserve a spot–and bring a friend! Link to see dinner selections and to register: http://dreamdinners.com/taste/795464\n(Password is “newmom”)
URL:https://www.cumminglocal.com/event/new-moms-club-open-house-information-drop-in/
LOCATION:Dream Dinners in Cumming\, 539 Lake Center Parkway\, Cumming\, 30040\, United States
ATTACH;FMTTYPE=image/jpeg:https://www.cumminglocal.com/wp-content/uploads/2019/04/new-moms-club.jpg
ORGANIZER;CN="Dream Dinners in Cumming":MAILTO:Cummingga@dreamdinners.com
END:VEVENT
BEGIN:VEVENT
DTSTART;TZID=America/New_York:20190419T170000
DTEND;TZID=America/New_York:20190419T200000
DTSTAMP:20260421T091948
CREATED:20190329T152649Z
LAST-MODIFIED:20190329T152650Z
UID:51556-1555693200-1555704000@www.cumminglocal.com
SUMMARY:Good Friday Family Night at Mountain Lake Church
DESCRIPTION:On Good Friday at MLC Forsyth\, everyone is invited to the Good Friday Family Night Experience starting at 5pm. There will be bounce houses\, live music\, food trucks\, a DJ\, face painting\, and a Good Friday Family Experience Service at 7pm. Plus\, to help feed the hungry in our community\, we are asking everyone to bring a can of food for entrance to this Good Friday event. \nFor more information\, head over to this new article – Celebrate Easter at Mountian Lake Church.
URL:https://www.cumminglocal.com/event/good-friday-family-night-at-mountain-lake-church/
LOCATION:Mountain Lake Church\, 3105 Dahlonega Hwy\, Cumming\, GA\, 30040\, United States
CATEGORIES:Holiday Events
ATTACH;FMTTYPE=image/jpeg:https://www.cumminglocal.com/wp-content/uploads/2018/03/GoodFriday_Slide-3.jpg
END:VEVENT
BEGIN:VEVENT
DTSTART;TZID=America/New_York:20190419T170000
DTEND;TZID=America/New_York:20190419T220000
DTSTAMP:20260421T091948
CREATED:20190312T143342Z
LAST-MODIFIED:20190312T143342Z
UID:50607-1555693200-1555711200@www.cumminglocal.com
SUMMARY:Fridays at the Fairgrounds
DESCRIPTION:From April to October 2019 (3rd Friday of Every Month)\, 5-10pm – Friday at the Fairgrounds is the place to be!\n\nDates for 2019: April 19\, 2019\, July 19\, 2019\, May 17\, 2019\, August 16\, 2019\, June 21\, 2019\, September 20\, 2019\, and October 18\, 2019 \nFridays at the Fairgrounds is a community event where you’ll find an array of different food trucks each month\, as well as entertainment and fun for the whole family! Join us for Music\, Beer & Wine\, Classic Cars\, Modified Jeeps and a Kids Zone! \nGENERAL ADMISSION \n13 & UP $5\n12 & UNDER FREE
URL:https://www.cumminglocal.com/event/fridays-at-the-fairgrounds/
LOCATION:Cumming Fairgrounds
CATEGORIES:Fairs & Festivals
ATTACH;FMTTYPE=image/jpeg:https://www.cumminglocal.com/wp-content/uploads/2019/03/fridays.jpg
END:VEVENT
BEGIN:VEVENT
DTSTART;TZID=UTC:20190419T170000
DTEND;TZID=UTC:20190419T220000
DTSTAMP:20260421T091948
CREATED:20190405T185215Z
LAST-MODIFIED:20190419T141659Z
UID:51632-1555693200-1555711200@www.cumminglocal.com
SUMMARY:Fridays at the Fairgrounds
DESCRIPTION:Join us every third Friday of the month from April to October at the Cumming Fairgrounds from 5-10 p.m. for food trucks\, live music\, inflatables for kids\, cruise-in car show\, burn-out contests\, and more! \nAdmission is $5.00 for ages 13 and up; kids 12 and under are free! \nThank you to our sponsors: Andean Chevrolet\, Banks Septic\, and Elite Roofing & Restoration! \nhttps://cummingfair.squarespace.com/fridays-at-the-fairgrounds
URL:https://www.cumminglocal.com/event/fridays-at-the-fairgrounds-2/
LOCATION:Cumming Fairgrounds
END:VEVENT
END:VCALENDAR