BEGIN:VCALENDAR
VERSION:2.0
PRODID:-//Cumming Local - ECPv6.15.17//NONSGML v1.0//EN
CALSCALE:GREGORIAN
METHOD:PUBLISH
X-ORIGINAL-URL:https://www.cumminglocal.com
X-WR-CALDESC:Events for Cumming Local
REFRESH-INTERVAL;VALUE=DURATION:PT1H
X-Robots-Tag:noindex
X-PUBLISHED-TTL:PT1H
BEGIN:VTIMEZONE
TZID:America/New_York
BEGIN:DAYLIGHT
TZOFFSETFROM:-0500
TZOFFSETTO:-0400
TZNAME:EDT
DTSTART:20180311T070000
END:DAYLIGHT
BEGIN:STANDARD
TZOFFSETFROM:-0400
TZOFFSETTO:-0500
TZNAME:EST
DTSTART:20181104T060000
END:STANDARD
BEGIN:DAYLIGHT
TZOFFSETFROM:-0500
TZOFFSETTO:-0400
TZNAME:EDT
DTSTART:20190310T070000
END:DAYLIGHT
BEGIN:STANDARD
TZOFFSETFROM:-0400
TZOFFSETTO:-0500
TZNAME:EST
DTSTART:20191103T060000
END:STANDARD
BEGIN:DAYLIGHT
TZOFFSETFROM:-0500
TZOFFSETTO:-0400
TZNAME:EDT
DTSTART:20200308T070000
END:DAYLIGHT
BEGIN:STANDARD
TZOFFSETFROM:-0400
TZOFFSETTO:-0500
TZNAME:EST
DTSTART:20201101T060000
END:STANDARD
END:VTIMEZONE
BEGIN:VEVENT
DTSTART;VALUE=DATE:20190418
DTEND;VALUE=DATE:20190419
DTSTAMP:20260421T192958
CREATED:20190411T163211Z
LAST-MODIFIED:20190411T163211Z
UID:51709-1555545600-1555631999@www.cumminglocal.com
SUMMARY:National Columnists' Day
DESCRIPTION:#NationalColumnistDay
URL:https://www.cumminglocal.com/event/national-columnists-day/
CATEGORIES:Other
END:VEVENT
BEGIN:VEVENT
DTSTART;VALUE=DATE:20190418
DTEND;VALUE=DATE:20190419
DTSTAMP:20260421T192958
CREATED:20190411T163211Z
LAST-MODIFIED:20190411T163211Z
UID:51710-1555545600-1555631999@www.cumminglocal.com
SUMMARY:Get to Know Your Customers Day
DESCRIPTION:#GetToKnowYourCustomersDay
URL:https://www.cumminglocal.com/event/get-to-know-your-customers-day/
CATEGORIES:Other
END:VEVENT
BEGIN:VEVENT
DTSTART;VALUE=DATE:20190418
DTEND;VALUE=DATE:20190419
DTSTAMP:20260421T192958
CREATED:20190411T163211Z
LAST-MODIFIED:20190411T163211Z
UID:51711-1555545600-1555631999@www.cumminglocal.com
SUMMARY:National High-Five Day
DESCRIPTION:#NH5D
URL:https://www.cumminglocal.com/event/national-high-five-day/
CATEGORIES:Other
END:VEVENT
BEGIN:VEVENT
DTSTART;TZID=America/New_York:20190418T120000
DTEND;TZID=America/New_York:20190418T130000
DTSTAMP:20260421T192958
CREATED:20190311T185036Z
LAST-MODIFIED:20190311T185036Z
UID:50564-1555588800-1555592400@www.cumminglocal.com
SUMMARY:Child Abuse Prevention- Community Coalition
DESCRIPTION:Join our Community’s Coalition to prevent child sexual abuse.  We are working hard to train 5% of the adult population with Darkness to Light’s Stewards of Children Training.  We are looking for organizations to become Partners in Prevention and train 90% of their staff or group.
URL:https://www.cumminglocal.com/event/child-abuse-prevention-community-coalition/
LOCATION:United Way-Forsyth County\, 240 Elm Street\, Cumming\, GA\, 30040\, United States
ATTACH;FMTTYPE=image/jpeg:https://www.cumminglocal.com/wp-content/uploads/2019/02/a339a9ba816e86c15cea885f7b43f6bf.jpg
END:VEVENT
BEGIN:VEVENT
DTSTART;TZID=America/New_York:20190418T160000
DTEND;TZID=America/New_York:20190418T180000
DTSTAMP:20260421T192958
CREATED:20190405T185249Z
LAST-MODIFIED:20190405T185249Z
UID:51634-1555603200-1555610400@www.cumminglocal.com
SUMMARY:Beaver Toyota’s 1st Annual Easter Egg Hunt
DESCRIPTION:Beaver Toyota of Cumming invites the community and their families for an evening filled with free\, fun festivities to kick-off Easter celebrations. The event will take place\, on Thursday\, April 18 from 4 – 6 p.m. at 1875 Buford Hwy\, Cumming\, GA 30041. \nKids can also enjoy getting their faces painted\, shaved ice from Kona Ice\, jumping in the bounce house and pictures with Bucky Beaver. Don’t forget your Easter basket! The Easter egg hunt will broken down into three different age groups including: \n4:00pm: ages 0-3\n4:30pm: ages 4-7\n5:00pm: ages 8+ \nThe event is free and open to all age groups. If you have any additional questions\, please contact Community Outreach Leader\, Cheryl McFadden at cmcfadden@beavertoyota.com or call (470) 533-2000.
URL:https://www.cumminglocal.com/event/beaver-toyotas-1st-annual-easter-egg-hunt/
LOCATION:GA\, United States
CATEGORIES:Holiday Events
ATTACH;FMTTYPE=image/jpeg:https://www.cumminglocal.com/wp-content/uploads/2019/04/ABN-Easter-Egg-Hunt.jpg
END:VEVENT
END:VCALENDAR