BEGIN:VCALENDAR
VERSION:2.0
PRODID:-//Cumming Local - ECPv6.15.17//NONSGML v1.0//EN
CALSCALE:GREGORIAN
METHOD:PUBLISH
X-WR-CALNAME:Cumming Local
X-ORIGINAL-URL:https://www.cumminglocal.com
X-WR-CALDESC:Events for Cumming Local
REFRESH-INTERVAL;VALUE=DURATION:PT1H
X-Robots-Tag:noindex
X-PUBLISHED-TTL:PT1H
BEGIN:VTIMEZONE
TZID:America/New_York
BEGIN:DAYLIGHT
TZOFFSETFROM:-0500
TZOFFSETTO:-0400
TZNAME:EDT
DTSTART:20180311T070000
END:DAYLIGHT
BEGIN:STANDARD
TZOFFSETFROM:-0400
TZOFFSETTO:-0500
TZNAME:EST
DTSTART:20181104T060000
END:STANDARD
BEGIN:DAYLIGHT
TZOFFSETFROM:-0500
TZOFFSETTO:-0400
TZNAME:EDT
DTSTART:20190310T070000
END:DAYLIGHT
BEGIN:STANDARD
TZOFFSETFROM:-0400
TZOFFSETTO:-0500
TZNAME:EST
DTSTART:20191103T060000
END:STANDARD
BEGIN:DAYLIGHT
TZOFFSETFROM:-0500
TZOFFSETTO:-0400
TZNAME:EDT
DTSTART:20200308T070000
END:DAYLIGHT
BEGIN:STANDARD
TZOFFSETFROM:-0400
TZOFFSETTO:-0500
TZNAME:EST
DTSTART:20201101T060000
END:STANDARD
END:VTIMEZONE
BEGIN:VTIMEZONE
TZID:UTC
BEGIN:STANDARD
TZOFFSETFROM:+0000
TZOFFSETTO:+0000
TZNAME:UTC
DTSTART:20180101T000000
END:STANDARD
END:VTIMEZONE
BEGIN:VEVENT
DTSTART;VALUE=DATE:20190416
DTEND;VALUE=DATE:20190417
DTSTAMP:20260421T091936
CREATED:20190411T163211Z
LAST-MODIFIED:20190411T163211Z
UID:51706-1555372800-1555459199@www.cumminglocal.com
SUMMARY:National Wear Your Pajamas to Work Day
DESCRIPTION:#PJDay
URL:https://www.cumminglocal.com/event/national-wear-your-pajamas-to-work-day/
CATEGORIES:Other
END:VEVENT
BEGIN:VEVENT
DTSTART;VALUE=DATE:20190416
DTEND;VALUE=DATE:20190417
DTSTAMP:20260421T091936
CREATED:20190411T163211Z
LAST-MODIFIED:20190411T163211Z
UID:51707-1555372800-1555459199@www.cumminglocal.com
SUMMARY:National Stress Awareness Day
DESCRIPTION:#StressAwarenessDay
URL:https://www.cumminglocal.com/event/national-stress-awareness-day/
CATEGORIES:Other
END:VEVENT
BEGIN:VEVENT
DTSTART;TZID=America/New_York:20190416T130000
DTEND;TZID=America/New_York:20190416T170000
DTSTAMP:20260421T091936
CREATED:20190325T130621Z
LAST-MODIFIED:20190325T130621Z
UID:51084-1555419600-1555434000@www.cumminglocal.com
SUMMARY:Hop on over to Pine + Pigment and make a bunny!
DESCRIPTION:Free event for the wee ones! (ages 3-10)\nCome make a bunny!\nNo reservations required!
URL:https://www.cumminglocal.com/event/hop-on-over-to-pine-pigment-and-make-a-bunny-2/
LOCATION:Pine + Pigment\, 410 Peachtree Parkway\, Suite #230\, Cumming\, GA\, 30041\, United States
CATEGORIES:Arts & Crafts,Workshops
ATTACH;FMTTYPE=image/jpeg:https://www.cumminglocal.com/wp-content/uploads/2019/03/BUNNY-EVENT.jpg
ORGANIZER;CN="Pine + Pigment":MAILTO:info@pineandpigment.com
END:VEVENT
BEGIN:VEVENT
DTSTART;TZID=UTC:20190416T170000
DTEND;TZID=UTC:20190416T173000
DTSTAMP:20260421T091936
CREATED:20190329T141853Z
LAST-MODIFIED:20190412T141650Z
UID:51538-1555434000-1555435800@www.cumminglocal.com
SUMMARY:Planning & Zoning Board Meeting
DESCRIPTION:
URL:https://www.cumminglocal.com/event/planning-zoning-board-meeting-2/
LOCATION:Cumming City Hall (Council Chambers – Third Floor)
END:VEVENT
BEGIN:VEVENT
DTSTART;TZID=UTC:20190416T180000
DTEND;TZID=UTC:20190416T190000
DTSTAMP:20260421T091936
CREATED:20190329T141853Z
LAST-MODIFIED:20190412T141650Z
UID:51539-1555437600-1555441200@www.cumminglocal.com
SUMMARY:City Council Regular Meeting
DESCRIPTION:
URL:https://www.cumminglocal.com/event/city-council-regular-meeting-2/
LOCATION:Cumming City Hall (Council Chambers – Third Floor)
END:VEVENT
END:VCALENDAR