BEGIN:VCALENDAR
VERSION:2.0
PRODID:-//Cumming Local - ECPv6.15.17//NONSGML v1.0//EN
CALSCALE:GREGORIAN
METHOD:PUBLISH
X-ORIGINAL-URL:https://www.cumminglocal.com
X-WR-CALDESC:Events for Cumming Local
REFRESH-INTERVAL;VALUE=DURATION:PT1H
X-Robots-Tag:noindex
X-PUBLISHED-TTL:PT1H
BEGIN:VTIMEZONE
TZID:America/New_York
BEGIN:DAYLIGHT
TZOFFSETFROM:-0500
TZOFFSETTO:-0400
TZNAME:EDT
DTSTART:20180311T070000
END:DAYLIGHT
BEGIN:STANDARD
TZOFFSETFROM:-0400
TZOFFSETTO:-0500
TZNAME:EST
DTSTART:20181104T060000
END:STANDARD
BEGIN:DAYLIGHT
TZOFFSETFROM:-0500
TZOFFSETTO:-0400
TZNAME:EDT
DTSTART:20190310T070000
END:DAYLIGHT
BEGIN:STANDARD
TZOFFSETFROM:-0400
TZOFFSETTO:-0500
TZNAME:EST
DTSTART:20191103T060000
END:STANDARD
BEGIN:DAYLIGHT
TZOFFSETFROM:-0500
TZOFFSETTO:-0400
TZNAME:EDT
DTSTART:20200308T070000
END:DAYLIGHT
BEGIN:STANDARD
TZOFFSETFROM:-0400
TZOFFSETTO:-0500
TZNAME:EST
DTSTART:20201101T060000
END:STANDARD
END:VTIMEZONE
BEGIN:VEVENT
DTSTART;TZID=America/New_York:20190414T120000
DTEND;TZID=America/New_York:20190414T150000
DTSTAMP:20260421T193031
CREATED:20190408T162513Z
LAST-MODIFIED:20190408T162513Z
UID:51646-1555243200-1555254000@www.cumminglocal.com
SUMMARY:Come Snuggle Baby Lambs!
DESCRIPTION:And take your Easter photos! \nFundraiser for Shepherd’s Knoll Farm\, \nfor a new Mamma and Baby Sheep enclosure \n$10/person\, $25/family \nApril 14\, 2019 \n12pm – 3pm \n770-335-0025 \n6670 Frix Rd\, Cumming\, GA 30028
URL:https://www.cumminglocal.com/event/come-snuggle-baby-lambs/
LOCATION:None Specified
CATEGORIES:Fundraisers,Holiday Events
ATTACH;FMTTYPE=image/jpeg:https://www.cumminglocal.com/wp-content/uploads/2019/04/Daphne-and-Ivy.jpg
END:VEVENT
BEGIN:VEVENT
DTSTART;TZID=America/New_York:20190414T130000
DTEND;TZID=America/New_York:20190414T170000
DTSTAMP:20260421T193031
CREATED:20190306T103600Z
LAST-MODIFIED:20190306T103600Z
UID:50357-1555246800-1555261200@www.cumminglocal.com
SUMMARY:Windermere Spring Boutique & Gift Show
DESCRIPTION:Over 30 small businesses come together for a FUN event. Do some shopping and exploring of locals from Jewelry\, Boutique Clothing\, Home Decor\, Food and more.
URL:https://www.cumminglocal.com/event/windermere-spring-boutique-gift-show/
LOCATION:Windermere Lodge\, 4444 Front Nine Drive\, Cumming\, GA\, 30041\, United States
CATEGORIES:Other
ATTACH;FMTTYPE=image/jpeg:https://www.cumminglocal.com/wp-content/uploads/2019/03/5AEDAD1D-EBA6-4FF4-B6E2-437731937D14.jpeg
END:VEVENT
BEGIN:VEVENT
DTSTART;TZID=America/New_York:20190414T143000
DTEND;TZID=America/New_York:20190414T163000
DTSTAMP:20260421T193031
CREATED:20190324T222445Z
LAST-MODIFIED:20190324T222445Z
UID:51044-1555252200-1555259400@www.cumminglocal.com
SUMMARY:April Showers Bring Flowers at Sugarboo
DESCRIPTION:Join us for a fun afternoon at Sugarboo & Co. at The Collection at Forsyth! Learn the art of flower arranging and shop the adorable Sugarboo collection. Enjoy 15% off your in-store purchases during the event! At the end of the afternoon\, take home your beautiful arrangement in a Sugarboo Vase as well as any other must-have in-store find! This ticket includes a pre-selected Sugarboo vase\, along with complimentary refreshments and snacks!
URL:https://www.cumminglocal.com/event/april-showers-bring-flowers-at-sugarboo/
LOCATION:Sugarboo & Co at The Collection at Forsyth\, 410 Peachtree Parkway\, Suite 146\, Cumming\, GA\, United States
CATEGORIES:Arts & Crafts,Workshops
ATTACH;FMTTYPE=image/jpeg:https://www.cumminglocal.com/wp-content/uploads/2019/03/sugarbooApr14.jpg
ORGANIZER;CN="Alice's Table":MAILTO:jennaquigleylee@gmail.com
END:VEVENT
END:VCALENDAR