BEGIN:VCALENDAR
VERSION:2.0
PRODID:-//Cumming Local - ECPv6.15.17//NONSGML v1.0//EN
CALSCALE:GREGORIAN
METHOD:PUBLISH
X-WR-CALNAME:Cumming Local
X-ORIGINAL-URL:https://www.cumminglocal.com
X-WR-CALDESC:Events for Cumming Local
REFRESH-INTERVAL;VALUE=DURATION:PT1H
X-Robots-Tag:noindex
X-PUBLISHED-TTL:PT1H
BEGIN:VTIMEZONE
TZID:America/New_York
BEGIN:DAYLIGHT
TZOFFSETFROM:-0500
TZOFFSETTO:-0400
TZNAME:EDT
DTSTART:20180311T070000
END:DAYLIGHT
BEGIN:STANDARD
TZOFFSETFROM:-0400
TZOFFSETTO:-0500
TZNAME:EST
DTSTART:20181104T060000
END:STANDARD
BEGIN:DAYLIGHT
TZOFFSETFROM:-0500
TZOFFSETTO:-0400
TZNAME:EDT
DTSTART:20190310T070000
END:DAYLIGHT
BEGIN:STANDARD
TZOFFSETFROM:-0400
TZOFFSETTO:-0500
TZNAME:EST
DTSTART:20191103T060000
END:STANDARD
BEGIN:DAYLIGHT
TZOFFSETFROM:-0500
TZOFFSETTO:-0400
TZNAME:EDT
DTSTART:20200308T070000
END:DAYLIGHT
BEGIN:STANDARD
TZOFFSETFROM:-0400
TZOFFSETTO:-0500
TZNAME:EST
DTSTART:20201101T060000
END:STANDARD
END:VTIMEZONE
BEGIN:VEVENT
DTSTART;VALUE=DATE:20190410
DTEND;VALUE=DATE:20190411
DTSTAMP:20260422T053812
CREATED:20190312T162026Z
LAST-MODIFIED:20190312T162026Z
UID:50701-1554854400-1554940799@www.cumminglocal.com
SUMMARY:Encourage a Young Writer Day
DESCRIPTION:#EncourageAYoungWriterDay
URL:https://www.cumminglocal.com/event/encourage-a-young-writer-day/
LOCATION:None Specified
CATEGORIES:Other
END:VEVENT
BEGIN:VEVENT
DTSTART;VALUE=DATE:20190410
DTEND;VALUE=DATE:20190411
DTSTAMP:20260422T053812
CREATED:20190312T162026Z
LAST-MODIFIED:20190312T162026Z
UID:50702-1554854400-1554940799@www.cumminglocal.com
SUMMARY:National Siblings Day
DESCRIPTION:#NationalSiblingsDay
URL:https://www.cumminglocal.com/event/national-siblings-day/
LOCATION:None Specified
CATEGORIES:Other
END:VEVENT
BEGIN:VEVENT
DTSTART;TZID=America/New_York:20190410T183000
DTEND;TZID=America/New_York:20190410T200000
DTSTAMP:20260422T053812
CREATED:20190313T011358Z
LAST-MODIFIED:20190313T011358Z
UID:50411-1554921000-1554926400@www.cumminglocal.com
SUMMARY:Preserve the Flavor: A 4-week Farm to Table series with UGA Extension
DESCRIPTION:Besides knowing that you should stick your leftovers in the fridge immediately if you want them to be edible later\, what do you know about food preservation? \nDo you know how to can it or freeze it properly? \nLearn how to do all that and more as we continue the UGA Extension Farm to Table series in this special course with Extension Agent Barbara Worley: \nPreserve the Flavor: A 4-Week Workshop \nWeek 1: Boiling Water Canning\nWednesday\, April 10 at 6:30 p.m \nWeek 2: Pressure Canning\nWednesday\, April 17 at 6:30 p.m. \nWeek 3: Freezing\nWednesday\, April 24 at 6:30 p.m. \nWeek 4: Drying\nWednesday\, May 1 at 6:30 p.m. \nAll sessions will be held at the Cumming Library\, 585 Dahlonega Street. \nAdmission is free\, but advance registration for each session on the library’s website is required.
URL:https://www.cumminglocal.com/event/preserve-the-flavor-a-4-week-farm-to-table-series-with-uga-extension/
LOCATION:Cumming Library\, 585 Dahlonega Street\, Cumming\, GA\, 30040\, United States
CATEGORIES:Adults Only,Library Events
ATTACH;FMTTYPE=image/jpeg:https://www.cumminglocal.com/wp-content/uploads/2019/03/Preserve-the-Flavor-CU.jpg
ORGANIZER;CN="Forsyth County Public Library":MAILTO:gloverp@forsythpl.org
END:VEVENT
END:VCALENDAR