BEGIN:VCALENDAR
VERSION:2.0
PRODID:-//Cumming Local - ECPv6.15.17//NONSGML v1.0//EN
CALSCALE:GREGORIAN
METHOD:PUBLISH
X-WR-CALNAME:Cumming Local
X-ORIGINAL-URL:https://www.cumminglocal.com
X-WR-CALDESC:Events for Cumming Local
REFRESH-INTERVAL;VALUE=DURATION:PT1H
X-Robots-Tag:noindex
X-PUBLISHED-TTL:PT1H
BEGIN:VTIMEZONE
TZID:America/New_York
BEGIN:DAYLIGHT
TZOFFSETFROM:-0500
TZOFFSETTO:-0400
TZNAME:EDT
DTSTART:20180311T070000
END:DAYLIGHT
BEGIN:STANDARD
TZOFFSETFROM:-0400
TZOFFSETTO:-0500
TZNAME:EST
DTSTART:20181104T060000
END:STANDARD
BEGIN:DAYLIGHT
TZOFFSETFROM:-0500
TZOFFSETTO:-0400
TZNAME:EDT
DTSTART:20190310T070000
END:DAYLIGHT
BEGIN:STANDARD
TZOFFSETFROM:-0400
TZOFFSETTO:-0500
TZNAME:EST
DTSTART:20191103T060000
END:STANDARD
BEGIN:DAYLIGHT
TZOFFSETFROM:-0500
TZOFFSETTO:-0400
TZNAME:EDT
DTSTART:20200308T070000
END:DAYLIGHT
BEGIN:STANDARD
TZOFFSETFROM:-0400
TZOFFSETTO:-0500
TZNAME:EST
DTSTART:20201101T060000
END:STANDARD
END:VTIMEZONE
BEGIN:VEVENT
DTSTART;VALUE=DATE:20190409
DTEND;VALUE=DATE:20190410
DTSTAMP:20260421T103739
CREATED:20190312T162026Z
LAST-MODIFIED:20190312T162026Z
UID:50700-1554768000-1554854399@www.cumminglocal.com
SUMMARY:Equal Pay Day
DESCRIPTION:#EqualPayDay
URL:https://www.cumminglocal.com/event/equal-pay-day/
LOCATION:None Specified
CATEGORIES:Other
END:VEVENT
BEGIN:VEVENT
DTSTART;TZID=America/New_York:20190409T130000
DTEND;TZID=America/New_York:20190409T143000
DTSTAMP:20260421T103739
CREATED:20190306T214405Z
LAST-MODIFIED:20190306T214405Z
UID:50356-1554814800-1554820200@www.cumminglocal.com
SUMMARY:No Cost Social Security Workshop
DESCRIPTION:•	When should I start taking my social security?\n•	Do I get more money if I take it at 62\, 65\, 67 or 70?\n•	Am I entitled to my ex spouse’s social security?\n•	What are the tax consequences if I work and take social security? \nSocial Security can impact 1/3 of your life. It is critical that you understand your options and how you will be impacted. \nPlease join Debbie Dorman  for a no cost educational workshop at  \nSaturday March 09\nAlpharetta Library\n10 Park Plaza\, Alpharetta \nTo register\, please call 770-377-4941
URL:https://www.cumminglocal.com/event/no-cost-social-security-workshop-2/
LOCATION:None Specified
END:VEVENT
END:VCALENDAR