BEGIN:VCALENDAR
VERSION:2.0
PRODID:-//Cumming Local - ECPv6.15.17//NONSGML v1.0//EN
CALSCALE:GREGORIAN
METHOD:PUBLISH
X-WR-CALNAME:Cumming Local
X-ORIGINAL-URL:https://www.cumminglocal.com
X-WR-CALDESC:Events for Cumming Local
REFRESH-INTERVAL;VALUE=DURATION:PT1H
X-Robots-Tag:noindex
X-PUBLISHED-TTL:PT1H
BEGIN:VTIMEZONE
TZID:America/New_York
BEGIN:DAYLIGHT
TZOFFSETFROM:-0500
TZOFFSETTO:-0400
TZNAME:EDT
DTSTART:20180311T070000
END:DAYLIGHT
BEGIN:STANDARD
TZOFFSETFROM:-0400
TZOFFSETTO:-0500
TZNAME:EST
DTSTART:20181104T060000
END:STANDARD
BEGIN:DAYLIGHT
TZOFFSETFROM:-0500
TZOFFSETTO:-0400
TZNAME:EDT
DTSTART:20190310T070000
END:DAYLIGHT
BEGIN:STANDARD
TZOFFSETFROM:-0400
TZOFFSETTO:-0500
TZNAME:EST
DTSTART:20191103T060000
END:STANDARD
BEGIN:DAYLIGHT
TZOFFSETFROM:-0500
TZOFFSETTO:-0400
TZNAME:EDT
DTSTART:20200308T070000
END:DAYLIGHT
BEGIN:STANDARD
TZOFFSETFROM:-0400
TZOFFSETTO:-0500
TZNAME:EST
DTSTART:20201101T060000
END:STANDARD
END:VTIMEZONE
BEGIN:VEVENT
DTSTART;TZID=America/New_York:20190406T100000
DTEND;TZID=America/New_York:20190406T120000
DTSTAMP:20260421T130419
CREATED:20190314T193914Z
LAST-MODIFIED:20190314T193914Z
UID:50855-1554544800-1554552000@www.cumminglocal.com
SUMMARY:Spring Festival - Music and More
DESCRIPTION:Join us on Saturday\, April 6 at 10am -12pm for our Spring Festival – Music & More \nDance with our Zumba instructor\, enjoy our little ballerinas performance\, Face Painting\, EGG HUNT GAME\, Snow Cones& BOUNCY HOUSE & Refreshments
URL:https://www.cumminglocal.com/event/spring-festival-music-and-more/
LOCATION:450 Brannon Road Cumming\, GA 30041\, 450 Brannon Road\, Cumming\, GA\, 30041\, United States
CATEGORIES:Fairs & Festivals
ATTACH;FMTTYPE=image/jpeg:https://www.cumminglocal.com/wp-content/uploads/2019/03/C50719CF-4053-4AF3-A9F3-B96D7A4E9C6B.jpeg
ORGANIZER;CN="Kiddie Academy of Cumming":MAILTO:Cumming@kiddieacademy.net
END:VEVENT
BEGIN:VEVENT
DTSTART;TZID=America/New_York:20190406T100000
DTEND;TZID=America/New_York:20190406T143000
DTSTAMP:20260421T130419
CREATED:20190324T222445Z
LAST-MODIFIED:20190324T222445Z
UID:51023-1554544800-1554561000@www.cumminglocal.com
SUMMARY:No Cost Boot Camp 4 Divorcing Women
DESCRIPTION:No Cost Boot Camp 4 Divorcing Women \nAre you considering or in the process of divorce? You have questions. We can help. Panelists include an attorney\, private detective\, financial adviser and therapist who provide “do’s and don’ts” when navigating this difficult life transition. \nSaturday April 06 East Roswell Library\n2301 Holcomb Bridge Rd. Roswell\n10:00 am -2:30 pm \nPlease pack lunch and feel free to bring an adult\, female support person. \nTo register please call Debbie @ 770-377-4941.
URL:https://www.cumminglocal.com/event/no-cost-boot-camp-4-divorcing-women-2/
LOCATION:None Specified
END:VEVENT
END:VCALENDAR