BEGIN:VCALENDAR
VERSION:2.0
PRODID:-//Cumming Local - ECPv6.15.17//NONSGML v1.0//EN
CALSCALE:GREGORIAN
METHOD:PUBLISH
X-ORIGINAL-URL:https://www.cumminglocal.com
X-WR-CALDESC:Events for Cumming Local
REFRESH-INTERVAL;VALUE=DURATION:PT1H
X-Robots-Tag:noindex
X-PUBLISHED-TTL:PT1H
BEGIN:VTIMEZONE
TZID:America/New_York
BEGIN:DAYLIGHT
TZOFFSETFROM:-0500
TZOFFSETTO:-0400
TZNAME:EDT
DTSTART:20180311T070000
END:DAYLIGHT
BEGIN:STANDARD
TZOFFSETFROM:-0400
TZOFFSETTO:-0500
TZNAME:EST
DTSTART:20181104T060000
END:STANDARD
BEGIN:DAYLIGHT
TZOFFSETFROM:-0500
TZOFFSETTO:-0400
TZNAME:EDT
DTSTART:20190310T070000
END:DAYLIGHT
BEGIN:STANDARD
TZOFFSETFROM:-0400
TZOFFSETTO:-0500
TZNAME:EST
DTSTART:20191103T060000
END:STANDARD
BEGIN:DAYLIGHT
TZOFFSETFROM:-0500
TZOFFSETTO:-0400
TZNAME:EDT
DTSTART:20200308T070000
END:DAYLIGHT
BEGIN:STANDARD
TZOFFSETFROM:-0400
TZOFFSETTO:-0500
TZNAME:EST
DTSTART:20201101T060000
END:STANDARD
END:VTIMEZONE
BEGIN:VEVENT
DTSTART;VALUE=DATE:20190320
DTEND;VALUE=DATE:20190321
DTSTAMP:20260421T125014
CREATED:20190312T162025Z
LAST-MODIFIED:20190312T162025Z
UID:50678-1553040000-1553126399@www.cumminglocal.com
SUMMARY:World Storytelling Day
DESCRIPTION:#WorldStorytellingDay
URL:https://www.cumminglocal.com/event/world-storytelling-day/
LOCATION:None Specified
CATEGORIES:Other
END:VEVENT
BEGIN:VEVENT
DTSTART;VALUE=DATE:20190320
DTEND;VALUE=DATE:20190321
DTSTAMP:20260421T125014
CREATED:20190312T162025Z
LAST-MODIFIED:20190312T162025Z
UID:50679-1553040000-1553126399@www.cumminglocal.com
SUMMARY:International Day of Happiness
DESCRIPTION:#InternationalDayofHappiness
URL:https://www.cumminglocal.com/event/international-day-of-happiness/
LOCATION:None Specified
CATEGORIES:Other
END:VEVENT
BEGIN:VEVENT
DTSTART;VALUE=DATE:20190320
DTEND;VALUE=DATE:20190321
DTSTAMP:20260421T125014
CREATED:20190312T162025Z
LAST-MODIFIED:20190312T162025Z
UID:50680-1553040000-1553126399@www.cumminglocal.com
SUMMARY:First Day of Spring
DESCRIPTION:#FirstDayofSpring
URL:https://www.cumminglocal.com/event/first-day-of-spring/
LOCATION:None Specified
CATEGORIES:Other
END:VEVENT
BEGIN:VEVENT
DTSTART;VALUE=DATE:20190320
DTEND;VALUE=DATE:20190321
DTSTAMP:20260421T125014
CREATED:20190318T184610Z
LAST-MODIFIED:20190318T184610Z
UID:50962-1553040000-1553126399@www.cumminglocal.com
SUMMARY:Free Cone Day at Dairy Queen
DESCRIPTION:In honor of the first day of spring\, Dairy Queen is giving away a free cone!
URL:https://www.cumminglocal.com/event/free-cone-day-at-dairy-queen/
LOCATION:Dairy Queen\, 103 Atlanta Rd\, Cumming\, GA\, 30040
CATEGORIES:Deals
ATTACH;FMTTYPE=image/jpeg:https://www.cumminglocal.com/wp-content/uploads/2019/03/55560299_10155935973691669_217795201714880512_o.jpg
END:VEVENT
BEGIN:VEVENT
DTSTART;TZID=America/New_York:20190320T160000
DTEND;TZID=America/New_York:20190320T180000
DTSTAMP:20260421T125014
CREATED:20190311T185032Z
LAST-MODIFIED:20190311T185032Z
UID:50560-1553097600-1553104800@www.cumminglocal.com
SUMMARY:Stewards of Children CommunityTrainings
DESCRIPTION:We are offering 6 free community trainings in Darkness to Light Stewards of Children Training.  It is so important for our community to know how to recognize child sexual abuse and how to respond.  Our goal is to train 5% of our adult population and we are well on our way!  Thank you for doing your part to protect our children!  Please share these dates and if you are unable to attend you can also take the training online free of charge using checkout code  FLIPTHESWITCH  at https://www.fliptheswitchcampaign.org/\nThese trainings are being offered for free\, but if you would like to cover the $10 cost of your training DONATE HERE!\nIf you are interested in joining our community coalition that meets on the third Thursday of the month at noon @ United way please contact sarah@forsythconnection.org
URL:https://www.cumminglocal.com/event/stewards-of-children-communitytrainings/
LOCATION:United Way-Forsyth County\, 240 Elm Street\, Cumming\, GA\, 30040\, United States
ATTACH;FMTTYPE=image/jpeg:https://www.cumminglocal.com/wp-content/uploads/2019/03/ecc287a363a28c480e49c62ae0b07c16.jpg
END:VEVENT
BEGIN:VEVENT
DTSTART;TZID=America/New_York:20190320T193000
DTEND;TZID=America/New_York:20190320T203000
DTSTAMP:20260421T125014
CREATED:20190311T185034Z
LAST-MODIFIED:20190311T185034Z
UID:50562-1553110200-1553113800@www.cumminglocal.com
SUMMARY:Sound Healing and Mindfulness Circle
DESCRIPTION:Join us at Lush Life in Cumming\, GA for a relaxing time. \nA sound immersion helps you relieve stress\, reduce pain and deepen your meditation practice.\nAll you do is show up for yourself and relax as the beautiful sound bowls lead you into meditative states.The bath starts at 10:40 am. There will be no entrance allowed after 10:40 am.Bring a Yoga Mat\, A blanket\, A pillow\, and water. Please dress comfortably as you will be laying down on your yoga mat. You will be asked to take your shoes off.****This is not suitable for anyone who has a history of seizures\, thrombosis or first trimester of pregnancy or any complications during pregnancy.
URL:https://www.cumminglocal.com/event/sound-healing-and-mindfulness-circle/
LOCATION:Lush Life\, 101 Meadow Drive\, #Suite E\, Cumming\, GA\, 30040\, United States
ATTACH;FMTTYPE=image/jpeg:https://www.cumminglocal.com/wp-content/uploads/2019/03/36b158aedbc471c4877840fd56bdd46c.jpg
END:VEVENT
END:VCALENDAR