BEGIN:VCALENDAR
VERSION:2.0
PRODID:-//Cumming Local - ECPv6.15.17//NONSGML v1.0//EN
CALSCALE:GREGORIAN
METHOD:PUBLISH
X-WR-CALNAME:Cumming Local
X-ORIGINAL-URL:https://www.cumminglocal.com
X-WR-CALDESC:Events for Cumming Local
REFRESH-INTERVAL;VALUE=DURATION:PT1H
X-Robots-Tag:noindex
X-PUBLISHED-TTL:PT1H
BEGIN:VTIMEZONE
TZID:America/New_York
BEGIN:DAYLIGHT
TZOFFSETFROM:-0500
TZOFFSETTO:-0400
TZNAME:EDT
DTSTART:20180311T070000
END:DAYLIGHT
BEGIN:STANDARD
TZOFFSETFROM:-0400
TZOFFSETTO:-0500
TZNAME:EST
DTSTART:20181104T060000
END:STANDARD
BEGIN:DAYLIGHT
TZOFFSETFROM:-0500
TZOFFSETTO:-0400
TZNAME:EDT
DTSTART:20190310T070000
END:DAYLIGHT
BEGIN:STANDARD
TZOFFSETFROM:-0400
TZOFFSETTO:-0500
TZNAME:EST
DTSTART:20191103T060000
END:STANDARD
BEGIN:DAYLIGHT
TZOFFSETFROM:-0500
TZOFFSETTO:-0400
TZNAME:EDT
DTSTART:20200308T070000
END:DAYLIGHT
BEGIN:STANDARD
TZOFFSETFROM:-0400
TZOFFSETTO:-0500
TZNAME:EST
DTSTART:20201101T060000
END:STANDARD
END:VTIMEZONE
BEGIN:VEVENT
DTSTART;VALUE=DATE:20190314
DTEND;VALUE=DATE:20190315
DTSTAMP:20260421T103732
CREATED:20190306T214339Z
LAST-MODIFIED:20190306T214339Z
UID:50365-1552521600-1552607999@www.cumminglocal.com
SUMMARY:Pie Day Specials at Your Pie
DESCRIPTION:Ready for PIE DAY? It’s coming up soon! Join us on 3/14 to enjoy $3.14 PIZZA and/or BEER! \nLimit one discounted pizza per guest. While supplies last. Additional pizzas or menu items may be purchased at full price. Up-charge for gluten-free crust may apply. In-Store only. No call-in or online orders. Store hours vary by location. Due to the high volume in stores on Pi(e) Day\, we cannot accommodate any special food allergy requests.
URL:https://www.cumminglocal.com/event/pie-day-specials-at-your-pie/
LOCATION:None Specified
CATEGORIES:Other
ATTACH;FMTTYPE=image/png:https://www.cumminglocal.com/wp-content/uploads/2019/03/Screen-Shot-2019-03-06-at-4.41.33-PM.png
END:VEVENT
BEGIN:VEVENT
DTSTART;VALUE=DATE:20190314
DTEND;VALUE=DATE:20190315
DTSTAMP:20260421T103732
CREATED:20190312T162024Z
LAST-MODIFIED:20190312T162024Z
UID:50669-1552521600-1552607999@www.cumminglocal.com
SUMMARY:Popcorn Lover's Day
DESCRIPTION:#PopcornLoversDay
URL:https://www.cumminglocal.com/event/popcorn-lovers-day/
LOCATION:None Specified
CATEGORIES:Other
END:VEVENT
BEGIN:VEVENT
DTSTART;VALUE=DATE:20190314
DTEND;VALUE=DATE:20190315
DTSTAMP:20260421T103732
CREATED:20190312T162024Z
LAST-MODIFIED:20190312T162024Z
UID:50670-1552521600-1552607999@www.cumminglocal.com
SUMMARY:Pi Day
DESCRIPTION:#PiDay
URL:https://www.cumminglocal.com/event/pi-day/
LOCATION:None Specified
CATEGORIES:Other
END:VEVENT
BEGIN:VEVENT
DTSTART;VALUE=DATE:20190314
DTEND;VALUE=DATE:20190315
DTSTAMP:20260421T103732
CREATED:20190312T162025Z
LAST-MODIFIED:20190312T162025Z
UID:50671-1552521600-1552607999@www.cumminglocal.com
SUMMARY:Potato Chip Day
DESCRIPTION:#NationalPotatoChipDay
URL:https://www.cumminglocal.com/event/potato-chip-day/
LOCATION:None Specified
CATEGORIES:Other
END:VEVENT
BEGIN:VEVENT
DTSTART;TZID=America/New_York:20190314T090000
DTEND;TZID=America/New_York:20190314T100000
DTSTAMP:20260421T103732
CREATED:20190311T185030Z
LAST-MODIFIED:20190311T185030Z
UID:50556-1552554000-1552557600@www.cumminglocal.com
SUMMARY:Coffee & Contracts w/David Strauss
DESCRIPTION:
URL:https://www.cumminglocal.com/event/coffee-contracts-w-david-strauss/
LOCATION:540 Lake Center Pkwy Ste 201\, 540 Lake Center Parkway\, Cumming\, GA\, 30040\, United States
ATTACH;FMTTYPE=image/jpeg:https://www.cumminglocal.com/wp-content/uploads/2019/03/901d06a94747fabb04f3f0344b2e41dd.jpg
END:VEVENT
BEGIN:VEVENT
DTSTART;TZID=America/New_York:20190314T183000
DTEND;TZID=America/New_York:20190314T203000
DTSTAMP:20260421T103732
CREATED:20190311T185032Z
LAST-MODIFIED:20190311T185032Z
UID:50559-1552588200-1552595400@www.cumminglocal.com
SUMMARY:Flourish Networking for Women  - Cumming\, GA
DESCRIPTION:To FLOURISH means to “Grow Well” and to “Be Very Successful”. That is exactly what The Flourish Network and Flourish Networking for Women meet-ups\, and events are all about.\nWe are a non-compete business network for women. At our meet-ups and events\, there will only be one business type represented per event\, and per attendee. We are not a membership organization and registration is on a “first come first served basis“. Our network is all about growing in a noncompetitive and non-aggressive atmosphere. Our focus is “selfless networking”\, because we understand the principle of supporting others in growing first\, and in doing so we all grow by default. We also believe in supporting our area communities through giving back to local charity organizations in order that others too may Flourish.\nWe are passionate about inspiring others both in business and community\, would be honored to have you as a part of our network. We look forward to seeing you FLOURISH! Come join us and impact your world and those around you.\nShould you require further information\, or have any questions please contact us info@comeflourishwithus.com.
URL:https://www.cumminglocal.com/event/flourish-networking-for-women-cumming-ga/
LOCATION:The Ridge\, 1035 Turner Rd\, Cumming\, Ga\, 30041\, United States
ATTACH;FMTTYPE=image/jpeg:https://www.cumminglocal.com/wp-content/uploads/2019/02/04d5673ac10c1269cd2c41a1fe22e1ad.jpg
END:VEVENT
END:VCALENDAR