BEGIN:VCALENDAR
VERSION:2.0
PRODID:-//Cumming Local - ECPv6.15.17//NONSGML v1.0//EN
CALSCALE:GREGORIAN
METHOD:PUBLISH
X-WR-CALNAME:Cumming Local
X-ORIGINAL-URL:https://www.cumminglocal.com
X-WR-CALDESC:Events for Cumming Local
REFRESH-INTERVAL;VALUE=DURATION:PT1H
X-Robots-Tag:noindex
X-PUBLISHED-TTL:PT1H
BEGIN:VTIMEZONE
TZID:America/New_York
BEGIN:DAYLIGHT
TZOFFSETFROM:-0500
TZOFFSETTO:-0400
TZNAME:EDT
DTSTART:20180311T070000
END:DAYLIGHT
BEGIN:STANDARD
TZOFFSETFROM:-0400
TZOFFSETTO:-0500
TZNAME:EST
DTSTART:20181104T060000
END:STANDARD
BEGIN:DAYLIGHT
TZOFFSETFROM:-0500
TZOFFSETTO:-0400
TZNAME:EDT
DTSTART:20190310T070000
END:DAYLIGHT
BEGIN:STANDARD
TZOFFSETFROM:-0400
TZOFFSETTO:-0500
TZNAME:EST
DTSTART:20191103T060000
END:STANDARD
BEGIN:DAYLIGHT
TZOFFSETFROM:-0500
TZOFFSETTO:-0400
TZNAME:EDT
DTSTART:20200308T070000
END:DAYLIGHT
BEGIN:STANDARD
TZOFFSETFROM:-0400
TZOFFSETTO:-0500
TZNAME:EST
DTSTART:20201101T060000
END:STANDARD
END:VTIMEZONE
BEGIN:VEVENT
DTSTART;TZID=America/New_York:20190311T183000
DTEND;TZID=America/New_York:20190311T200000
DTSTAMP:20260421T103724
CREATED:20190313T011358Z
LAST-MODIFIED:20190313T011358Z
UID:50401-1552329000-1552334400@www.cumminglocal.com
SUMMARY:VegUcate Yourself: The 5 W’s of Vegetarian & Vegan Diets
DESCRIPTION:Educate yourself about vegetarian and vegan diets with UGA Family and Consumer Sciences Agent Barbara Worley. \nIn this one-hour program\, you’ll learn about different types of diets\, alternative sources of nutrients found in meat\, and possibilities for life-long use of these diets. After the presentation\, participate in interactive meal plan activities. \nThis program is intended for adults. Admission is free\, but advance registration is required at https://forsyth.libnet.info/website/event/1585925.
URL:https://www.cumminglocal.com/event/vegucate-yourself-the-5-ws-of-vegetarian-vegan-diets-3/
LOCATION:Cumming Library\, 585 Dahlonega Street\, Cumming\, GA\, 30040\, United States
CATEGORIES:Adults Only,Library Events
ATTACH;FMTTYPE=image/jpeg:https://www.cumminglocal.com/wp-content/uploads/2019/03/VegUcate-CU.jpg
ORGANIZER;CN="Forsyth County Public Library":MAILTO:gloverp@forsythpl.org
END:VEVENT
END:VCALENDAR