BEGIN:VCALENDAR
VERSION:2.0
PRODID:-//Cumming Local - ECPv6.15.17//NONSGML v1.0//EN
CALSCALE:GREGORIAN
METHOD:PUBLISH
X-ORIGINAL-URL:https://www.cumminglocal.com
X-WR-CALDESC:Events for Cumming Local
REFRESH-INTERVAL;VALUE=DURATION:PT1H
X-Robots-Tag:noindex
X-PUBLISHED-TTL:PT1H
BEGIN:VTIMEZONE
TZID:America/New_York
BEGIN:DAYLIGHT
TZOFFSETFROM:-0500
TZOFFSETTO:-0400
TZNAME:EDT
DTSTART:20180311T070000
END:DAYLIGHT
BEGIN:STANDARD
TZOFFSETFROM:-0400
TZOFFSETTO:-0500
TZNAME:EST
DTSTART:20181104T060000
END:STANDARD
BEGIN:DAYLIGHT
TZOFFSETFROM:-0500
TZOFFSETTO:-0400
TZNAME:EDT
DTSTART:20190310T070000
END:DAYLIGHT
BEGIN:STANDARD
TZOFFSETFROM:-0400
TZOFFSETTO:-0500
TZNAME:EST
DTSTART:20191103T060000
END:STANDARD
BEGIN:DAYLIGHT
TZOFFSETFROM:-0500
TZOFFSETTO:-0400
TZNAME:EDT
DTSTART:20200308T070000
END:DAYLIGHT
BEGIN:STANDARD
TZOFFSETFROM:-0400
TZOFFSETTO:-0500
TZNAME:EST
DTSTART:20201101T060000
END:STANDARD
END:VTIMEZONE
BEGIN:VEVENT
DTSTART;TZID=America/New_York:20190309T110000
DTEND;TZID=America/New_York:20190309T120000
DTSTAMP:20260421T092155
CREATED:20190307T114932Z
LAST-MODIFIED:20190329T110130Z
UID:50374-1552129200-1552132800@www.cumminglocal.com
SUMMARY:Saturdays at Sawnee
DESCRIPTION:Free crafts and workshops; Drop-in starting at 11 am\n\nEvery Saturday in March\, April and May\, 2019
URL:https://www.cumminglocal.com/event/saturdays-at-sawnee/
LOCATION:Sawnee Mountain Preserve\, 4075 Spot Road\, Cumming\, GA
CATEGORIES:Arts & Crafts
ATTACH;FMTTYPE=image/jpeg:https://www.cumminglocal.com/wp-content/uploads/2019/03/Craft-Workshop.jpg
END:VEVENT
BEGIN:VEVENT
DTSTART;TZID=America/New_York:20190309T130000
DTEND;TZID=America/New_York:20190309T143000
DTSTAMP:20260421T092155
CREATED:20190305T023903Z
LAST-MODIFIED:20190305T023903Z
UID:50064-1552136400-1552141800@www.cumminglocal.com
SUMMARY:No Cost Social Security Workshop
DESCRIPTION:•	When should I start taking my social security?\n•	Do I get more money if I take it at 62\, 65\, 67 or 70?\n•	Am I entitled to my ex spouse’s social security?\n•	What are the tax consequences if I work and take social security? \nSocial Security can impact 1/3 of your life. It is critical that you understand your options and how you will be impacted. This workshop does not cover social security disability. \nTo register please call 770-377-4941 or email Dorman_Debbie@nlgroupmail.com.
URL:https://www.cumminglocal.com/event/no-cost-social-security-workshop/
LOCATION:Alpharetta Library\, 10 Park Plaza\, Alpharetta\, GA\, 30004\, United States
ORGANIZER;CN="Debbie":MAILTO:Dorman_Debbie@NLGroupmail.com
END:VEVENT
BEGIN:VEVENT
DTSTART;TZID=America/New_York:20190309T190000
DTEND;TZID=America/New_York:20190309T223000
DTSTAMP:20260421T092155
CREATED:20190305T023903Z
LAST-MODIFIED:20190305T023903Z
UID:50269-1552158000-1552170600@www.cumminglocal.com
SUMMARY:Texas Holdem Fundraiser
DESCRIPTION:POKER PLAYERS!! Somebody’s going to win $1000!  Why not you?  Come to Stars and Strikes Saturday and join the fun. Not a pro?  Not a problem!  All skill levels welcome. RSVP to me for an extra $1000 starting chip!  *Please share!
URL:https://www.cumminglocal.com/event/texas-holdem-fundraiser/
LOCATION:Stars and Steikes\, 133 Merchant Square\, Cumming\, GA\, 30041\, United States
CATEGORIES:Fundraisers
ATTACH;FMTTYPE=image/jpeg:https://www.cumminglocal.com/wp-content/uploads/2019/03/6AD751F5-816D-4629-878C-6D4B7DF1F891.jpeg
END:VEVENT
END:VCALENDAR