BEGIN:VCALENDAR
VERSION:2.0
PRODID:-//Cumming Local - ECPv6.15.17//NONSGML v1.0//EN
CALSCALE:GREGORIAN
METHOD:PUBLISH
X-WR-CALNAME:Cumming Local
X-ORIGINAL-URL:https://www.cumminglocal.com
X-WR-CALDESC:Events for Cumming Local
REFRESH-INTERVAL;VALUE=DURATION:PT1H
X-Robots-Tag:noindex
X-PUBLISHED-TTL:PT1H
BEGIN:VTIMEZONE
TZID:America/New_York
BEGIN:DAYLIGHT
TZOFFSETFROM:-0500
TZOFFSETTO:-0400
TZNAME:EDT
DTSTART:20180311T070000
END:DAYLIGHT
BEGIN:STANDARD
TZOFFSETFROM:-0400
TZOFFSETTO:-0500
TZNAME:EST
DTSTART:20181104T060000
END:STANDARD
BEGIN:DAYLIGHT
TZOFFSETFROM:-0500
TZOFFSETTO:-0400
TZNAME:EDT
DTSTART:20190310T070000
END:DAYLIGHT
BEGIN:STANDARD
TZOFFSETFROM:-0400
TZOFFSETTO:-0500
TZNAME:EST
DTSTART:20191103T060000
END:STANDARD
BEGIN:DAYLIGHT
TZOFFSETFROM:-0500
TZOFFSETTO:-0400
TZNAME:EDT
DTSTART:20200308T070000
END:DAYLIGHT
BEGIN:STANDARD
TZOFFSETFROM:-0400
TZOFFSETTO:-0500
TZNAME:EST
DTSTART:20201101T060000
END:STANDARD
END:VTIMEZONE
BEGIN:VEVENT
DTSTART;TZID=America/New_York:20190308T110000
DTEND;TZID=America/New_York:20190308T123000
DTSTAMP:20260421T103737
CREATED:20190313T011357Z
LAST-MODIFIED:20190313T011357Z
UID:50437-1552042800-1552048200@www.cumminglocal.com
SUMMARY:Ladies Coffee Meet Up
DESCRIPTION:Join us at Community Cup for some delicious coffee and brunch! Come learn about Because Mom and what we have to offer! All ladies welcomed.
URL:https://www.cumminglocal.com/event/ladies-coffee-meet-up/
LOCATION:None Specified
ATTACH;FMTTYPE=image/jpeg:https://www.cumminglocal.com/wp-content/uploads/2019/03/63DC9B7A-238A-43E1-B3C1-D0591F77ACD7.jpeg
ORGANIZER;CN="Because Mom":MAILTO:Becausemom@yahoo.com
END:VEVENT
BEGIN:VEVENT
DTSTART;TZID=America/New_York:20190308T171500
DTEND;TZID=America/New_York:20190308T210000
DTSTAMP:20260421T103737
CREATED:20190312T134432Z
LAST-MODIFIED:20190312T134432Z
UID:50571-1552065300-1552078800@www.cumminglocal.com
SUMMARY:"Fryday" Fish Dinner at St. Brendan the Navigator 2019
DESCRIPTION:The Knights of Columbus St. Brendan’s Council is pleased to bring you Fryday Fish Dinners!! \nEvery Friday\, March 8-April 12\, 2019 \nYou can choose Drive Through or Dine In for each date: \nDrive Thru: \nAdults: meals include Entree of baked or fried fish\, and sides of Red Potatoes\, Vegetable and Coleslaw \nChildren (ages 6-12): meals include Fish sticks or Grilled Cheese Sandwich plus Mac and Cheese and coleslaw. \nChildren under the age of 6 eat free! \nDine In: \nAdults: Entree of baked or fried fish\, and sides of Homemade french fries\, Mac and Cheese\, Vegetable and Coleslaw \nChildren: (ages 6-12) Fish sticks or grilled cheese sandwich plus Mac and Cheese and Coleslaw \nChildren under the age of 6 eat free!
URL:https://www.cumminglocal.com/event/fish-dinner-2019/
LOCATION:St. Brendan the Navigator\, 4633 Shiloh Road\, Cumming\, GA\, 30040
CATEGORIES:Deals,Holiday Events
ATTACH;FMTTYPE=image/jpeg:https://www.cumminglocal.com/wp-content/uploads/2019/03/tmp_12583_1-1-1753_120000_.jpg
END:VEVENT
END:VCALENDAR